BEGIN:VCALENDAR
VERSION:2.0
PRODID:-//wbasny - ECPv6.15.20//NONSGML v1.0//EN
CALSCALE:GREGORIAN
METHOD:PUBLISH
X-WR-CALNAME:wbasny
X-ORIGINAL-URL:https://www.wbasny.org
X-WR-CALDESC:Events for wbasny
REFRESH-INTERVAL;VALUE=DURATION:PT1H
X-Robots-Tag:noindex
X-PUBLISHED-TTL:PT1H
BEGIN:VTIMEZONE
TZID:America/New_York
BEGIN:DAYLIGHT
TZOFFSETFROM:-0500
TZOFFSETTO:-0400
TZNAME:EDT
DTSTART:20210314T070000
END:DAYLIGHT
BEGIN:STANDARD
TZOFFSETFROM:-0400
TZOFFSETTO:-0500
TZNAME:EST
DTSTART:20211107T060000
END:STANDARD
BEGIN:DAYLIGHT
TZOFFSETFROM:-0500
TZOFFSETTO:-0400
TZNAME:EDT
DTSTART:20220313T070000
END:DAYLIGHT
BEGIN:STANDARD
TZOFFSETFROM:-0400
TZOFFSETTO:-0500
TZNAME:EST
DTSTART:20221106T060000
END:STANDARD
BEGIN:DAYLIGHT
TZOFFSETFROM:-0500
TZOFFSETTO:-0400
TZNAME:EDT
DTSTART:20230312T070000
END:DAYLIGHT
BEGIN:STANDARD
TZOFFSETFROM:-0400
TZOFFSETTO:-0500
TZNAME:EST
DTSTART:20231105T060000
END:STANDARD
END:VTIMEZONE
BEGIN:VEVENT
DTSTART;TZID=America/New_York:20221108T120000
DTEND;TZID=America/New_York:20221108T140000
DTSTAMP:20260420T204736
CREATED:20221110T172258Z
LAST-MODIFIED:20221110T172258Z
UID:64137-1667908800-1667916000@www.wbasny.org
SUMMARY:CLE-Advocating for Skilled Therapy Services in a Nursing Home: Residents Rights and Appealing Medicare Denials
DESCRIPTION:Tuesday\, November 8\, 2022 12:00 p.m. – 2:00 p.m. \nChapter: New York  \nName of event: Advocating for Skilled Therapy Services in a Nursing Home: Residents Rights and Appealing Medicare Denials  \nDescription of event: CLE Program \nHow will the event be held: ZOOM  \nSpeaker(s): Lindsay Heckler\, Esq.\, and Kelly Sarama\, Esq.  \nCost of event: Free – NYWBA and WBASNY Members; $25 – Non-members  \nRegistration email / link:  elderlawchairs@nywba.org   \nRSVP date: November 13\, 2022
URL:https://www.wbasny.org/event/cle-advocating-for-skilled-therapy-services-in-a-nursing-home-residents-rights-and-appealing-medicare-denials/
ORGANIZER;CN="Westchester Women's Bar Association":MAILTO:executivedirector@wwbany.org
END:VEVENT
BEGIN:VEVENT
DTSTART;TZID=America/New_York:20221108T180000
DTEND;TZID=America/New_York:20221108T190000
DTSTAMP:20260420T204736
CREATED:20220919T175623Z
LAST-MODIFIED:20220919T175623Z
UID:62904-1667930400-1667934000@www.wbasny.org
SUMMARY:"Equity in Action" Speaker Series
DESCRIPTION:
URL:https://www.wbasny.org/event/equity-in-action-speaker-series/
END:VEVENT
END:VCALENDAR