BEGIN:VCALENDAR
VERSION:2.0
PRODID:-//wbasny - ECPv6.15.20//NONSGML v1.0//EN
CALSCALE:GREGORIAN
METHOD:PUBLISH
X-WR-CALNAME:wbasny
X-ORIGINAL-URL:https://www.wbasny.org
X-WR-CALDESC:Events for wbasny
REFRESH-INTERVAL;VALUE=DURATION:PT1H
X-Robots-Tag:noindex
X-PUBLISHED-TTL:PT1H
BEGIN:VTIMEZONE
TZID:America/New_York
BEGIN:DAYLIGHT
TZOFFSETFROM:-0500
TZOFFSETTO:-0400
TZNAME:EDT
DTSTART:20210314T070000
END:DAYLIGHT
BEGIN:STANDARD
TZOFFSETFROM:-0400
TZOFFSETTO:-0500
TZNAME:EST
DTSTART:20211107T060000
END:STANDARD
BEGIN:DAYLIGHT
TZOFFSETFROM:-0500
TZOFFSETTO:-0400
TZNAME:EDT
DTSTART:20220313T070000
END:DAYLIGHT
BEGIN:STANDARD
TZOFFSETFROM:-0400
TZOFFSETTO:-0500
TZNAME:EST
DTSTART:20221106T060000
END:STANDARD
BEGIN:DAYLIGHT
TZOFFSETFROM:-0500
TZOFFSETTO:-0400
TZNAME:EDT
DTSTART:20230312T070000
END:DAYLIGHT
BEGIN:STANDARD
TZOFFSETFROM:-0400
TZOFFSETTO:-0500
TZNAME:EST
DTSTART:20231105T060000
END:STANDARD
END:VTIMEZONE
BEGIN:VEVENT
DTSTART;TZID=America/New_York:20221114T120000
DTEND;TZID=America/New_York:20221114T130000
DTSTAMP:20260420T204732
CREATED:20221028T200234Z
LAST-MODIFIED:20221028T200234Z
UID:63776-1668427200-1668430800@www.wbasny.org
SUMMARY:CLE-Update on ADR in the 9TH JD: What Every Practitioner Should Know
DESCRIPTION:Alternate Dispute Resolution is a growing trend in the courts of the 9th JD. Find out about new settlement parts\, trainings\, mediation programs and the anticipated statewide rule! \n  \nRegister Here – executivedirector@wwbany.org \nRSVP by – November 11th
URL:https://www.wbasny.org/event/cle-update-on-adr-in-the-9th-jd-what-every-practitioner-should-know/
ORGANIZER;CN="Westchester Women's Bar Association":MAILTO:executivedirector@wwbany.org
END:VEVENT
BEGIN:VEVENT
DTSTART;TZID=America/New_York:20221114T170000
DTEND;TZID=America/New_York:20221114T200000
DTSTAMP:20260420T204732
CREATED:20220826T144704Z
LAST-MODIFIED:20220826T144704Z
UID:61872-1668445200-1668456000@www.wbasny.org
SUMMARY:Officers Meeting and Dinner
DESCRIPTION:Officers Meeting and Dinner
URL:https://www.wbasny.org/event/officers-meeting-and-dinner-2/
ORGANIZER;CN="WBASNY":MAILTO:events@wbasny.org
END:VEVENT
END:VCALENDAR