BEGIN:VCALENDAR
VERSION:2.0
PRODID:-//wbasny - ECPv6.15.20//NONSGML v1.0//EN
CALSCALE:GREGORIAN
METHOD:PUBLISH
X-ORIGINAL-URL:https://www.wbasny.org
X-WR-CALDESC:Events for wbasny
REFRESH-INTERVAL;VALUE=DURATION:PT1H
X-Robots-Tag:noindex
X-PUBLISHED-TTL:PT1H
BEGIN:VTIMEZONE
TZID:America/New_York
BEGIN:DAYLIGHT
TZOFFSETFROM:-0500
TZOFFSETTO:-0400
TZNAME:EDT
DTSTART:20210314T070000
END:DAYLIGHT
BEGIN:STANDARD
TZOFFSETFROM:-0400
TZOFFSETTO:-0500
TZNAME:EST
DTSTART:20211107T060000
END:STANDARD
BEGIN:DAYLIGHT
TZOFFSETFROM:-0500
TZOFFSETTO:-0400
TZNAME:EDT
DTSTART:20220313T070000
END:DAYLIGHT
BEGIN:STANDARD
TZOFFSETFROM:-0400
TZOFFSETTO:-0500
TZNAME:EST
DTSTART:20221106T060000
END:STANDARD
BEGIN:DAYLIGHT
TZOFFSETFROM:-0500
TZOFFSETTO:-0400
TZNAME:EDT
DTSTART:20230312T070000
END:DAYLIGHT
BEGIN:STANDARD
TZOFFSETFROM:-0400
TZOFFSETTO:-0500
TZNAME:EST
DTSTART:20231105T060000
END:STANDARD
END:VTIMEZONE
BEGIN:VEVENT
DTSTART;TZID=America/New_York:20221115T113000
DTEND;TZID=America/New_York:20221115T123000
DTSTAMP:20260420T205010
CREATED:20221101T205356Z
LAST-MODIFIED:20221101T205356Z
UID:63929-1668511800-1668515400@www.wbasny.org
SUMMARY:Veterans Day Observance Ceremony
DESCRIPTION:QCWBA is co-sponsoring the Veterans Day Observance Ceremony hosted by the Queens Borough President’s Office. The event will pay tribute to the heroic Queens residents and the generations of veterans before them who have served our country with honor\, valor and selflessness. \n\n\n\n\n  \n\n\n\n\nNovember 15\, 2022 at 11:30am \n\n\n\n\nAtrium at Queens Borough Hall \n\n\n\n\n\n\n\n\n\nPlease update the RSVP link to this as it was not working: https://docs.google.com/forms/d/e/1FAIpQLSfeyAagZPQGT_uNcSDYE5yoyfkaknNlUJjamYFmkJYJfGJnTQ/viewform?c=0&w=1
URL:https://www.wbasny.org/event/veterans-day-observance-ceremony/
END:VEVENT
BEGIN:VEVENT
DTSTART;TZID=America/New_York:20221115T120000
DTEND;TZID=America/New_York:20221115T130000
DTSTAMP:20260420T205010
CREATED:20220927T163932Z
LAST-MODIFIED:20220927T163932Z
UID:63089-1668513600-1668517200@www.wbasny.org
SUMMARY:CLE-Advocating for Skilled Therapy Services in a Nursing Home: Resident Rights and Appealing Medicare Denials
DESCRIPTION:The Elder Law & Disabilities Committee\npresent a CLE Program: \n Advocating for Skilled Therapy Services in a Nursing Home:  Resident Rights\nand Appealing Medicare Denials \nSpeakers: \nLindsay Heckler\, Esq. \nKelly Sarama\, Esq. \nCenter for Elder Law and Justice \nNovember 15\, 2022\, 12:00 p.m.\, by Zoom \nClick here for more info and to RSVP
URL:https://www.wbasny.org/event/cle-advocating-for-skilled-therapy-services-in-a-nursing-home-resident-rights-and-appealing-medicare-denials/
END:VEVENT
BEGIN:VEVENT
DTSTART;TZID=America/New_York:20221115T173000
DTEND;TZID=America/New_York:20221115T190000
DTSTAMP:20260420T205010
CREATED:20221107T182628Z
LAST-MODIFIED:20221107T182628Z
UID:64094-1668533400-1668538800@www.wbasny.org
SUMMARY:Treatment Beyond the Tumor
DESCRIPTION:
URL:https://www.wbasny.org/event/treatment-beyond-the-tumor/
END:VEVENT
END:VCALENDAR