BEGIN:VCALENDAR
VERSION:2.0
PRODID:-//wbasny - ECPv6.15.20//NONSGML v1.0//EN
CALSCALE:GREGORIAN
METHOD:PUBLISH
X-ORIGINAL-URL:https://www.wbasny.org
X-WR-CALDESC:Events for wbasny
REFRESH-INTERVAL;VALUE=DURATION:PT1H
X-Robots-Tag:noindex
X-PUBLISHED-TTL:PT1H
BEGIN:VTIMEZONE
TZID:America/New_York
BEGIN:DAYLIGHT
TZOFFSETFROM:-0500
TZOFFSETTO:-0400
TZNAME:EDT
DTSTART:20210314T070000
END:DAYLIGHT
BEGIN:STANDARD
TZOFFSETFROM:-0400
TZOFFSETTO:-0500
TZNAME:EST
DTSTART:20211107T060000
END:STANDARD
BEGIN:DAYLIGHT
TZOFFSETFROM:-0500
TZOFFSETTO:-0400
TZNAME:EDT
DTSTART:20220313T070000
END:DAYLIGHT
BEGIN:STANDARD
TZOFFSETFROM:-0400
TZOFFSETTO:-0500
TZNAME:EST
DTSTART:20221106T060000
END:STANDARD
BEGIN:DAYLIGHT
TZOFFSETFROM:-0500
TZOFFSETTO:-0400
TZNAME:EDT
DTSTART:20230312T070000
END:DAYLIGHT
BEGIN:STANDARD
TZOFFSETFROM:-0400
TZOFFSETTO:-0500
TZNAME:EST
DTSTART:20231105T060000
END:STANDARD
END:VTIMEZONE
BEGIN:VEVENT
DTSTART;TZID=America/New_York:20221116T120000
DTEND;TZID=America/New_York:20221116T130000
DTSTAMP:20260420T204851
CREATED:20221024T165014Z
LAST-MODIFIED:20221024T165014Z
UID:63669-1668600000-1668603600@www.wbasny.org
SUMMARY:CLE-Representing Children in Custody and Visitation Matters
DESCRIPTION:NYWBA Matrimonial and Family Law Committee\npresents a CLE Program: \n\nRepresenting Children in Custody\nand Visitation Matters\n \nSpeakers: \n\nDawn M. Cardi\, Esq. \n\nVirginia A. Lopreto\, Esq. \n\nBrad Nacht\, Esq. \n\nModerator: \n\nNicole Riordan\, Esq. \n\nNovember 16\, 2022\, 12:00 p.m.\, in-person and by Zoom\nClick here for more info and to RSVP
URL:https://www.wbasny.org/event/cle-representing-children-in-custody-and-visitation-matters/
END:VEVENT
BEGIN:VEVENT
DTSTART;TZID=America/New_York:20221116T120000
DTEND;TZID=America/New_York:20221116T130000
DTSTAMP:20260420T204851
CREATED:20221101T152552Z
LAST-MODIFIED:20221101T152552Z
UID:63873-1668600000-1668603600@www.wbasny.org
SUMMARY:Lunch with Hon. Christopher Baker
DESCRIPTION:The Del-Chen-O Board is excited to invite you to join us for our “Lunch with a Judge” series this year. The fifth lunch in the series will be held Wednesday\, November 16\, 2022 at 12:00 PM.  \n  \nThe monthly meetings with Judge members of our chapter will allow you to get to know each judge and perhaps learn a few tricks for success as well as pet peeves to avoid. It is a wonderful opportunity to have a casual meeting and be able to chat about any topic. \n  \nThe next session on will feature Supreme Court Judge Christopher Baker. \n  \nPlease save the time and date on your calendar: \n  \n12:00 noon\, Wednesday\, November 16\, 2022   \n  \nIf you do not have Teams on your computer\, download it now so you are ready to go. The link will be sent out closer to the event.  Hope to see you then. 
URL:https://www.wbasny.org/event/lunch-with-hon-christopher-baker/
END:VEVENT
BEGIN:VEVENT
DTSTART;TZID=America/New_York:20221116T120000
DTEND;TZID=America/New_York:20221116T130000
DTSTAMP:20260420T204851
CREATED:20221107T182856Z
LAST-MODIFIED:20221107T182856Z
UID:64097-1668600000-1668603600@www.wbasny.org
SUMMARY:Video Replay of Best Practices for Court Evaluators
DESCRIPTION:Elder Law & Disabilities Committee invites you to: \n\n Video Replay of Best Practices for Court Evaluators \n\nPresented By: Honorable Lisa A. Sokoloff \n\nSpeakers: Sylvia DiPietro\, Esq. \nJudy Mock\, Esq. \nPhillip Solomon\, Esq. \nEdmond Wong\, Esq. \n\nNovember 16\, 2022\, 12:00 p.m.\, by Zoom\nClick here for more info and to RSVP
URL:https://www.wbasny.org/event/video-replay-of-best-practices-for-court-evaluators/
END:VEVENT
BEGIN:VEVENT
DTSTART;TZID=America/New_York:20221116T120000
DTEND;TZID=America/New_York:20221116T130000
DTSTAMP:20260420T204851
CREATED:20221110T161524Z
LAST-MODIFIED:20221110T161524Z
UID:64131-1668600000-1668603600@www.wbasny.org
SUMMARY:How America Fractured Into Four Parts
DESCRIPTION:Wednesday\, November 16\, 2022  \nChapter: Westchester  \nName of event: Discussion Club \nDescription of event: Join us for an open\, non-judgmental forum for discussing issues of the day.  \nHow America Fractured Into Four Parts \nby George Packer \nhttps://www.theatlantic.com/magazine/archive/2021/07/george-packer-four-americas/619012/  \nHow will the event be held: In person  \nLocation (if in person): Lisa Denig’s Home – 89 S. Kensico Ave.\, Valhalla\, NY  \nCost of event: There is no fee to attend \nRegistration email / link: lisadenig@yahoo.com 
URL:https://www.wbasny.org/event/how-america-fractured-into-four-parts/
ORGANIZER;CN="Westchester Women's Bar Association":MAILTO:executivedirector@wwbany.org
END:VEVENT
BEGIN:VEVENT
DTSTART;TZID=America/New_York:20221116T123000
DTEND;TZID=America/New_York:20221116T140000
DTSTAMP:20260420T204851
CREATED:20221011T154826Z
LAST-MODIFIED:20221011T154826Z
UID:63487-1668601800-1668607200@www.wbasny.org
SUMMARY:Unpacking the State of the Law in Domestic Violence Cases: Part 1 - CIVIL
DESCRIPTION:November 16:  12:30pm – 2 pm \nUnpacking the State of the Law in Domestic Violence Cases: PART 1 – CIVIL \nRegistration is required. Lunch will be provided. \nhttps://docs.google.com/forms/d/e/1FAIpQLSfHiCqhdzit16P8idzoXlJ1HZoxSYL82OE2cPC4SDzPXRvEVA/viewform [docs.google.com] \nYou can attend in person at the address below or virtually.
URL:https://www.wbasny.org/event/unpacking-the-state-of-the-law-in-domestic-violence-cases-part-1-civil/
END:VEVENT
BEGIN:VEVENT
DTSTART;TZID=America/New_York:20221116T173000
DTEND;TZID=America/New_York:20221116T183000
DTSTAMP:20260420T204851
CREATED:20221017T160421Z
LAST-MODIFIED:20221017T160421Z
UID:63525-1668619800-1668623400@www.wbasny.org
SUMMARY:8 Minute Networking For UB School of Law Students
DESCRIPTION:RSVP Rachael Sparacino by November 1\, 2022
URL:https://www.wbasny.org/event/8-minute-networking-for-ub-school-of-law-students/
ORGANIZER;CN="Western New York Women's Bar Association":MAILTO:wbasnywny@gmail.com
END:VEVENT
BEGIN:VEVENT
DTSTART;TZID=America/New_York:20221116T180000
DTEND;TZID=America/New_York:20221116T210000
DTSTAMP:20260420T204851
CREATED:20221101T152257Z
LAST-MODIFIED:20221101T152257Z
UID:63870-1668621600-1668632400@www.wbasny.org
SUMMARY:Come and Learn About Nassau Suffolk Law Services and Their Projects
DESCRIPTION:
URL:https://www.wbasny.org/event/come-and-learn-about-nassau-suffolk-law-services-and-their-projects/
END:VEVENT
END:VCALENDAR