BEGIN:VCALENDAR
VERSION:2.0
PRODID:-//wbasny - ECPv6.15.20//NONSGML v1.0//EN
CALSCALE:GREGORIAN
METHOD:PUBLISH
X-ORIGINAL-URL:https://www.wbasny.org
X-WR-CALDESC:Events for wbasny
REFRESH-INTERVAL;VALUE=DURATION:PT1H
X-Robots-Tag:noindex
X-PUBLISHED-TTL:PT1H
BEGIN:VTIMEZONE
TZID:America/New_York
BEGIN:DAYLIGHT
TZOFFSETFROM:-0500
TZOFFSETTO:-0400
TZNAME:EDT
DTSTART:20210314T070000
END:DAYLIGHT
BEGIN:STANDARD
TZOFFSETFROM:-0400
TZOFFSETTO:-0500
TZNAME:EST
DTSTART:20211107T060000
END:STANDARD
BEGIN:DAYLIGHT
TZOFFSETFROM:-0500
TZOFFSETTO:-0400
TZNAME:EDT
DTSTART:20220313T070000
END:DAYLIGHT
BEGIN:STANDARD
TZOFFSETFROM:-0400
TZOFFSETTO:-0500
TZNAME:EST
DTSTART:20221106T060000
END:STANDARD
BEGIN:DAYLIGHT
TZOFFSETFROM:-0500
TZOFFSETTO:-0400
TZNAME:EDT
DTSTART:20230312T070000
END:DAYLIGHT
BEGIN:STANDARD
TZOFFSETFROM:-0400
TZOFFSETTO:-0500
TZNAME:EST
DTSTART:20231105T060000
END:STANDARD
END:VTIMEZONE
BEGIN:VEVENT
DTSTART;TZID=America/New_York:20221118T130000
DTEND;TZID=America/New_York:20221118T140000
DTSTAMP:20260420T204851
CREATED:20221102T212001Z
LAST-MODIFIED:20221104T170045Z
UID:63970-1668776400-1668780000@www.wbasny.org
SUMMARY:Effective and Ethical Marketing Strategies for Women Lawyers
DESCRIPTION:Effective and Ethical Marketing Strategies for Women Lawyers \n\nSponsored by\n \n\nNovember 18\, 2022 \n\n1:00 – 2:00 pm \n\nMarketing is essential to your legal career whether you are looking to bring in more clients\, advance within your firm\, or position yourself for new opportunities. The key to successful marketing is to build a strong personal brand that helps you stand out in a positive way. In this webinar\, learn how to determine your personal brand and what tactics will enable you to effectively promote your brand within the confines of attorney ethical rules. \n\nSpeakers: \n\nJacqueline Harounian\, Esq. \nManaging Partner\,\nWisselman Harounian & Associates\, PC \n\nEdith Reinhardt\, Esq.\nPrincipal\, RDT Content Marketing LLC \n\n1.0 CLE Credits  \n(Ethics/Professionalism)\n(Transitional / Non-Transitional) \n\nCost:\nFree to Members \nNon-Members – $40 \n  \nREGISTER HERE
URL:https://www.wbasny.org/event/effective-and-ethical-marketing-strategies-for-women-lawyers/
ORGANIZER;CN="WBASNY":MAILTO:events@wbasny.org
END:VEVENT
BEGIN:VEVENT
DTSTART;TZID=America/New_York:20221118T130000
DTEND;TZID=America/New_York:20221118T140000
DTSTAMP:20260420T204851
CREATED:20221107T183139Z
LAST-MODIFIED:20221107T183139Z
UID:64099-1668776400-1668780000@www.wbasny.org
SUMMARY:Video Replay of Best Practices for Attorneys for the Alleged Incapacitated Person
DESCRIPTION:Elder Law & Disabilities Committee\n& Guardianship Diversity Initiative present:\n \n VIDEO REPLAY OF \n Best Practices for Attorneys for the Alleged Incapacitated Person \n\nModerator: \nHon. Lisa A. Sokoloff \n\n Panelists: \nBonnie Cohen Gallet\, Albert Levi\, Melinda Mlinac and Ingrid Wyllie  \n\nNovember 18\, 2022\, 1:00 p.m.\, by Zoom \nClick here for more info and to RSVP
URL:https://www.wbasny.org/event/video-replay-of-best-practices-for-attorneys-for-the-alleged-incapacitated-person/
END:VEVENT
END:VCALENDAR