BEGIN:VCALENDAR
VERSION:2.0
PRODID:-//wbasny - ECPv6.15.20//NONSGML v1.0//EN
CALSCALE:GREGORIAN
METHOD:PUBLISH
X-ORIGINAL-URL:https://www.wbasny.org
X-WR-CALDESC:Events for wbasny
REFRESH-INTERVAL;VALUE=DURATION:PT1H
X-Robots-Tag:noindex
X-PUBLISHED-TTL:PT1H
BEGIN:VTIMEZONE
TZID:America/New_York
BEGIN:DAYLIGHT
TZOFFSETFROM:-0500
TZOFFSETTO:-0400
TZNAME:EDT
DTSTART:20220313T070000
END:DAYLIGHT
BEGIN:STANDARD
TZOFFSETFROM:-0400
TZOFFSETTO:-0500
TZNAME:EST
DTSTART:20221106T060000
END:STANDARD
BEGIN:DAYLIGHT
TZOFFSETFROM:-0500
TZOFFSETTO:-0400
TZNAME:EDT
DTSTART:20230312T070000
END:DAYLIGHT
BEGIN:STANDARD
TZOFFSETFROM:-0400
TZOFFSETTO:-0500
TZNAME:EST
DTSTART:20231105T060000
END:STANDARD
BEGIN:DAYLIGHT
TZOFFSETFROM:-0500
TZOFFSETTO:-0400
TZNAME:EDT
DTSTART:20240310T070000
END:DAYLIGHT
BEGIN:STANDARD
TZOFFSETFROM:-0400
TZOFFSETTO:-0500
TZNAME:EST
DTSTART:20241103T060000
END:STANDARD
END:VTIMEZONE
BEGIN:VEVENT
DTSTART;TZID=America/New_York:20230112T080000
DTEND;TZID=America/New_York:20230112T170000
DTSTAMP:20260420T172624
CREATED:20221128T214257Z
LAST-MODIFIED:20221128T214257Z
UID:64300-1673510400-1673542800@www.wbasny.org
SUMMARY:From Laywer to Author to Netflix: A Conversation with Helen Wan
DESCRIPTION:Mark Your Calendars\nJanuary 12\, 2023 \n\nFrom Lawyer to Author to Netflix:\nA Conversation with Helen Wan\nNYWBA Foundation Board Member and\nAuthor of the Best-Selling Novel\nThe Partner Track\nNow a Netflix Series! \nEvent is in person and benefits the NYWBA Foundation\, Inc.
URL:https://www.wbasny.org/event/from-laywer-to-author-to-netflix-a-conversation-with-helen-wan/
END:VEVENT
BEGIN:VEVENT
DTSTART;TZID=America/New_York:20230112T173000
DTEND;TZID=America/New_York:20230112T203000
DTSTAMP:20260420T172624
CREATED:20221130T190430Z
LAST-MODIFIED:20221130T190430Z
UID:64351-1673544600-1673555400@www.wbasny.org
SUMMARY:RCWBA 15th Annual Judicial Reception
DESCRIPTION:The Rockland County Women’s Bar Association invites you to an evening of relaxed\, “off the bench” conversations with our distinguished Judges from the Appellate Division\, Supreme\nCourt\, County Court\, Family Court\, Surrogate’s Court and Justice Courts \n\nDate:           January 12\, 2023\nTime:          5:30 to 8:30 pm \nLocation:    Norcina\n186 N. Main Street\nNew City\, New York 10956\nAppetizers\, Pizza\, Pasta\, Wine\, Beer and Desserts!\nCost:           $100.00 per person\nSponsor a Judge for $100! \n\nRSVP by January 3\, 2023 to: Julie Curley at treasurer@rcwba.org. Payments can be made by check or credit card by clicking HERE.
URL:https://www.wbasny.org/event/rcwba-15th-annual-judicial-reception/
END:VEVENT
BEGIN:VEVENT
DTSTART;TZID=America/New_York:20230112T173000
DTEND;TZID=America/New_York:20230112T203000
DTSTAMP:20260420T172624
CREATED:20221212T160817Z
LAST-MODIFIED:20221212T160817Z
UID:64489-1673544600-1673555400@www.wbasny.org
SUMMARY:"Off the Bench"
DESCRIPTION:As we head towards 2023\, the Rockland County Women’s Bar Association invites you to an evening of relaxed\, “off the bench” conversations with our distinguished Judges from the Appellate Division\, Supreme\nCourt\, County Court\, Family Court\, Surrogate’s Court and Justice Courts \n\nDate:           January 12\, 2023\nTime:          5:30 to 8:30 pm \nLocation:    Norcina\n186 N. Main Street\nNew City\, New York 10956\nAppetizers\, Pizza\, Pasta\, Wine\, Beer and Desserts!\nCost:           $100.00 per person\nSponsor a Judge for $100! \n\nRSVP by January 3\, 2023 to: Julie Curley at treasurer@rcwba.org. Payments can be made by check or credit card by clicking HERE.
URL:https://www.wbasny.org/event/off-the-bench/
END:VEVENT
BEGIN:VEVENT
DTSTART;TZID=America/New_York:20230112T183000
DTEND;TZID=America/New_York:20230112T200000
DTSTAMP:20260420T172624
CREATED:20221213T181224Z
LAST-MODIFIED:20230111T192507Z
UID:64500-1673548200-1673553600@www.wbasny.org
SUMMARY:JAG Corp's CLE
DESCRIPTION:
URL:https://www.wbasny.org/event/jag-corps-cle/
END:VEVENT
BEGIN:VEVENT
DTSTART;TZID=America/New_York:20230112T183000
DTEND;TZID=America/New_York:20230112T203000
DTSTAMP:20260420T172624
CREATED:20221205T212515Z
LAST-MODIFIED:20221205T212515Z
UID:64394-1673548200-1673555400@www.wbasny.org
SUMMARY:Sip & Spin
DESCRIPTION:Thursday\, January 12 \n\n\n\n\n6:30 – 8:30 pm \n\n\n\n\nRise Fitness\, 97 Main St\, Hamburg \n\n\n\n\n\nRegister
URL:https://www.wbasny.org/event/sip-spin-2/
ORGANIZER;CN="Western New York Women's Bar Association":MAILTO:wbasnywny@gmail.com
END:VEVENT
END:VCALENDAR