BEGIN:VCALENDAR
VERSION:2.0
PRODID:-//wbasny - ECPv6.15.20//NONSGML v1.0//EN
CALSCALE:GREGORIAN
METHOD:PUBLISH
X-ORIGINAL-URL:https://www.wbasny.org
X-WR-CALDESC:Events for wbasny
REFRESH-INTERVAL;VALUE=DURATION:PT1H
X-Robots-Tag:noindex
X-PUBLISHED-TTL:PT1H
BEGIN:VTIMEZONE
TZID:America/New_York
BEGIN:DAYLIGHT
TZOFFSETFROM:-0500
TZOFFSETTO:-0400
TZNAME:EDT
DTSTART:20220313T070000
END:DAYLIGHT
BEGIN:STANDARD
TZOFFSETFROM:-0400
TZOFFSETTO:-0500
TZNAME:EST
DTSTART:20221106T060000
END:STANDARD
BEGIN:DAYLIGHT
TZOFFSETFROM:-0500
TZOFFSETTO:-0400
TZNAME:EDT
DTSTART:20230312T070000
END:DAYLIGHT
BEGIN:STANDARD
TZOFFSETFROM:-0400
TZOFFSETTO:-0500
TZNAME:EST
DTSTART:20231105T060000
END:STANDARD
BEGIN:DAYLIGHT
TZOFFSETFROM:-0500
TZOFFSETTO:-0400
TZNAME:EDT
DTSTART:20240310T070000
END:DAYLIGHT
BEGIN:STANDARD
TZOFFSETFROM:-0400
TZOFFSETTO:-0500
TZNAME:EST
DTSTART:20241103T060000
END:STANDARD
END:VTIMEZONE
BEGIN:VEVENT
DTSTART;TZID=America/New_York:20230203T173000
DTEND;TZID=America/New_York:20230203T183000
DTSTAMP:20260420T154550
CREATED:20230109T215041Z
LAST-MODIFIED:20230109T215041Z
UID:64598-1675445400-1675449000@www.wbasny.org
SUMMARY:GRAWA's Annual Wear Red for Go Red Event
DESCRIPTION:Join us for our annual Go Red event at Red\, White and Brew of Rochester. It will be a wine and chocolate social. \nWear Red for Go Red event. Annual fundraiser to benefit the American Heart Association! \nMegan Vargulick and Kate Eldredge from the Rochester America Heart Association (AHA) will be available with information on heart disease. \nGuests & Non GRAWA Members are welcome! \nCost: $35.00 (includes a $10 donation to AHA) \nRSVP by February 1 \nREGISTRATION: \nhttps://checkout.square.site/buy/CBCCMOVKA6GO6VYXPXBFH5RM \n  \nRed\, White & Brew of Rochester – 147 State Street\, Rochester\, NY 14614 \n  \n$35 (including a $10 donation to AHA)
URL:https://www.wbasny.org/event/grawas-annual-wear-red-for-go-red-event/
END:VEVENT
END:VCALENDAR