BEGIN:VCALENDAR
VERSION:2.0
PRODID:-//wbasny - ECPv6.15.20//NONSGML v1.0//EN
CALSCALE:GREGORIAN
METHOD:PUBLISH
X-WR-CALNAME:wbasny
X-ORIGINAL-URL:https://www.wbasny.org
X-WR-CALDESC:Events for wbasny
REFRESH-INTERVAL;VALUE=DURATION:PT1H
X-Robots-Tag:noindex
X-PUBLISHED-TTL:PT1H
BEGIN:VTIMEZONE
TZID:America/New_York
BEGIN:DAYLIGHT
TZOFFSETFROM:-0500
TZOFFSETTO:-0400
TZNAME:EDT
DTSTART:20220313T070000
END:DAYLIGHT
BEGIN:STANDARD
TZOFFSETFROM:-0400
TZOFFSETTO:-0500
TZNAME:EST
DTSTART:20221106T060000
END:STANDARD
BEGIN:DAYLIGHT
TZOFFSETFROM:-0500
TZOFFSETTO:-0400
TZNAME:EDT
DTSTART:20230312T070000
END:DAYLIGHT
BEGIN:STANDARD
TZOFFSETFROM:-0400
TZOFFSETTO:-0500
TZNAME:EST
DTSTART:20231105T060000
END:STANDARD
BEGIN:DAYLIGHT
TZOFFSETFROM:-0500
TZOFFSETTO:-0400
TZNAME:EDT
DTSTART:20240310T070000
END:DAYLIGHT
BEGIN:STANDARD
TZOFFSETFROM:-0400
TZOFFSETTO:-0500
TZNAME:EST
DTSTART:20241103T060000
END:STANDARD
END:VTIMEZONE
BEGIN:VEVENT
DTSTART;TZID=America/New_York:20230224T120000
DTEND;TZID=America/New_York:20230224T130000
DTSTAMP:20260420T154357
CREATED:20230214T152348Z
LAST-MODIFIED:20230214T152405Z
UID:64983-1677240000-1677243600@www.wbasny.org
SUMMARY:CLE-Journey to Citizenship
DESCRIPTION:Register
URL:https://www.wbasny.org/event/cle-journey-to-citizenship/
ORGANIZER;CN="Western New York Women's Bar Association":MAILTO:wbasnywny@gmail.com
END:VEVENT
BEGIN:VEVENT
DTSTART;TZID=America/New_York:20230224T120000
DTEND;TZID=America/New_York:20230224T130000
DTSTAMP:20260420T154357
CREATED:20230221T175825Z
LAST-MODIFIED:20230221T175825Z
UID:65187-1677240000-1677243600@www.wbasny.org
SUMMARY:Virtual Lunch with a Financial Planner
DESCRIPTION:Virtual lunch with a financial planner \nFeb. 24\, 2023 \nWe have a local investment advisor and financial planner available for our virtual noon meeting on Friday\, Feb. 24\, 2023! She will touch on the various components of general financial planning\, including an overview of long-term care planning and insurance needs. She will highlight retirement planning\, generally the largest component of financial planning. She will try to answer your specific questions\, without having to leave your own office! (or living room) \nMolly O’Neill is an Investment Advisor Representative working at Cornell Pochily Investment Advisors\, Inc. in Ithaca\, NY and has taken exams to become a Certified Financial Planner (CFP®). CFP professionals must pass the comprehensive CFP Certification Examination\, pass CFP Board’s Fitness Standards for Candidates and Registrants\, agree to abide by CFP Board’s Code of Ethics and Professional Responsibility and Rules of Conduct which put clients’ interests first and comply with the Financial Planning Practice Standards. \nFree to WBASNY and FLWBA members \nContact : Deborah Miller deborahwolfmiller@gmail.com
URL:https://www.wbasny.org/event/virtual-lunch-with-a-financial-planner/
END:VEVENT
END:VCALENDAR