BEGIN:VCALENDAR
VERSION:2.0
PRODID:-//wbasny - ECPv6.15.20//NONSGML v1.0//EN
CALSCALE:GREGORIAN
METHOD:PUBLISH
X-WR-CALNAME:wbasny
X-ORIGINAL-URL:https://www.wbasny.org
X-WR-CALDESC:Events for wbasny
REFRESH-INTERVAL;VALUE=DURATION:PT1H
X-Robots-Tag:noindex
X-PUBLISHED-TTL:PT1H
BEGIN:VTIMEZONE
TZID:America/New_York
BEGIN:DAYLIGHT
TZOFFSETFROM:-0500
TZOFFSETTO:-0400
TZNAME:EDT
DTSTART:20220313T070000
END:DAYLIGHT
BEGIN:STANDARD
TZOFFSETFROM:-0400
TZOFFSETTO:-0500
TZNAME:EST
DTSTART:20221106T060000
END:STANDARD
BEGIN:DAYLIGHT
TZOFFSETFROM:-0500
TZOFFSETTO:-0400
TZNAME:EDT
DTSTART:20230312T070000
END:DAYLIGHT
BEGIN:STANDARD
TZOFFSETFROM:-0400
TZOFFSETTO:-0500
TZNAME:EST
DTSTART:20231105T060000
END:STANDARD
BEGIN:DAYLIGHT
TZOFFSETFROM:-0500
TZOFFSETTO:-0400
TZNAME:EDT
DTSTART:20240310T070000
END:DAYLIGHT
BEGIN:STANDARD
TZOFFSETFROM:-0400
TZOFFSETTO:-0500
TZNAME:EST
DTSTART:20241103T060000
END:STANDARD
END:VTIMEZONE
BEGIN:VEVENT
DTSTART;TZID=America/New_York:20230301T080000
DTEND;TZID=America/New_York:20230331T170000
DTSTAMP:20260420T140135
CREATED:20230223T163120Z
LAST-MODIFIED:20230316T171154Z
UID:65218-1677657600-1680282000@www.wbasny.org
SUMMARY:Prom Pop Up Donation Drive (Bronx Chapter)
DESCRIPTION:Prom Pop Up Donation Drive \nMarch 1 – March 31\, 2023 \nPlease donate gently worn or new gowns\, cocktail dresses\, shoes\, bags and accessories \nDrop off to Savina Playter\, 206 East 163rd Street\, Bronx NY 10451
URL:https://www.wbasny.org/event/prom-pop-up-donation-drive/
END:VEVENT
BEGIN:VEVENT
DTSTART;TZID=America/New_York:20230316T080000
DTEND;TZID=America/New_York:20230316T093000
DTSTAMP:20260420T140135
CREATED:20230313T165133Z
LAST-MODIFIED:20230313T213351Z
UID:65920-1678953600-1678959000@www.wbasny.org
SUMMARY:Breakfast at the Bar
DESCRIPTION:
URL:https://www.wbasny.org/event/breakfast-at-the-bar-6/
END:VEVENT
BEGIN:VEVENT
DTSTART;TZID=America/New_York:20230316T080000
DTEND;TZID=America/New_York:20230316T170000
DTSTAMP:20260420T140135
CREATED:20230217T203539Z
LAST-MODIFIED:20230316T171244Z
UID:65052-1678953600-1678986000@www.wbasny.org
SUMMARY:Read Across America (Queens Chapter)
DESCRIPTION:QCWBA is headed back to PS 116Q to celebrate Read Across America with 1st and 2nd grade students!\nWe will be going in person to the school on Thursday\, March 16\, 2023!\nIf you are interested in reading to the students\, please click on the link below to express your interest by March 6th and we will be in touch with additional details! \n  \n\n\n\nVolunteer to Read Across America
URL:https://www.wbasny.org/event/read-across-america/
END:VEVENT
BEGIN:VEVENT
DTSTART;TZID=America/New_York:20230316T123000
DTEND;TZID=America/New_York:20230316T133000
DTSTAMP:20260420T140135
CREATED:20230223T160958Z
LAST-MODIFIED:20230223T160958Z
UID:65207-1678969800-1678973400@www.wbasny.org
SUMMARY:Lunch with Hon. Elena Goldberg Velazquez
DESCRIPTION:Women’s Bar Association of Orange and Sullivan Counties\n\n\n\n\n\n\n\n\n\n\n\n\n\n\n\nPlease join us as our Lunch with a Judge series continues! \n  \nOrange County Supreme Court Justice \nHonorable Elena Goldberg Velazquez \n  \nMarch 16\, 2023 at 12:30pm \n  \nDelancey’s \n40 Park Place \nGoshen\, New York \n  \n  \n$20 members/$25 non-members \nPlease RSVP to rsvp@wbaosc.org \n  \n 
URL:https://www.wbasny.org/event/lunch-with-hon-elena-goldberg-velazquez/
END:VEVENT
BEGIN:VEVENT
DTSTART;TZID=America/New_York:20230316T180000
DTEND;TZID=America/New_York:20230316T200000
DTSTAMP:20260420T140135
CREATED:20230206T152949Z
LAST-MODIFIED:20230206T152949Z
UID:64897-1678989600-1678996800@www.wbasny.org
SUMMARY:Cohalan Cares for Kids
DESCRIPTION:Cohalan Cares for Kids \nMarch 16\, 2023 at 6-8pm \nSuffolk County Bar Association \n560 Wheeler Road\, Hauppauge\, NY 11788 | Great Hall \nDownload Document for Sponsorship and Ticket information
URL:https://www.wbasny.org/event/cohalan-cares-for-kids/
END:VEVENT
END:VCALENDAR