BEGIN:VCALENDAR
VERSION:2.0
PRODID:-//wbasny - ECPv6.15.20//NONSGML v1.0//EN
CALSCALE:GREGORIAN
METHOD:PUBLISH
X-WR-CALNAME:wbasny
X-ORIGINAL-URL:https://www.wbasny.org
X-WR-CALDESC:Events for wbasny
REFRESH-INTERVAL;VALUE=DURATION:PT1H
X-Robots-Tag:noindex
X-PUBLISHED-TTL:PT1H
BEGIN:VTIMEZONE
TZID:America/New_York
BEGIN:DAYLIGHT
TZOFFSETFROM:-0500
TZOFFSETTO:-0400
TZNAME:EDT
DTSTART:20230312T070000
END:DAYLIGHT
BEGIN:STANDARD
TZOFFSETFROM:-0400
TZOFFSETTO:-0500
TZNAME:EST
DTSTART:20231105T060000
END:STANDARD
BEGIN:DAYLIGHT
TZOFFSETFROM:-0500
TZOFFSETTO:-0400
TZNAME:EDT
DTSTART:20240310T070000
END:DAYLIGHT
BEGIN:STANDARD
TZOFFSETFROM:-0400
TZOFFSETTO:-0500
TZNAME:EST
DTSTART:20241103T060000
END:STANDARD
BEGIN:DAYLIGHT
TZOFFSETFROM:-0500
TZOFFSETTO:-0400
TZNAME:EDT
DTSTART:20250309T070000
END:DAYLIGHT
BEGIN:STANDARD
TZOFFSETFROM:-0400
TZOFFSETTO:-0500
TZNAME:EST
DTSTART:20251102T060000
END:STANDARD
END:VTIMEZONE
BEGIN:VEVENT
DTSTART;TZID=America/New_York:20240207T080000
DTEND;TZID=America/New_York:20240207T170000
DTSTAMP:20260420T041327
CREATED:20240123T204341Z
LAST-MODIFIED:20240123T204341Z
UID:69961-1707292800-1707325200@www.wbasny.org
SUMMARY:Indoor Golf Event (Capital District Chapter)
DESCRIPTION:  \n \n\n\n\n\nFeb 07 \n\n\n\n\nIndoor Golf Event\n\n\n\n\n  \n\n\n\n\nGrab your clubs and join us for food\, drinks and a lot of fun! $45 per attendee. Cash bar available. Parking and entrance are located in the back of the building. Golf shoes are welcomed\, but not necessary. Any attire is welcomed\, including golf clothes\, athletic wear\, jeans\, etc. Attendees are welcome to bring their own clubs but the facility will have plenty available for use. Deadline to register is Friday\, February 2\, 2024. \n\n\n\n\n\n\n\n\n  \n\n\n\n\n\n\n\n\n\n\n\n\n\n\n\n\nThe Bunker- Guilderland\n2390 Western Ave\, Guilderland\, NY 12084\nView on map \n\n\n\n\n  \n\n\n\n\n\n\n\n\n\n\n\n\nFeb 07\, 2024 06:00pm – Feb 07\, 2024 08:00pm \nAdd to Google · Outlook · Yahoo\n\n\n\n\n\n\n\n\n\n\nRegister
URL:https://www.wbasny.org/event/indoor-golf-event-capital-district-chapter/
END:VEVENT
BEGIN:VEVENT
DTSTART;TZID=America/New_York:20240207T170000
DTEND;TZID=America/New_York:20240207T193000
DTSTAMP:20260420T041327
CREATED:20240109T202553Z
LAST-MODIFIED:20240109T202626Z
UID:69762-1707325200-1707334200@www.wbasny.org
SUMMARY:Galentine's Day (Western New York Chapter)
DESCRIPTION:RSVP: KObrien@hodgsonruss.com
URL:https://www.wbasny.org/event/galentines-day-western-new-york-chapter/
ORGANIZER;CN="Western New York Women's Bar Association":MAILTO:wbasnywny@gmail.com
END:VEVENT
BEGIN:VEVENT
DTSTART;TZID=America/New_York:20240207T180000
DTEND;TZID=America/New_York:20240207T200000
DTSTAMP:20260420T041327
CREATED:20240125T211214Z
LAST-MODIFIED:20240125T211214Z
UID:69991-1707328800-1707336000@www.wbasny.org
SUMMARY:Black Culture and the Arts (Brooklyn Chapter)
DESCRIPTION:
URL:https://www.wbasny.org/event/black-culture-and-the-arts-brooklyn-chapter/
END:VEVENT
END:VCALENDAR