BEGIN:VCALENDAR
VERSION:2.0
PRODID:-//wbasny - ECPv6.15.20//NONSGML v1.0//EN
CALSCALE:GREGORIAN
METHOD:PUBLISH
X-WR-CALNAME:wbasny
X-ORIGINAL-URL:https://www.wbasny.org
X-WR-CALDESC:Events for wbasny
REFRESH-INTERVAL;VALUE=DURATION:PT1H
X-Robots-Tag:noindex
X-PUBLISHED-TTL:PT1H
BEGIN:VTIMEZONE
TZID:America/New_York
BEGIN:DAYLIGHT
TZOFFSETFROM:-0500
TZOFFSETTO:-0400
TZNAME:EDT
DTSTART:20230312T070000
END:DAYLIGHT
BEGIN:STANDARD
TZOFFSETFROM:-0400
TZOFFSETTO:-0500
TZNAME:EST
DTSTART:20231105T060000
END:STANDARD
BEGIN:DAYLIGHT
TZOFFSETFROM:-0500
TZOFFSETTO:-0400
TZNAME:EDT
DTSTART:20240310T070000
END:DAYLIGHT
BEGIN:STANDARD
TZOFFSETFROM:-0400
TZOFFSETTO:-0500
TZNAME:EST
DTSTART:20241103T060000
END:STANDARD
BEGIN:DAYLIGHT
TZOFFSETFROM:-0500
TZOFFSETTO:-0400
TZNAME:EDT
DTSTART:20250309T070000
END:DAYLIGHT
BEGIN:STANDARD
TZOFFSETFROM:-0400
TZOFFSETTO:-0500
TZNAME:EST
DTSTART:20251102T060000
END:STANDARD
END:VTIMEZONE
BEGIN:VEVENT
DTSTART;TZID=America/New_York:20240319T130000
DTEND;TZID=America/New_York:20240319T140000
DTSTAMP:20260422T061834
CREATED:20240228T160658Z
LAST-MODIFIED:20240228T160658Z
UID:70354-1710853200-1710856800@www.wbasny.org
SUMMARY:CLE- What Happens with Frozen Embryos in a New York Divorce?
DESCRIPTION:Tuesday\, March 19\, 2024 – 1:00 – 2:00 p.m. \nChapter: Westchester \nName of event: What Happens with Frozen Embryos in a New York Divorce? \nHow will the event be held: Virtual \nCost: Members – $10 / Non-Members – $15 \nRegistration link: https://wwbany.org/event-5625920
URL:https://www.wbasny.org/event/cle-what-happens-with-frozen-embryos-in-a-new-york-divorce/
ORGANIZER;CN="Westchester Women's Bar Association":MAILTO:executivedirector@wwbany.org
END:VEVENT
BEGIN:VEVENT
DTSTART;TZID=America/New_York:20240319T183000
DTEND;TZID=America/New_York:20240319T193000
DTSTAMP:20260422T061834
CREATED:20240228T160507Z
LAST-MODIFIED:20240228T160507Z
UID:70352-1710873000-1710876600@www.wbasny.org
SUMMARY:CLE- Demystifying Depositions: Tips and Tricks for a More Effective Deposition
DESCRIPTION:Tuesday\, March 19\, 2024 – 6:30 – 7:30 p.m. \nChapter: Queens \nName of event: Demystifying Depositions: Tips and Tricks for a More Effective Deposition CLE \nDescription of event: Seth I. Fields\, a seasoned litigator\, will talk about how to take and defend a deposition more effectively. He will also discuss the importance of proper instructions at the start of a deposition\, as well as proper questioning and \nobjections and how to structure a deposition to elicit the necessary testimony. \nHow will the event take place: Virtual \nCost: Members and Students – Free / Non-Members – $25 \nRegistration link: https://qcwba.org/qcwba-event/demystifying-depositions/?mc_cid=099c78632b&mc_eid=70b5161317
URL:https://www.wbasny.org/event/cle-demystifying-depositions-tips-and-tricks-for-a-more-effective-deposition/
END:VEVENT
END:VCALENDAR