BEGIN:VCALENDAR
VERSION:2.0
PRODID:-//wbasny - ECPv6.15.20//NONSGML v1.0//EN
CALSCALE:GREGORIAN
METHOD:PUBLISH
X-WR-CALNAME:wbasny
X-ORIGINAL-URL:https://www.wbasny.org
X-WR-CALDESC:Events for wbasny
REFRESH-INTERVAL;VALUE=DURATION:PT1H
X-Robots-Tag:noindex
X-PUBLISHED-TTL:PT1H
BEGIN:VTIMEZONE
TZID:America/New_York
BEGIN:DAYLIGHT
TZOFFSETFROM:-0500
TZOFFSETTO:-0400
TZNAME:EDT
DTSTART:20230312T070000
END:DAYLIGHT
BEGIN:STANDARD
TZOFFSETFROM:-0400
TZOFFSETTO:-0500
TZNAME:EST
DTSTART:20231105T060000
END:STANDARD
BEGIN:DAYLIGHT
TZOFFSETFROM:-0500
TZOFFSETTO:-0400
TZNAME:EDT
DTSTART:20240310T070000
END:DAYLIGHT
BEGIN:STANDARD
TZOFFSETFROM:-0400
TZOFFSETTO:-0500
TZNAME:EST
DTSTART:20241103T060000
END:STANDARD
BEGIN:DAYLIGHT
TZOFFSETFROM:-0500
TZOFFSETTO:-0400
TZNAME:EDT
DTSTART:20250309T070000
END:DAYLIGHT
BEGIN:STANDARD
TZOFFSETFROM:-0400
TZOFFSETTO:-0500
TZNAME:EST
DTSTART:20251102T060000
END:STANDARD
END:VTIMEZONE
BEGIN:VEVENT
DTSTART;TZID=America/New_York:20240328T120000
DTEND;TZID=America/New_York:20240328T130000
DTSTAMP:20260420T061425
CREATED:20240308T154319Z
LAST-MODIFIED:20240308T154319Z
UID:70518-1711627200-1711630800@www.wbasny.org
SUMMARY:CLE- Update on IntersectionALLY: Serving Clients and Colleagues Better by Anticipating Diversity
DESCRIPTION:CLE – Update on IntersectionALLY: Serving Clients and Colleagues Better by Anticipating Diversity \n3/28/24 12pm \nLocation – Virtual \nCost -Free \nRegister Here – adeveau@bsk.com by 3/27/2024 \n 
URL:https://www.wbasny.org/event/cle-update-on-intersectionally-serving-clients-and-colleagues-better-by-anticipating-diversity/
END:VEVENT
BEGIN:VEVENT
DTSTART;TZID=America/New_York:20240328T130000
DTEND;TZID=America/New_York:20240328T140000
DTSTAMP:20260420T061425
CREATED:20240205T161417Z
LAST-MODIFIED:20240205T161417Z
UID:70121-1711630800-1711634400@www.wbasny.org
SUMMARY:The Seven Deadly Sins: Games Litigators Play in a Mediation
DESCRIPTION:Alternative Dispute Resolution Committee \npresents a Lunch and Learn Program: \n\n“The Seven Deadly Sins: Games Litigators Play  \nIn a Mediation” \n\nSpeaker: \nMichele Kern-Rappy\, Esq. \n\nMarch 28\, 2024\, 1:00 pm by Zoom\n \nClick here for more info and to RSVP.
URL:https://www.wbasny.org/event/the-seven-deadly-sins-games-litigators-play-in-a-mediation/
END:VEVENT
BEGIN:VEVENT
DTSTART;TZID=America/New_York:20240328T180000
DTEND;TZID=America/New_York:20240328T190000
DTSTAMP:20260420T061425
CREATED:20240228T160940Z
LAST-MODIFIED:20240228T160940Z
UID:70358-1711648800-1711652400@www.wbasny.org
SUMMARY:Walking Tour of the Women's Suffrage Markers in Saratoga Springs (Adirondack Chapter)
DESCRIPTION:Thursday\, March 28\, 2024 – 5:30 p.m. \nChapter: Adirondack \nName of event: Walking Tour of the Women’s Suffrage Markers in Saratoga Springs \nDescription of event: Women’s History Month Celebration \nHow will the event be held: In Person \nLocation of Event: Congress Park (Broadway & East Congress Street) \nCost: Free \nAny other details: Post-tour reception at Harvey’s Restaurant (14 Philadelphia Street) \nThursday\, March 28\, 2024 – 6:00 p.m.
URL:https://www.wbasny.org/event/walking-tour-of-the-womens-suffrage-markers-in-saratoga-springs-adirondack-chapter/
END:VEVENT
BEGIN:VEVENT
DTSTART;TZID=America/New_York:20240328T180000
DTEND;TZID=America/New_York:20240328T190000
DTSTAMP:20260420T061425
CREATED:20240318T145030Z
LAST-MODIFIED:20240318T145030Z
UID:70832-1711648800-1711652400@www.wbasny.org
SUMMARY:What Can We Learn From Tax Returns? Part II: Corporate Tax Returns (New York Chapter)
DESCRIPTION:Matrimonial and Family Law Committee presents: \nWHAT CAN WE LEARN FROM TAX RETURNS?\nPart II: Corporate Tax Returns \nPresenters:\nSylvia Goldschmidt\, Esq\nLukasz Kustra\, ABV \nModerator:\nSabrina M. Woods\, Esq\n \nMarch 28\, 2024\, 6:00 pm\nIn-person & by Zoom\n \nClick here for more info and to RSVP.
URL:https://www.wbasny.org/event/what-can-we-learn-from-tax-returns-part-ii-corporate-tax-returns-new-york-chapter/
END:VEVENT
BEGIN:VEVENT
DTSTART;TZID=America/New_York:20240328T180000
DTEND;TZID=America/New_York:20240328T200000
DTSTAMP:20260420T061425
CREATED:20240205T154217Z
LAST-MODIFIED:20240205T154217Z
UID:70109-1711648800-1711656000@www.wbasny.org
SUMMARY:Judge's Choice Dinner (Central New York Chapter)
DESCRIPTION:
URL:https://www.wbasny.org/event/judges-choice-dinner-central-new-york-chapter-2/
END:VEVENT
BEGIN:VEVENT
DTSTART;TZID=America/New_York:20240328T180000
DTEND;TZID=America/New_York:20240328T200000
DTSTAMP:20260420T061425
CREATED:20240318T144832Z
LAST-MODIFIED:20240318T144832Z
UID:70829-1711648800-1711656000@www.wbasny.org
SUMMARY:Networking Mixer for LGBTQ+ (and ally) lawyers and law students (New York Chapter)
DESCRIPTION:
URL:https://www.wbasny.org/event/networking-mixer-for-lgbtq-and-ally-lawyers-and-law-students-new-york-chapter/
END:VEVENT
END:VCALENDAR