BEGIN:VCALENDAR
VERSION:2.0
PRODID:-//wbasny - ECPv6.15.20//NONSGML v1.0//EN
CALSCALE:GREGORIAN
METHOD:PUBLISH
X-WR-CALNAME:wbasny
X-ORIGINAL-URL:https://www.wbasny.org
X-WR-CALDESC:Events for wbasny
REFRESH-INTERVAL;VALUE=DURATION:PT1H
X-Robots-Tag:noindex
X-PUBLISHED-TTL:PT1H
BEGIN:VTIMEZONE
TZID:America/New_York
BEGIN:DAYLIGHT
TZOFFSETFROM:-0500
TZOFFSETTO:-0400
TZNAME:EDT
DTSTART:20230312T070000
END:DAYLIGHT
BEGIN:STANDARD
TZOFFSETFROM:-0400
TZOFFSETTO:-0500
TZNAME:EST
DTSTART:20231105T060000
END:STANDARD
BEGIN:DAYLIGHT
TZOFFSETFROM:-0500
TZOFFSETTO:-0400
TZNAME:EDT
DTSTART:20240310T070000
END:DAYLIGHT
BEGIN:STANDARD
TZOFFSETFROM:-0400
TZOFFSETTO:-0500
TZNAME:EST
DTSTART:20241103T060000
END:STANDARD
BEGIN:DAYLIGHT
TZOFFSETFROM:-0500
TZOFFSETTO:-0400
TZNAME:EDT
DTSTART:20250309T070000
END:DAYLIGHT
BEGIN:STANDARD
TZOFFSETFROM:-0400
TZOFFSETTO:-0500
TZNAME:EST
DTSTART:20251102T060000
END:STANDARD
END:VTIMEZONE
BEGIN:VEVENT
DTSTART;TZID=America/New_York:20240417T123000
DTEND;TZID=America/New_York:20240417T140000
DTSTAMP:20260420T100255
CREATED:20240221T204728Z
LAST-MODIFIED:20240221T204819Z
UID:70319-1713357000-1713362400@www.wbasny.org
SUMMARY:Lunch with Hon. Richard J. Guertin (Orange and Sullivan Chapter)
DESCRIPTION:The Women’s Bar Association of Orange and Sullivan Counties \nInvites you to \nLunch with a Judge Series \nApril 17\, 2024 \nLunch with Judge Richard J. Guertin \nRegistration Form \nhttps://form.jotform.com/240453572941154 \n12:30 PM – 2:00 PM \n$30 – Members | $35 – Non-Members \nRSVP Required
URL:https://www.wbasny.org/event/lunch-with-hon-richard-j-guertin-orange-and-sullivan-chapter/
END:VEVENT
BEGIN:VEVENT
DTSTART;TZID=America/New_York:20240417T123000
DTEND;TZID=America/New_York:20240417T140000
DTSTAMP:20260420T100255
CREATED:20240305T205849Z
LAST-MODIFIED:20240305T205849Z
UID:70477-1713357000-1713362400@www.wbasny.org
SUMMARY:Breast Health Workshop (WBASNY)
DESCRIPTION:BreastHealthFlyer
URL:https://www.wbasny.org/event/breast-health-workshop-wbasny/
ORGANIZER;CN="WBASNY":MAILTO:events@wbasny.org
END:VEVENT
BEGIN:VEVENT
DTSTART;TZID=America/New_York:20240417T130000
DTEND;TZID=America/New_York:20240417T140000
DTSTAMP:20260420T100255
CREATED:20240318T145335Z
LAST-MODIFIED:20240318T145335Z
UID:70835-1713358800-1713362400@www.wbasny.org
SUMMARY:"Opportunities for Neutrals in the Health Care Arena (New York Chapter)
DESCRIPTION:Alternative Dispute Resolution Committee \npresents a Lunch and Learn Program: \n\n“Opportunities for Neutrals in the Health Care Arena” \n\nSpeaker: \nMary Austin\, Esq. \n\nApril 17\, 2024\, 1:00 pm\, by Zoom \nRSVP ADR@nywba.org by April 15\, 2024
URL:https://www.wbasny.org/event/opportunities-for-neutrals-in-the-health-care-arena-new-york-chapter/
END:VEVENT
BEGIN:VEVENT
DTSTART;TZID=America/New_York:20240417T130000
DTEND;TZID=America/New_York:20240417T140000
DTSTAMP:20260420T100255
CREATED:20240402T202933Z
LAST-MODIFIED:20240402T202933Z
UID:71133-1713358800-1713362400@www.wbasny.org
SUMMARY:Lunch with Hon. Graham (Brooklyn Chapter)
DESCRIPTION:RSVP to Lunch with a Judge
URL:https://www.wbasny.org/event/lunch-with-hon-graham-brooklyn-chapter/
END:VEVENT
BEGIN:VEVENT
DTSTART;TZID=America/New_York:20240417T180000
DTEND;TZID=America/New_York:20240417T190000
DTSTAMP:20260420T100255
CREATED:20240108T152330Z
LAST-MODIFIED:20240415T160620Z
UID:69700-1713376800-1713380400@www.wbasny.org
SUMMARY:NYWBA Annual Meeting
DESCRIPTION:CLICK HERE \nCLICK HERE to review the attached minutes of our Annual Meeting in 2023.  We will vote on these at the Annual Meeting.
URL:https://www.wbasny.org/event/nywba-annual-meeting-2/
END:VEVENT
END:VCALENDAR