BEGIN:VCALENDAR
VERSION:2.0
PRODID:-//wbasny - ECPv6.15.20//NONSGML v1.0//EN
CALSCALE:GREGORIAN
METHOD:PUBLISH
X-ORIGINAL-URL:https://www.wbasny.org
X-WR-CALDESC:Events for wbasny
REFRESH-INTERVAL;VALUE=DURATION:PT1H
X-Robots-Tag:noindex
X-PUBLISHED-TTL:PT1H
BEGIN:VTIMEZONE
TZID:America/New_York
BEGIN:DAYLIGHT
TZOFFSETFROM:-0500
TZOFFSETTO:-0400
TZNAME:EDT
DTSTART:20230312T070000
END:DAYLIGHT
BEGIN:STANDARD
TZOFFSETFROM:-0400
TZOFFSETTO:-0500
TZNAME:EST
DTSTART:20231105T060000
END:STANDARD
BEGIN:DAYLIGHT
TZOFFSETFROM:-0500
TZOFFSETTO:-0400
TZNAME:EDT
DTSTART:20240310T070000
END:DAYLIGHT
BEGIN:STANDARD
TZOFFSETFROM:-0400
TZOFFSETTO:-0500
TZNAME:EST
DTSTART:20241103T060000
END:STANDARD
BEGIN:DAYLIGHT
TZOFFSETFROM:-0500
TZOFFSETTO:-0400
TZNAME:EDT
DTSTART:20250309T070000
END:DAYLIGHT
BEGIN:STANDARD
TZOFFSETFROM:-0400
TZOFFSETTO:-0500
TZNAME:EST
DTSTART:20251102T060000
END:STANDARD
END:VTIMEZONE
BEGIN:VEVENT
DTSTART;TZID=America/New_York:20240507T173000
DTEND;TZID=America/New_York:20240507T183000
DTSTAMP:20260420T104742
CREATED:20240401T200710Z
LAST-MODIFIED:20240401T200734Z
UID:71090-1715103000-1715106600@www.wbasny.org
SUMMARY:Marriage and Pre-Nups in Estate Planning (New York Chapter)
DESCRIPTION:Trusts & Estates Committee presents \nMarriage and Pre-Nups in Estate Planning \nSpeaker: Judith White\, Esq. \nMay 7\, 2024\, 5:30 pm\, by Zoom \nRSVP TEChairs@nywba.org by May 7\, 2024
URL:https://www.wbasny.org/event/marriage-and-pre-nups-in-estate-planning/
END:VEVENT
BEGIN:VEVENT
DTSTART;TZID=America/New_York:20240507T180000
DTEND;TZID=America/New_York:20240507T200000
DTSTAMP:20260420T104742
CREATED:20231003T210113Z
LAST-MODIFIED:20231003T210113Z
UID:68500-1715104800-1715112000@www.wbasny.org
SUMMARY:Officers Meeting and Dinner
DESCRIPTION:Officers Meeting and Dinner
URL:https://www.wbasny.org/event/officers-meeting-and-dinner-7/
ORGANIZER;CN="WBASNY":MAILTO:events@wbasny.org
END:VEVENT
END:VCALENDAR