BEGIN:VCALENDAR
VERSION:2.0
PRODID:-//wbasny - ECPv6.15.20//NONSGML v1.0//EN
CALSCALE:GREGORIAN
METHOD:PUBLISH
X-ORIGINAL-URL:https://www.wbasny.org
X-WR-CALDESC:Events for wbasny
REFRESH-INTERVAL;VALUE=DURATION:PT1H
X-Robots-Tag:noindex
X-PUBLISHED-TTL:PT1H
BEGIN:VTIMEZONE
TZID:America/New_York
BEGIN:DAYLIGHT
TZOFFSETFROM:-0500
TZOFFSETTO:-0400
TZNAME:EDT
DTSTART:20230312T070000
END:DAYLIGHT
BEGIN:STANDARD
TZOFFSETFROM:-0400
TZOFFSETTO:-0500
TZNAME:EST
DTSTART:20231105T060000
END:STANDARD
BEGIN:DAYLIGHT
TZOFFSETFROM:-0500
TZOFFSETTO:-0400
TZNAME:EDT
DTSTART:20240310T070000
END:DAYLIGHT
BEGIN:STANDARD
TZOFFSETFROM:-0400
TZOFFSETTO:-0500
TZNAME:EST
DTSTART:20241103T060000
END:STANDARD
BEGIN:DAYLIGHT
TZOFFSETFROM:-0500
TZOFFSETTO:-0400
TZNAME:EDT
DTSTART:20250309T070000
END:DAYLIGHT
BEGIN:STANDARD
TZOFFSETFROM:-0400
TZOFFSETTO:-0500
TZNAME:EST
DTSTART:20251102T060000
END:STANDARD
END:VTIMEZONE
BEGIN:VEVENT
DTSTART;TZID=America/New_York:20240509T080000
DTEND;TZID=America/New_York:20240509T170000
DTSTAMP:20260420T135612
CREATED:20240305T152229Z
LAST-MODIFIED:20240305T152229Z
UID:70471-1715241600-1715274000@www.wbasny.org
SUMMARY:Annual Member of Distinction Dinner (Del-Chen-O Chapter)
DESCRIPTION:
URL:https://www.wbasny.org/event/annual-member-of-distinction-dinner-del-chen-o-chapter/
END:VEVENT
BEGIN:VEVENT
DTSTART;TZID=America/New_York:20240509T090000
DTEND;TZID=America/New_York:20240509T160000
DTSTAMP:20260420T135612
CREATED:20240429T144414Z
LAST-MODIFIED:20240429T144414Z
UID:71457-1715245200-1715270400@www.wbasny.org
SUMMARY:False Claims Act Symposium (Central New York Chapter)
DESCRIPTION:Register for the False Claims Act Symposium
URL:https://www.wbasny.org/event/false-claims-act-symposium-central-new-york-chapter/
END:VEVENT
BEGIN:VEVENT
DTSTART;TZID=America/New_York:20240509T180000
DTEND;TZID=America/New_York:20240509T190000
DTSTAMP:20260420T135612
CREATED:20240422T144645Z
LAST-MODIFIED:20240422T144645Z
UID:71362-1715277600-1715281200@www.wbasny.org
SUMMARY:Sweet Success (GRAWA Chapter)
DESCRIPTION:Sweet Success \nCelebrate the success of our members who have won awards and achieved milestones and accomplishments this year \nRochester \n5/9/24 6pm \nTRATA; 145 Culver Road Rochester NY \nJennifer Schauerman – info@grawa.org
URL:https://www.wbasny.org/event/sweet-success-grawa-chapter/
END:VEVENT
BEGIN:VEVENT
DTSTART;TZID=America/New_York:20240509T180000
DTEND;TZID=America/New_York:20240509T200000
DTSTAMP:20260420T135612
CREATED:20240408T145048Z
LAST-MODIFIED:20240408T145048Z
UID:71191-1715277600-1715284800@www.wbasny.org
SUMMARY:Yoga and Guided Sound Bath (Queens Chapter)
DESCRIPTION:
URL:https://www.wbasny.org/event/yoga-and-guided-sound-bath-queens-chapter/
END:VEVENT
END:VCALENDAR