BEGIN:VCALENDAR
VERSION:2.0
PRODID:-//wbasny - ECPv6.15.20//NONSGML v1.0//EN
CALSCALE:GREGORIAN
METHOD:PUBLISH
X-ORIGINAL-URL:https://www.wbasny.org
X-WR-CALDESC:Events for wbasny
REFRESH-INTERVAL;VALUE=DURATION:PT1H
X-Robots-Tag:noindex
X-PUBLISHED-TTL:PT1H
BEGIN:VTIMEZONE
TZID:America/New_York
BEGIN:DAYLIGHT
TZOFFSETFROM:-0500
TZOFFSETTO:-0400
TZNAME:EDT
DTSTART:20230312T070000
END:DAYLIGHT
BEGIN:STANDARD
TZOFFSETFROM:-0400
TZOFFSETTO:-0500
TZNAME:EST
DTSTART:20231105T060000
END:STANDARD
BEGIN:DAYLIGHT
TZOFFSETFROM:-0500
TZOFFSETTO:-0400
TZNAME:EDT
DTSTART:20240310T070000
END:DAYLIGHT
BEGIN:STANDARD
TZOFFSETFROM:-0400
TZOFFSETTO:-0500
TZNAME:EST
DTSTART:20241103T060000
END:STANDARD
BEGIN:DAYLIGHT
TZOFFSETFROM:-0500
TZOFFSETTO:-0400
TZNAME:EDT
DTSTART:20250309T070000
END:DAYLIGHT
BEGIN:STANDARD
TZOFFSETFROM:-0400
TZOFFSETTO:-0500
TZNAME:EST
DTSTART:20251102T060000
END:STANDARD
END:VTIMEZONE
BEGIN:VEVENT
DTSTART;TZID=America/New_York:20240514T080000
DTEND;TZID=America/New_York:20240514T213000
DTSTAMP:20260420T203745
CREATED:20240422T143732Z
LAST-MODIFIED:20240422T143732Z
UID:71359-1715673600-1715722200@www.wbasny.org
SUMMARY:Breakfast at the Bar (Central New York Chapter)
DESCRIPTION:
URL:https://www.wbasny.org/event/breakfast-at-the-bar-central-new-york-chapter-7/
END:VEVENT
BEGIN:VEVENT
DTSTART;TZID=America/New_York:20240514T120000
DTEND;TZID=America/New_York:20240514T133000
DTSTAMP:20260420T203745
CREATED:20240426T143639Z
LAST-MODIFIED:20240426T143639Z
UID:71433-1715688000-1715693400@www.wbasny.org
SUMMARY:CLE- The Gender Wage Gap- What It Is. Why It Happens\, and What Women Can Do About it
DESCRIPTION:Equal Opportunity in the Profession Committee \npresents \nThe Gender Wage Gap –\nWhat It Is.  Why It Happens\, and What Women Can Do About It \nSponsored by \n \nMay 14\, 2024 \n12:00 – 1:30 pm\nVirtual \n\nThis program will be in two parts. In Part 1\, the panel will discuss the Gender Wage Gap\, how it is calculated\, how it impacts women in the legal profession\, and where we go from here\, moderated by committee co-chair Janelle Pelli.  In Part 2\, we will receive real-time training from Debbie Epstein Henry on the best ways women can promote themselves in the legal profession\, and other tips and tricks we can use to help combat the gap.  \n \nSusan R. Fiorentino\, Esq.\nWest Chester University \n \nDeborah Epstein-Henry\, Esq.\nDEH Consulting\, Speaking\, Writing \n \nSeher Khawaja\, Esq.\nLegal Momentum \n \nBeverly Cooper Neufeld\nPowHer New York \n1.5 CLE Credits \n(1.0 Professional Practice / 0.5 Diversity\, Inclusion and Elimination of Bias)\n(Transitional / Non-Transitional) \n\nCost:\nFree to Members \nNon-Members – $40 \nREGISTER HERE
URL:https://www.wbasny.org/event/cle-the-gender-wage-gap-what-it-is-why-it-happens-and-what-women-can-do-about-it/
ORGANIZER;CN="WBASNY":MAILTO:events@wbasny.org
END:VEVENT
BEGIN:VEVENT
DTSTART;TZID=America/New_York:20240514T130000
DTEND;TZID=America/New_York:20240514T140000
DTSTAMP:20260420T203745
CREATED:20240429T161947Z
LAST-MODIFIED:20240429T161947Z
UID:71462-1715691600-1715695200@www.wbasny.org
SUMMARY:Nuts and Bolts of Discharge Planning (New York Chapter)
DESCRIPTION:Elder Law & Disabilities Committee\nLunch & Learn Series \nNuts & Bolts of Discharge Planning \nSpeaker:\nDinae Lansing \nMay 14\, 2024\, 1:00 – 2:00 pm by Zoom\nRSVP ElderLawChairs@nywba.org
URL:https://www.wbasny.org/event/nuts-and-bolts-of-discharge-planning-new-york-chapter/
END:VEVENT
BEGIN:VEVENT
DTSTART;TZID=America/New_York:20240514T180000
DTEND;TZID=America/New_York:20240514T190000
DTSTAMP:20260420T203745
CREATED:20240415T162057Z
LAST-MODIFIED:20240415T162057Z
UID:71275-1715709600-1715713200@www.wbasny.org
SUMMARY:CLE- What is Your Conflict Style?
DESCRIPTION:The ADR Committee and the NYSBA Dispute Resolution Section present \n“What is Your Conflict Style?” \nfeaturing Simeon Baum\, Esq.\n1 CLE credit \nMay 14\, 2024\, 6PM \nClick here for details.
URL:https://www.wbasny.org/event/cle-what-is-your-conflict-style/
END:VEVENT
BEGIN:VEVENT
DTSTART;TZID=America/New_York:20240514T183000
DTEND;TZID=America/New_York:20240514T223000
DTSTAMP:20260420T203745
CREATED:20240419T150459Z
LAST-MODIFIED:20240419T150459Z
UID:71354-1715711400-1715725800@www.wbasny.org
SUMMARY:Awards Reception and Dinner (Queens Chapter)
DESCRIPTION:REGISTER HERE
URL:https://www.wbasny.org/event/awards-reception-and-dinner-queens-chapter/
END:VEVENT
END:VCALENDAR