BEGIN:VCALENDAR
VERSION:2.0
PRODID:-//wbasny - ECPv6.15.20//NONSGML v1.0//EN
CALSCALE:GREGORIAN
METHOD:PUBLISH
X-ORIGINAL-URL:https://www.wbasny.org
X-WR-CALDESC:Events for wbasny
REFRESH-INTERVAL;VALUE=DURATION:PT1H
X-Robots-Tag:noindex
X-PUBLISHED-TTL:PT1H
BEGIN:VTIMEZONE
TZID:America/New_York
BEGIN:DAYLIGHT
TZOFFSETFROM:-0500
TZOFFSETTO:-0400
TZNAME:EDT
DTSTART:20230312T070000
END:DAYLIGHT
BEGIN:STANDARD
TZOFFSETFROM:-0400
TZOFFSETTO:-0500
TZNAME:EST
DTSTART:20231105T060000
END:STANDARD
BEGIN:DAYLIGHT
TZOFFSETFROM:-0500
TZOFFSETTO:-0400
TZNAME:EDT
DTSTART:20240310T070000
END:DAYLIGHT
BEGIN:STANDARD
TZOFFSETFROM:-0400
TZOFFSETTO:-0500
TZNAME:EST
DTSTART:20241103T060000
END:STANDARD
BEGIN:DAYLIGHT
TZOFFSETFROM:-0500
TZOFFSETTO:-0400
TZNAME:EDT
DTSTART:20250309T070000
END:DAYLIGHT
BEGIN:STANDARD
TZOFFSETFROM:-0400
TZOFFSETTO:-0500
TZNAME:EST
DTSTART:20251102T060000
END:STANDARD
END:VTIMEZONE
BEGIN:VEVENT
DTSTART;TZID=America/New_York:20240515T130000
DTEND;TZID=America/New_York:20240515T140000
DTSTAMP:20260420T222011
CREATED:20240403T144900Z
LAST-MODIFIED:20240403T144900Z
UID:71137-1715778000-1715781600@www.wbasny.org
SUMMARY:Lunch with Hon. LaSalle (Brooklyn Chapter)
DESCRIPTION:RSVP to Lunch with a Judge
URL:https://www.wbasny.org/event/lunch-with-hon-lasalle-brooklyn-chapter/
END:VEVENT
BEGIN:VEVENT
DTSTART;TZID=America/New_York:20240515T170000
DTEND;TZID=America/New_York:20240515T180000
DTSTAMP:20260420T222011
CREATED:20240226T165226Z
LAST-MODIFIED:20240321T143736Z
UID:70328-1715792400-1715796000@www.wbasny.org
SUMMARY:Annual Gala (Brooklyn Chapter)
DESCRIPTION:CLICK HERE FOR TICKETS! \n  \n\n\n\nBECOME A DINNER SPONSOR!
URL:https://www.wbasny.org/event/annual-gala-brooklyn-chapter/
END:VEVENT
END:VCALENDAR