BEGIN:VCALENDAR
VERSION:2.0
PRODID:-//wbasny - ECPv6.15.20//NONSGML v1.0//EN
CALSCALE:GREGORIAN
METHOD:PUBLISH
X-ORIGINAL-URL:https://www.wbasny.org
X-WR-CALDESC:Events for wbasny
REFRESH-INTERVAL;VALUE=DURATION:PT1H
X-Robots-Tag:noindex
X-PUBLISHED-TTL:PT1H
BEGIN:VTIMEZONE
TZID:America/New_York
BEGIN:DAYLIGHT
TZOFFSETFROM:-0500
TZOFFSETTO:-0400
TZNAME:EDT
DTSTART:20250309T070000
END:DAYLIGHT
BEGIN:STANDARD
TZOFFSETFROM:-0400
TZOFFSETTO:-0500
TZNAME:EST
DTSTART:20251102T060000
END:STANDARD
BEGIN:DAYLIGHT
TZOFFSETFROM:-0500
TZOFFSETTO:-0400
TZNAME:EDT
DTSTART:20260308T070000
END:DAYLIGHT
BEGIN:STANDARD
TZOFFSETFROM:-0400
TZOFFSETTO:-0500
TZNAME:EST
DTSTART:20261101T060000
END:STANDARD
BEGIN:DAYLIGHT
TZOFFSETFROM:-0500
TZOFFSETTO:-0400
TZNAME:EDT
DTSTART:20270314T070000
END:DAYLIGHT
BEGIN:STANDARD
TZOFFSETFROM:-0400
TZOFFSETTO:-0500
TZNAME:EST
DTSTART:20271107T060000
END:STANDARD
END:VTIMEZONE
BEGIN:VEVENT
DTSTART;TZID=America/New_York:20260330T083000
DTEND;TZID=America/New_York:20260330T180000
DTSTAMP:20260420T042802
CREATED:20260218T173343Z
LAST-MODIFIED:20260218T173343Z
UID:99484-1774859400-1774893600@www.wbasny.org
SUMMARY:CLE- Multi-Bar Summit on Equity & Allyship
DESCRIPTION:REGISTER HERE
URL:https://www.wbasny.org/event/cle-multi-bar-summit-on-equity-allyship/
ORGANIZER;CN="Westchester Women's Bar Association":MAILTO:executivedirector@wwbany.org
END:VEVENT
BEGIN:VEVENT
DTSTART;TZID=America/New_York:20260330T180000
DTEND;TZID=America/New_York:20260330T190000
DTSTAMP:20260420T042802
CREATED:20260320T160422Z
LAST-MODIFIED:20260320T160422Z
UID:100720-1774893600-1774897200@www.wbasny.org
SUMMARY:Women's History Month Celebration (Brooklyn Chapter)
DESCRIPTION:RSVP Now
URL:https://www.wbasny.org/event/womens-history-month-celebration-brooklyn-chapter/
END:VEVENT
BEGIN:VEVENT
DTSTART;TZID=America/New_York:20260330T180000
DTEND;TZID=America/New_York:20260330T193000
DTSTAMP:20260420T042802
CREATED:20260313T172604Z
LAST-MODIFIED:20260313T172604Z
UID:100568-1774893600-1774899000@www.wbasny.org
SUMMARY:CLE- Identifying and Protecting Against Common Fraud Tactics
DESCRIPTION:  \npresents \n\nIdentifying and Protecting Against Common Fraud Tactics \n\nMarch 30\, 2026 \n\n6:00 – 7:30 pm \n\nThis program provides information about different types of fraud and identifies ways for you to protect yourself and your clients. With fraud on the rise\, ways to identify\, protect and take action against common fraud tactics will be discussed including in areas such as mail theft\, social engineering\, and business email compromise. \n\nSponsored by: \n\n\n1.0 CLE Credits  \n(1.0 Cybersecurity\, Privacy and Data Protection – General)\n(Transitional / Non-Transitional) \n\nCost:\nFree to Members \nNon-Members – $40 \nREGISTER HERE
URL:https://www.wbasny.org/event/cle-identifying-and-protecting-against-common-fraud-tactics/
ORGANIZER;CN="WBASNY":MAILTO:events@wbasny.org
END:VEVENT
END:VCALENDAR