BEGIN:VCALENDAR
VERSION:2.0
PRODID:-//wbasny - ECPv6.15.20//NONSGML v1.0//EN
CALSCALE:GREGORIAN
METHOD:PUBLISH
X-WR-CALNAME:wbasny
X-ORIGINAL-URL:https://www.wbasny.org
X-WR-CALDESC:Events for wbasny
REFRESH-INTERVAL;VALUE=DURATION:PT1H
X-Robots-Tag:noindex
X-PUBLISHED-TTL:PT1H
BEGIN:VTIMEZONE
TZID:America/New_York
BEGIN:DAYLIGHT
TZOFFSETFROM:-0500
TZOFFSETTO:-0400
TZNAME:EDT
DTSTART:20210314T070000
END:DAYLIGHT
BEGIN:STANDARD
TZOFFSETFROM:-0400
TZOFFSETTO:-0500
TZNAME:EST
DTSTART:20211107T060000
END:STANDARD
BEGIN:DAYLIGHT
TZOFFSETFROM:-0500
TZOFFSETTO:-0400
TZNAME:EDT
DTSTART:20220313T070000
END:DAYLIGHT
BEGIN:STANDARD
TZOFFSETFROM:-0400
TZOFFSETTO:-0500
TZNAME:EST
DTSTART:20221106T060000
END:STANDARD
BEGIN:DAYLIGHT
TZOFFSETFROM:-0500
TZOFFSETTO:-0400
TZNAME:EDT
DTSTART:20230312T070000
END:DAYLIGHT
BEGIN:STANDARD
TZOFFSETFROM:-0400
TZOFFSETTO:-0500
TZNAME:EST
DTSTART:20231105T060000
END:STANDARD
END:VTIMEZONE
BEGIN:VEVENT
DTSTART;TZID=America/New_York:20221102T180000
DTEND;TZID=America/New_York:20221102T190000
DTSTAMP:20260421T002534
CREATED:20221017T181250Z
LAST-MODIFIED:20221017T181250Z
UID:63537-1667412000-1667415600@www.wbasny.org
SUMMARY:CLE- How to Succeed as an Associate
DESCRIPTION:The NYWBA Litigation Committee & \nNYWBA Students & New Lawyers Committee\npresent: \nHow to Succeed as an Associate \nSpeakers: \nBrendan Hall\, Esq.\nAssociate at Harris Beach \nMorgan Fraser Mouchette\, Esq.\nPartner at Blank Rome \nEvridiki “Vicky” Poumpouridis\, Esq.\nFounding Partner at Poumpouridis Law LLC \nModerator: Melissa F. Glassman\, Esq.\nCo-Chair\, Litigation Committee\nCo-Chair\, Student & New Lawyers Committee \nJoin us for a discussion on what Partners look for in Associates\nand tips for meeting their expectations.\n \n\nNovember 2\, 2022\, 6:00 p.m. by Zoom\nClick here for more info and to RSVP
URL:https://www.wbasny.org/event/cle-how-to-succeed-as-an-associate/
END:VEVENT
BEGIN:VEVENT
DTSTART;TZID=America/New_York:20221102T123000
DTEND;TZID=America/New_York:20221102T140000
DTSTAMP:20260421T002534
CREATED:20220310T154330Z
LAST-MODIFIED:20220310T154330Z
UID:60093-1667392200-1667397600@www.wbasny.org
SUMMARY:What Would You Do?
DESCRIPTION:WEDNESDAY\, OCTOBER 26\, 2022: 12:30-2:00 PM AND\nWEDNESDAY\, NOVEMBER 2\, 2022: 12:30-2:00 PM\nWHAT WOULD YOU DO?\nPresenters \nDr. Shannon Carey\, NPC Research \nHelen Harberts\, M.A.\, J.D. \nHon. Diane Bull\, (ret). Harris County\, Texas \nThe intersection of child welfare and Substance Use Disorder\, whether rural\, suburban or urban may mean working with persons who are high risk/high need. This population can be challenging to work with. They require different approaches and skills. \nThis multi part class trains teams and service providers to use behavior modification skills via incentives\, sanctions\, and therapeutic responses in a highly effective manner. The classes are focused on research\, role clarification\, staffing and team approaches to challenging behaviors in cases. Videos show how to discuss cases and how to execute the plan in a Court setting. This is a class designed to make outcomes improve. \nAttendees will learn research\, approaches\, and practice skills necessary to transfer the theory into practice. Interactive\, engaging and skill focused\, attendees will come away with tools to use every day. Videos\, polls and interactive exercises reduce the zoom fatigue. \n—————————————————————————————————-
URL:https://www.wbasny.org/event/what-would-you-do-2/
END:VEVENT
BEGIN:VEVENT
DTSTART;TZID=America/New_York:20221102T090000
DTEND;TZID=America/New_York:20221102T160000
DTSTAMP:20260421T002534
CREATED:20220926T163818Z
LAST-MODIFIED:20220926T163818Z
UID:63039-1667379600-1667404800@www.wbasny.org
SUMMARY:CLE- Article 81 Guardianship Training
DESCRIPTION:Article 81 Guardianship Training\n6 Free CLEs*\nDate & Time: November 2\, 2022\, at 9:00 a.m.-4:00 p.m. – Virtual\nRegistration Link: https://nysba.org/events/article-81-guardianship-training-video-replay/\nDescription: Under Article 81 of the Mental Hygiene Law\, persons appointed as a court\nevaluator or guardian\, in almost all cases\, must receive training approved by the\nOffice of Court Administration. This program has been approved by the Office of\nCourt Administration for such purposes. The highly qualified and experienced\npractitioners in the health\, elder and guardianship law fields on the faculty will\nhighlight the latest legal and regulatory developments in this area as well as the\nfundamentals of how to serve as an effective guardian or court evaluator. This\nprogram fulfills the training requirements for enrollment on the Part 36 Fiduciary\nEligibility List as guardian\, court evaluator\, and attorney for alleged incapacitated\npersons.\n*3.5 Areas of Practice CLEs\, 1 Ethics & Professionalism CLE\, 1.5 Skills CLEs \n  \nPresented by 9th Judicial District Access to Justice Committee &\nNew York State Bar Association with Co-Hosts Listed Below\nThank you to Co-Hosts:\nWestchester County Bar Association* Rockland County Bar Association* Rockland County Women’s Bar\nAssociation* Mid-Hudson Women’s Bar Association* Westchester Black Bar Association* MamaroneckHarrison-Larchmont Bar* New Rochelle Bar Association* Port Chester-Rye Bar Association* Yorktown Bar\nAssociation* Justice Brandeis Law Society – 9th J.D.*The Pride Alliance of the New York State\nCourts*South Asian Bar Association of New York*NYS Courts Office of Justice Initiatives*9th J.D. Pro\nBono Service Committee*Haitian American Bar Association*Asian American Bar Association*Orange\nCounty Bar Association*Westchester Women’s Bar Association*Women’s Bar Association of Orange &\nSullivan Counties*Hudson Valley Hispanic Bar Association*Mount Vernon Bar Association*LGBT Bar of\nNew York State*Northern Westchester Bar Association*Yonkers Bar Association*Eastchester Bar\nAssociation*Caribbean Attorneys Network*NYS Courts Office of Diversity & Inclusion*Puerto Rican Bar\nAssociation*Korean American Lawyers Association of Greater New York*Putnam County Bar Association
URL:https://www.wbasny.org/event/cle-article-81-guardianship-training/
END:VEVENT
BEGIN:VEVENT
DTSTART;TZID=America/New_York:20221101T180000
DTEND;TZID=America/New_York:20221101T190000
DTSTAMP:20260421T002534
CREATED:20221010T200448Z
LAST-MODIFIED:20221010T200448Z
UID:63452-1667325600-1667329200@www.wbasny.org
SUMMARY:CLE-Treatment Not Jails
DESCRIPTION:NYWBA Criminal Law Committee\npresent a CLE Program: \n\n Treatment Not Jails \n\n Speakers: \n\nAndrea Nieves\,\nSenior Policy Attorney\, NY County Defender Services \n\nVictoria Ruiz\,\nTrial Attorney\, NY County Defender Services \nAdditional speaker(s) TBA \n\nModerator: TBD \n\nNovember 1\, 2022\, 6:00 p.m. by Zoom\nClick here for more info and to RSVP
URL:https://www.wbasny.org/event/cle-treatment-not-jails/
END:VEVENT
BEGIN:VEVENT
DTSTART;TZID=America/New_York:20221101T120000
DTEND;TZID=America/New_York:20221101T130000
DTSTAMP:20260421T002534
CREATED:20221011T154508Z
LAST-MODIFIED:20221011T154508Z
UID:63483-1667304000-1667307600@www.wbasny.org
SUMMARY:GRAWA Diversity Committee Meeting
DESCRIPTION:GRAWA Diversity Committee Meeting \n12:00pm-1:00pm \nDiversity Committee meeting on Zoom. \nPlease e-mail Erin at eelmouji@woodsoviatt.com to RSVP.
URL:https://www.wbasny.org/event/grawa-diversity-committee-meeting-2/
END:VEVENT
BEGIN:VEVENT
DTSTART;TZID=America/New_York:20221028T130000
DTEND;TZID=America/New_York:20221028T140000
DTSTAMP:20260421T002534
CREATED:20220926T153556Z
LAST-MODIFIED:20220926T153556Z
UID:63029-1666962000-1666965600@www.wbasny.org
SUMMARY:Free CLE- Every Moment Counts: The Blessings of Cancer
DESCRIPTION:Bronx Chapter \n \nBxWBA FREE CLE: “Every Moment Counts: The Blessings of Cancer.” Presentations by an attorney\,\ndoctor\, and survivor. October 28\, 2022. 1-2 p.m. Virtual.
URL:https://www.wbasny.org/event/free-cle-every-moment-counts-the-blessings-of-cancer/
END:VEVENT
BEGIN:VEVENT
DTSTART;TZID=America/New_York:20221028T130000
DTEND;TZID=America/New_York:20221028T140000
DTSTAMP:20260421T002534
CREATED:20220909T161528Z
LAST-MODIFIED:20220909T161528Z
UID:62527-1666962000-1666965600@www.wbasny.org
SUMMARY:CLE-Assigned Counsel and the Indigent Legal Representation Crisis
DESCRIPTION:October 28th at 1:00 pm – Virtual CLE by the WBASNY Children’s Rights Committee  on “Assigned Counsel and the Indigent Legal Representation Crisis.”
URL:https://www.wbasny.org/event/cle-assigned-counsel-and-the-indigent-legal-representation-crisis/
END:VEVENT
BEGIN:VEVENT
DTSTART;TZID=America/New_York:20221027T173000
DTEND;TZID=America/New_York:20221027T190000
DTSTAMP:20260421T002534
CREATED:20220926T160225Z
LAST-MODIFIED:20220926T160615Z
UID:63032-1666891800-1666897200@www.wbasny.org
SUMMARY:Book Club: Cant Even: How Millennials Became the Burnout Generation by Anne Helen Petersen
DESCRIPTION:RSVP Gabrielle Markle by October 24
URL:https://www.wbasny.org/event/book-club-cant-even-how-millennials-became-the-burnout-generation-by-anne-helen-petersen/
ORGANIZER;CN="Western New York Women's Bar Association":MAILTO:wbasnywny@gmail.com
END:VEVENT
BEGIN:VEVENT
DTSTART;TZID=America/New_York:20221027T080000
DTEND;TZID=America/New_York:20221027T170000
DTSTAMP:20260421T002534
CREATED:20220913T154629Z
LAST-MODIFIED:20220913T154629Z
UID:62729-1666857600-1666890000@www.wbasny.org
SUMMARY:The Festival of Lights
DESCRIPTION:Queens Chapter
URL:https://www.wbasny.org/event/the-festival-of-lights/
END:VEVENT
BEGIN:VEVENT
DTSTART;TZID=America/New_York:20221027T080000
DTEND;TZID=America/New_York:20221027T090000
DTSTAMP:20260421T002534
CREATED:20221011T143859Z
LAST-MODIFIED:20221011T143950Z
UID:63460-1666857600-1666861200@www.wbasny.org
SUMMARY:Domestic Violence Awareness Month Coffee Hour
DESCRIPTION:Western New York Chapter \n \n \nRAHAMA – https://a.co/8m1mfrh\nHaven House- https://cfsbny.org/support-our-work/wish-list/\nFamily Justice Center- https://a.co/2QX7lQf
URL:https://www.wbasny.org/event/domestic-violence-awareness-month-coffee-hour/
ORGANIZER;CN="Western New York Women's Bar Association":MAILTO:wbasnywny@gmail.com
END:VEVENT
BEGIN:VEVENT
DTSTART;TZID=America/New_York:20221026T180000
DTEND;TZID=America/New_York:20221026T210000
DTSTAMP:20260421T002534
CREATED:20220928T194414Z
LAST-MODIFIED:20220928T194443Z
UID:63129-1666807200-1666818000@www.wbasny.org
SUMMARY:Inaugural Hon. Sylvia Hinds-Radix Law School Scholarship
DESCRIPTION:Brooklyn Chapter \n \n \nREGISTER TO ATTEND and DONATE HERE
URL:https://www.wbasny.org/event/inaugural-hon-sylvia-hinds-radix-law-school-scholarship/
END:VEVENT
BEGIN:VEVENT
DTSTART;TZID=America/New_York:20221026T130000
DTEND;TZID=America/New_York:20221026T140000
DTSTAMP:20260421T002534
CREATED:20221005T141820Z
LAST-MODIFIED:20221005T141820Z
UID:63350-1666789200-1666792800@www.wbasny.org
SUMMARY:CLE- Representing Victims of Revenge Pornography
DESCRIPTION:
URL:https://www.wbasny.org/event/cle-representing-victims-of-revenge-pornography/
END:VEVENT
BEGIN:VEVENT
DTSTART;TZID=America/New_York:20221026T123000
DTEND;TZID=America/New_York:20221026T140000
DTSTAMP:20260421T002534
CREATED:20220310T154244Z
LAST-MODIFIED:20220310T154244Z
UID:60091-1666787400-1666792800@www.wbasny.org
SUMMARY:What Would You Do?
DESCRIPTION:WEDNESDAY\, OCTOBER 26\, 2022: 12:30-2:00 PM AND\nWEDNESDAY\, NOVEMBER 2\, 2022: 12:30-2:00 PM\nWHAT WOULD YOU DO?\nPresenters \nDr. Shannon Carey\, NPC Research \nHelen Harberts\, M.A.\, J.D. \nHon. Diane Bull\, (ret). Harris County\, Texas \nThe intersection of child welfare and Substance Use Disorder\, whether rural\, suburban or urban may mean working with persons who are high risk/high need. This population can be challenging to work with. They require different approaches and skills. \nThis multi part class trains teams and service providers to use behavior modification skills via incentives\, sanctions\, and therapeutic responses in a highly effective manner. The classes are focused on research\, role clarification\, staffing and team approaches to challenging behaviors in cases. Videos show how to discuss cases and how to execute the plan in a Court setting. This is a class designed to make outcomes improve. \nAttendees will learn research\, approaches\, and practice skills necessary to transfer the theory into practice. Interactive\, engaging and skill focused\, attendees will come away with tools to use every day. Videos\, polls and interactive exercises reduce the zoom fatigue. \n—————————————————————————————————-
URL:https://www.wbasny.org/event/what-would-you-do/
END:VEVENT
BEGIN:VEVENT
DTSTART;TZID=America/New_York:20221026T090000
DTEND;TZID=America/New_York:20221026T100000
DTSTAMP:20260421T002534
CREATED:20220928T210949Z
LAST-MODIFIED:20220928T210949Z
UID:63139-1666774800-1666778400@www.wbasny.org
SUMMARY:Books and Bagels
DESCRIPTION:Suffolk Chapter
URL:https://www.wbasny.org/event/books-and-bagels/
END:VEVENT
BEGIN:VEVENT
DTSTART;TZID=America/New_York:20221025T130000
DTEND;TZID=America/New_York:20221025T140000
DTSTAMP:20260421T002534
CREATED:20220912T162733Z
LAST-MODIFIED:20221020T210656Z
UID:62617-1666702800-1666706400@www.wbasny.org
SUMMARY:Virtual Wellness Program
DESCRIPTION:Virtual Wellness Program      \nPRESENTED BY \nTHE MAURER FOUNDATION \n  \nOCTOBER 25\, 2022 \n1:00 PM ZOOM \n  \n  \nMeeting URL: Join Zoom Meeting \nhttps://us02web.zoom.us/j/82449400760 \n  \nMeeting ID: 824 4940 0760         \nPasscode: 384971
URL:https://www.wbasny.org/event/virtual-wellness-program/
END:VEVENT
BEGIN:VEVENT
DTSTART;TZID=America/New_York:20221025T130000
DTEND;TZID=America/New_York:20221025T140000
DTSTAMP:20260421T002534
CREATED:20220909T161351Z
LAST-MODIFIED:20220909T161351Z
UID:62525-1666702800-1666706400@www.wbasny.org
SUMMARY:CLE-Beyond Google: How to Utilize Free Internet Resources for Your New York and Federal Legal Research
DESCRIPTION:October 25\, 2022 at 1:00 pm – virtual free CLE presented by the Hon. James L. Hyer\, JSC and 9th Judicial District Principal Librarian Zoya Golban “Beyond Google: How to Utilize Free Internet Resources for Your New York and Federal Legal Research” – one (1) law practice management credit
URL:https://www.wbasny.org/event/cle-beyond-google-how-to-utilize-free-internet-resources-for-your-new-york-and-federal-legal-research/
END:VEVENT
BEGIN:VEVENT
DTSTART;TZID=America/New_York:20221023T080000
DTEND;TZID=America/New_York:20221023T120000
DTSTAMP:20260421T002534
CREATED:20220926T152904Z
LAST-MODIFIED:20220926T152904Z
UID:63027-1666512000-1666526400@www.wbasny.org
SUMMARY:Making Strides Against Breast Cancer Walk
DESCRIPTION:Bronx Chapter \n \nBxWBA TEAM “Making Strides Against Breast Cancer Walk” as we partner with the American Cancer Society\nOctober 23\, 2022\, 8:00 a.m. to 12:00 p.m. Bay Plaza Shopping Center.
URL:https://www.wbasny.org/event/making-strides-against-breast-cancer-walk/
END:VEVENT
BEGIN:VEVENT
DTSTART;TZID=America/New_York:20221022T100000
DTEND;TZID=America/New_York:20221022T160000
DTSTAMP:20260421T002534
CREATED:20220829T175252Z
LAST-MODIFIED:20220829T175252Z
UID:61960-1666432800-1666454400@www.wbasny.org
SUMMARY:Buffalo Rising: Remembering the Past to Build a Stronger Community
DESCRIPTION:The Franklin H. Williams Judicial Commission presents \nBuffalo Rising: \nRemembering the Past to Build a Stronger Community  \nSaturday\, October 22\, 2022\, from 10:00AM-4:00PM \nLocation:  Theodore Roosevelt Inaugural Site \n641 Delaware Avenue\, Buffalo\, New York \n(Limited In-Person Viewing and Virtual Options) \nCLE Credits will be offered \nFor more details\, please see the flyer below. \nCLICK HERE TO REGISTER FOR THE PROGRAM
URL:https://www.wbasny.org/event/buffalo-rising-remembering-the-past-to-build-a-stronger-community/
ORGANIZER;CN="Western New York Women's Bar Association":MAILTO:wbasnywny@gmail.com
END:VEVENT
BEGIN:VEVENT
DTSTART;TZID=America/New_York:20221021T083000
DTEND;TZID=America/New_York:20221023T180000
DTSTAMP:20260421T002534
CREATED:20220823T160850Z
LAST-MODIFIED:20220823T160850Z
UID:61576-1666341000-1666548000@www.wbasny.org
SUMMARY:CLE-24 Hour Basic Mediation Training
DESCRIPTION:
URL:https://www.wbasny.org/event/cle-24-hour-basic-mediation-training/
END:VEVENT
BEGIN:VEVENT
DTSTART;TZID=America/New_York:20221020T180000
DTEND;TZID=America/New_York:20221020T200000
DTSTAMP:20260421T002534
CREATED:20221014T163332Z
LAST-MODIFIED:20221014T163332Z
UID:63513-1666288800-1666296000@www.wbasny.org
SUMMARY:RCBA Annual Dinner
DESCRIPTION:
URL:https://www.wbasny.org/event/rcba-annual-dinner/
END:VEVENT
BEGIN:VEVENT
DTSTART;TZID=America/New_York:20221020T180000
DTEND;TZID=America/New_York:20221020T200000
DTSTAMP:20260421T002534
CREATED:20220823T160629Z
LAST-MODIFIED:20220824T194509Z
UID:61574-1666288800-1666296000@www.wbasny.org
SUMMARY:Legacy Project: Our Stories\, Our Voices
DESCRIPTION:New York\n \nTHE NYWBA LEGACY PROJECT: OUR STORIES\, OUR VOICES \nInvites you to a \nRECEPTION and SPECIAL SCREENING OF THE\nFIRST SET OF LEGACY PROJECT FILMS\nABOUT NYWBA’S FOUNDERS AND HISTORY \n\n\n\nDate:\nOctober 20\, 2022\n\n\nTime:\n6:00 pm – 8:00 pm\n\n\nLocation:\nTarter Krinsky & Drogin LLP \n1350 Broadway\, Floor 11\, New York\, NY 10018\n\n\nTickets:\nFree – Limit: 70 people\n\n\nInfo:\nIf you have any questions\, please contact Legacy Project Chairs Fran Hoffinger or Julie Hyman at legacychairs@nywba.org. The NYWBA Legacy Project preserves the history of our NYWBA founders and members and inspires a new generation to contribute positively to the legal profession and our community. For more information\, please visit www.nywba.org.\n\n\nRSVP:\nRSVP BY OCTOBER 6\, 2022 to legacychairs@nywba.org.
URL:https://www.wbasny.org/event/the-nywba-legacy-progect-our-stories-our-voices/
END:VEVENT
BEGIN:VEVENT
DTSTART;TZID=America/New_York:20221020T080000
DTEND;TZID=America/New_York:20221020T170000
DTSTAMP:20260421T002534
CREATED:20220919T163047Z
LAST-MODIFIED:20220919T163047Z
UID:62874-1666252800-1666285200@www.wbasny.org
SUMMARY:CLE-Clues About the Blues:The Mental Health of Children in Custody Battles
DESCRIPTION:
URL:https://www.wbasny.org/event/cle-clues-about-the-bluesthe-mental-health-of-children-in-custody-battles/
END:VEVENT
BEGIN:VEVENT
DTSTART;TZID=America/New_York:20221019T180000
DTEND;TZID=America/New_York:20221019T210000
DTSTAMP:20260421T002534
CREATED:20221005T142141Z
LAST-MODIFIED:20221005T142141Z
UID:63353-1666202400-1666213200@www.wbasny.org
SUMMARY:The Pornography Crisis and How it Leads to Domestic Violence
DESCRIPTION:
URL:https://www.wbasny.org/event/the-pornography-crisis-and-how-it-leads-to-domestic-violence/
END:VEVENT
BEGIN:VEVENT
DTSTART;TZID=America/New_York:20221019T100000
DTEND;TZID=America/New_York:20221019T160000
DTSTAMP:20260421T002534
CREATED:20220909T161100Z
LAST-MODIFIED:20220909T161100Z
UID:62523-1666173600-1666195200@www.wbasny.org
SUMMARY:The 2nd Immigrant's Rights Symposium of the 9th Judicial District Access to Justice Committee
DESCRIPTION:October 19\, 2022\, from 10:00 am to 4:00 pm\, The 2nd Immigrant’s Rights Symposium of the 9th Judicial District Access to Justice Committee\, both in-person in the ceremonial courtroom of the Westchester County Courthouse and virtually. This program will be offered free of charge\, with CLEs being provided to participants from the Westchester County Bar Association (no WCBA membership required).
URL:https://www.wbasny.org/event/the-2nd-immigrants-rights-symposium-of-the-9th-judicial-district-access-to-justice-committee/
END:VEVENT
BEGIN:VEVENT
DTSTART;TZID=America/New_York:20221019T080000
DTEND;TZID=America/New_York:20221019T170000
DTSTAMP:20260421T002534
CREATED:20221010T145647Z
LAST-MODIFIED:20221010T145647Z
UID:63446-1666166400-1666198800@www.wbasny.org
SUMMARY:Del-Chen-O Lunch with Hon. Frank Revoir
DESCRIPTION:Hon. Frank Revoir \nCounty Family\, Surrogates Court (Chenango)
URL:https://www.wbasny.org/event/del-chen-o-lunch-with-hon-frank-revoir/
END:VEVENT
BEGIN:VEVENT
DTSTART;TZID=America/New_York:20221018T183000
DTEND;TZID=America/New_York:20221018T193000
DTSTAMP:20260421T002534
CREATED:20220829T165721Z
LAST-MODIFIED:20220829T165721Z
UID:61946-1666117800-1666121400@www.wbasny.org
SUMMARY:Tips for Rising Above Burnout
DESCRIPTION:Tips for Rising Above Burnout\nOctober 18\, 2022\n\n\nThe Students & New Lawyers Committee presents: \n  \nTips for Rising Above Burnout \n  \nSpeaker: Dr. Stephanie Raducha Brown\, PhD \nLicensed Clinical Psychologist\nJoin us for a discussion of how to manage the stresses of being a new attorney as well as how to push your performance to the next level. \n  \nOctober 18\, 2022\, 6:30 p.m.\nby Zoom \nClick here for more info and to RSVP
URL:https://www.wbasny.org/event/tips-for-rising-above-burnout/
END:VEVENT
BEGIN:VEVENT
DTSTART;TZID=America/New_York:20221018T130000
DTEND;TZID=America/New_York:20221018T140000
DTSTAMP:20260421T002534
CREATED:20221006T195800Z
LAST-MODIFIED:20221006T195800Z
UID:63438-1666098000-1666101600@www.wbasny.org
SUMMARY:Lunch with Hon. Lara J. Genovesi
DESCRIPTION:Brooklyn Chapter \n \n \n 
URL:https://www.wbasny.org/event/lunch-with-hon-lara-j-genovesi/
END:VEVENT
BEGIN:VEVENT
DTSTART;TZID=America/New_York:20221018T130000
DTEND;TZID=America/New_York:20221018T140000
DTSTAMP:20260421T002534
CREATED:20220926T152659Z
LAST-MODIFIED:20220926T152659Z
UID:63025-1666098000-1666101600@www.wbasny.org
SUMMARY:Lunch with Hon. Margaret Clancy
DESCRIPTION:Bronx Chapter \n \nBxWBA “Lunch with a Judge Series: Honorable Margaret Clancy.” October 18\, 2022. 1-2 p.m. Virtual
URL:https://www.wbasny.org/event/lunch-with-hon-margaret-clancy/
END:VEVENT
BEGIN:VEVENT
DTSTART;TZID=America/New_York:20221018T130000
DTEND;TZID=America/New_York:20221018T140000
DTSTAMP:20260421T002534
CREATED:20220909T155329Z
LAST-MODIFIED:20220909T155329Z
UID:62521-1666098000-1666101600@www.wbasny.org
SUMMARY:CLE-Law Library E-Resources and Remote Services
DESCRIPTION:October 18\, 2022\, at 1:00 p.m. – virtual free CLE presented by the Hon. James L. Hyer\, JSC and 9th Judicial District Principal Librarian Zoya Golban on “Law Library E-Resources & Remote Services” – one (1) law practice management credit
URL:https://www.wbasny.org/event/cle-law-library-e-resources-and-remote-services/
END:VEVENT
BEGIN:VEVENT
DTSTART;TZID=America/New_York:20221017T180000
DTEND;TZID=America/New_York:20221017T210000
DTSTAMP:20260421T002534
CREATED:20220826T144608Z
LAST-MODIFIED:20220826T144608Z
UID:61870-1666029600-1666040400@www.wbasny.org
SUMMARY:Officers Meeting
DESCRIPTION:Officers Meeting
URL:https://www.wbasny.org/event/officers-meeting-16/
ORGANIZER;CN="WBASNY":MAILTO:events@wbasny.org
END:VEVENT
END:VCALENDAR