BEGIN:VCALENDAR
VERSION:2.0
PRODID:-//wbasny - ECPv6.15.20//NONSGML v1.0//EN
CALSCALE:GREGORIAN
METHOD:PUBLISH
X-WR-CALNAME:wbasny
X-ORIGINAL-URL:https://www.wbasny.org
X-WR-CALDESC:Events for wbasny
REFRESH-INTERVAL;VALUE=DURATION:PT1H
X-Robots-Tag:noindex
X-PUBLISHED-TTL:PT1H
BEGIN:VTIMEZONE
TZID:UTC
BEGIN:STANDARD
TZOFFSETFROM:+0000
TZOFFSETTO:+0000
TZNAME:UTC
DTSTART:20190101T000000
END:STANDARD
END:VTIMEZONE
BEGIN:VTIMEZONE
TZID:America/New_York
BEGIN:DAYLIGHT
TZOFFSETFROM:-0500
TZOFFSETTO:-0400
TZNAME:EDT
DTSTART:20190310T070000
END:DAYLIGHT
BEGIN:STANDARD
TZOFFSETFROM:-0400
TZOFFSETTO:-0500
TZNAME:EST
DTSTART:20191103T060000
END:STANDARD
BEGIN:DAYLIGHT
TZOFFSETFROM:-0500
TZOFFSETTO:-0400
TZNAME:EDT
DTSTART:20200308T070000
END:DAYLIGHT
BEGIN:STANDARD
TZOFFSETFROM:-0400
TZOFFSETTO:-0500
TZNAME:EST
DTSTART:20201101T060000
END:STANDARD
BEGIN:DAYLIGHT
TZOFFSETFROM:-0500
TZOFFSETTO:-0400
TZNAME:EDT
DTSTART:20210314T070000
END:DAYLIGHT
BEGIN:STANDARD
TZOFFSETFROM:-0400
TZOFFSETTO:-0500
TZNAME:EST
DTSTART:20211107T060000
END:STANDARD
END:VTIMEZONE
BEGIN:VEVENT
DTSTART;TZID=UTC:20200125T100000
DTEND;TZID=UTC:20200125T150000
DTSTAMP:20260425T185340
CREATED:20190522T194546Z
LAST-MODIFIED:20190603T221657Z
UID:46348-1579946400-1579964400@www.wbasny.org
SUMMARY:Board of Directors Meeting
DESCRIPTION:WBASNY \n 
URL:https://www.wbasny.org/event/board-of-directors-meeting-11/
LOCATION:Columbia University Law School\, 435 West 116th Street\, New York\, NY\, 10027
ORGANIZER;CN="WBASNY":MAILTO:events@wbasny.org
END:VEVENT
BEGIN:VEVENT
DTSTART;TZID=America/New_York:20200127T180000
DTEND;TZID=America/New_York:20200127T210000
DTSTAMP:20260425T185340
CREATED:20200124T155740Z
LAST-MODIFIED:20200124T155741Z
UID:49890-1580148000-1580158800@www.wbasny.org
SUMMARY:Honorable Harold Baer Jr. Award Reception
DESCRIPTION:Queens County Chapter
URL:https://www.wbasny.org/event/honorable-harold-baer-jr-award-reception/
LOCATION:Daniel Patrick Moynihan United States Courthouse\, 500 Pearl Street\, New York\, NY\, 10007\, United States
END:VEVENT
BEGIN:VEVENT
DTSTART;TZID=America/New_York:20200128T173000
DTEND;TZID=America/New_York:20200128T190000
DTSTAMP:20260425T185340
CREATED:20200116T202654Z
LAST-MODIFIED:20200116T202654Z
UID:49742-1580232600-1580238000@www.wbasny.org
SUMMARY:Meeting and Celebration
DESCRIPTION:Del-Chen-O Chapter \nDel-Chen-O Meeting and Celebration  \nJanuary 28\, 2020 at 5:30 pm \nMain Street Grill & Bakery\n174 Main St\, Afton\, NY 13730 \nPlease join us for a meeting and a celebration of the New Year and decade 2020! We will learn how to make a few cocktails\, and as always\, there will be plenty of time to connect with each other and catch up on new business. \nDelicious Main street Bakery and Grill appetizers will be available. \nCost per person $35 for members and $40 for nonmembers (join that day get a discount) \nPlease send RSVP and check to:\nLarisa Obolensky\nAttorney-at-law\nP.O. Box 494\nDelhi\, New York 13753
URL:https://www.wbasny.org/event/meeting-and-celebration/
LOCATION:Main Street Grill & Bakery\, 174 Main Street\, Afton\, NY\, 13730
END:VEVENT
BEGIN:VEVENT
DTSTART;TZID=America/New_York:20200129T121500
DTEND;TZID=America/New_York:20200129T131500
DTSTAMP:20260425T185340
CREATED:20200110T165707Z
LAST-MODIFIED:20200110T165843Z
UID:49730-1580300100-1580303700@www.wbasny.org
SUMMARY:CLE - LGBT Litigation in the United States Supreme Court
DESCRIPTION:Mid-Hudson Chapter \n 
URL:https://www.wbasny.org/event/cle-lgbt-litigation-in-the-united-states-supreme-court/
LOCATION:Farmers and Chefs Restaurant\, 40 Albany Street\, Poughkeepsie\, NY\, 12601
END:VEVENT
BEGIN:VEVENT
DTSTART;TZID=America/New_York:20200129T180000
DTEND;TZID=America/New_York:20200129T210000
DTSTAMP:20260425T185340
CREATED:20200102T225321Z
LAST-MODIFIED:20200102T225322Z
UID:49627-1580320800-1580331600@www.wbasny.org
SUMMARY:A Special Martin Luther King Jr. Day Tribute
DESCRIPTION:Queens County Chapter
URL:https://www.wbasny.org/event/a-special-martin-luther-king-jr-day-tribute/
LOCATION:Queens Civil Court\, 89-17 Sutphin Boulevard- Central Jury Room\, Queens\, NY\, 11435
END:VEVENT
BEGIN:VEVENT
DTSTART;TZID=America/New_York:20200130T080000
DTEND;TZID=America/New_York:20200130T163000
DTSTAMP:20260425T185340
CREATED:20191216T224211Z
LAST-MODIFIED:20191216T224212Z
UID:49526-1580371200-1580401800@www.wbasny.org
SUMMARY:Woman Up The Brain & Movement 2020
DESCRIPTION:Western New York Chapter
URL:https://www.wbasny.org/event/woman-up-the-brain-movement-2020/
LOCATION:500 Pearl Street
ORGANIZER;CN="Western New York Women's Bar Association":MAILTO:wbasnywny@gmail.com
END:VEVENT
BEGIN:VEVENT
DTSTART;TZID=America/New_York:20200130T180000
DTEND;TZID=America/New_York:20200130T210000
DTSTAMP:20260425T185340
CREATED:20191213T153755Z
LAST-MODIFIED:20191213T153839Z
UID:49501-1580407200-1580418000@www.wbasny.org
SUMMARY:Time to Celebrate
DESCRIPTION:Suffolk County
URL:https://www.wbasny.org/event/time-to-celebrate/
LOCATION:Hotel Indigo\, East End\, 1830 West Main Street\, Rt. 25\, Riverhead\, NY\, 11901
END:VEVENT
BEGIN:VEVENT
DTSTART;TZID=America/New_York:20200130T193000
DTEND;TZID=America/New_York:20200130T223000
DTSTAMP:20260425T185340
CREATED:20200127T180557Z
LAST-MODIFIED:20200127T180649Z
UID:49913-1580412600-1580423400@www.wbasny.org
SUMMARY:Equal. Strong. Anniversary. Suffrage. Rochester.
DESCRIPTION:Greater Rochester Chapter
URL:https://www.wbasny.org/event/equal-strong-anniversary-suffrage-rochester/
LOCATION:255 East Avenue\, 255 East Avenue\, Suite LL02\, Rochester\, NY\, 14604
END:VEVENT
BEGIN:VEVENT
DTSTART;TZID=America/New_York:20200201T010000
DTEND;TZID=America/New_York:20200201T140000
DTSTAMP:20260425T185340
CREATED:20191213T154507Z
LAST-MODIFIED:20191213T154521Z
UID:49507-1580518800-1580565600@www.wbasny.org
SUMMARY:Mindfulness and Stress Relief Class with Women's Health Committee
DESCRIPTION:Greater Rochester Chapter
URL:https://www.wbasny.org/event/mindfulness-and-stress-relief-class-with-womens-health-committee/
LOCATION:Midtown Athletic Club\, 200 East Highland Drive\, Rochester\, NY\, 14610
END:VEVENT
BEGIN:VEVENT
DTSTART;TZID=America/New_York:20200201T200000
DTEND;TZID=America/New_York:20200201T230000
DTSTAMP:20260425T185340
CREATED:20200131T153636Z
LAST-MODIFIED:20200131T153636Z
UID:49995-1580587200-1580598000@www.wbasny.org
SUMMARY:Equal. Strong. Anniversary. Suffrage. Rochester.
DESCRIPTION:Rochester Chapter
URL:https://www.wbasny.org/event/equal-strong-anniversary-suffrage-rochester-2/
LOCATION:255 East Avenue\, 255 East Avenue\, Suite LL02\, Rochester\, NY\, 14604
END:VEVENT
BEGIN:VEVENT
DTSTART;TZID=America/New_York:20200202T173000
DTEND;TZID=America/New_York:20200202T190000
DTSTAMP:20260425T185340
CREATED:20191209T185632Z
LAST-MODIFIED:20191209T185634Z
UID:49467-1580664600-1580670000@www.wbasny.org
SUMMARY:Diverse Voices Series Book Club
DESCRIPTION:Western New York Chapter
URL:https://www.wbasny.org/event/diverse-voices-series-book-club/
LOCATION:Coco Bar and Bistro\, 888 Main Street\, Buffalo\, NY\, 14202\, United States
ORGANIZER;CN="Western New York Women's Bar Association":MAILTO:wbasnywny@gmail.com
END:VEVENT
BEGIN:VEVENT
DTSTART;TZID=America/New_York:20200204T080000
DTEND;TZID=America/New_York:20200204T090000
DTSTAMP:20260425T185340
CREATED:20200120T211551Z
LAST-MODIFIED:20200120T211551Z
UID:49788-1580803200-1580806800@www.wbasny.org
SUMMARY:Breakfast Club Round Table
DESCRIPTION:Queens County Chapter
URL:https://www.wbasny.org/event/breakfast-club-round-table-4/
LOCATION:80-02 Kew Gardens\, 80-02 Kew Gardens\, Suite 600\, Kew Gardens\, NY\, 11415
END:VEVENT
BEGIN:VEVENT
DTSTART;TZID=America/New_York:20200204T183000
DTEND;TZID=America/New_York:20200204T213000
DTSTAMP:20260425T185340
CREATED:20200122T223049Z
LAST-MODIFIED:20200122T223051Z
UID:49846-1580841000-1580851800@www.wbasny.org
SUMMARY:Strategies to Maximize Retirement Income
DESCRIPTION:Suffolk County
URL:https://www.wbasny.org/event/strategies-to-maximize-retirement-income/
LOCATION:520 Broadhollow Road\, 520 Broadhollow Road\, Melville\, New York\, 11747
END:VEVENT
BEGIN:VEVENT
DTSTART;TZID=America/New_York:20200205T123000
DTEND;TZID=America/New_York:20200205T153000
DTSTAMP:20260425T185340
CREATED:20200120T212204Z
LAST-MODIFIED:20200120T212205Z
UID:49795-1580905800-1580916600@www.wbasny.org
SUMMARY:Networking Luncheon
DESCRIPTION:Suffolk Chapter
URL:https://www.wbasny.org/event/networking-luncheon-6/
LOCATION:Irish Coffee Pub\, 131 Carleton Avenue\, East Islip\, NY
END:VEVENT
BEGIN:VEVENT
DTSTART;TZID=America/New_York:20200205T173000
DTEND;TZID=America/New_York:20200205T190000
DTSTAMP:20260425T185340
CREATED:20190930T213555Z
LAST-MODIFIED:20190930T213601Z
UID:48330-1580923800-1580929200@www.wbasny.org
SUMMARY:Diverse Voices Series - American Spy By Lauren Wilkins
DESCRIPTION:Western New York Chapter
URL:https://www.wbasny.org/event/diverse-voices-series-american-spy-by-lauren-wilkins/
LOCATION:Coco Bar and Bistro\, 888 Main Street\, Buffalo\, NY\, 14202\, United States
ORGANIZER;CN="Western New York Women's Bar Association":MAILTO:wbasnywny@gmail.com
END:VEVENT
BEGIN:VEVENT
DTSTART;TZID=America/New_York:20200205T183000
DTEND;TZID=America/New_York:20200205T213000
DTSTAMP:20260425T185340
CREATED:20200120T221919Z
LAST-MODIFIED:20200120T231238Z
UID:49826-1580927400-1580938200@www.wbasny.org
SUMMARY:Mineola Fit Body Boot Camp Classes
DESCRIPTION:Nassau Chapter \nb
URL:https://www.wbasny.org/event/mineola-fit-body-boot-camp-classes/
LOCATION:Mineola Fit Body Boot Camp\, 135 Mineola Boulevard\, Mineola\, New York\, 11501
END:VEVENT
BEGIN:VEVENT
DTSTART;TZID=America/New_York:20200206T120000
DTEND;TZID=America/New_York:20200206T150000
DTSTAMP:20260425T185340
CREATED:20200124T151753Z
LAST-MODIFIED:20200206T193128Z
UID:49868-1580990400-1581001200@www.wbasny.org
SUMMARY:Lunch With Judge Sandra Sciortino
DESCRIPTION:Orange-Sullivan Chapter
URL:https://www.wbasny.org/event/lunch-with-judge-sandra-sciortino/
LOCATION:Delancey’s Goshen
END:VEVENT
BEGIN:VEVENT
DTSTART;TZID=America/New_York:20200206T180000
DTEND;TZID=America/New_York:20200206T210000
DTSTAMP:20260425T185340
CREATED:20200124T152750Z
LAST-MODIFIED:20200124T152854Z
UID:49876-1581012000-1581022800@www.wbasny.org
SUMMARY:Annual Judiciary Night Celebration
DESCRIPTION:Brooklyn Chapter
URL:https://www.wbasny.org/event/annual-judiciary-night-celebration/
LOCATION:123 Remsen Street\, 123 Remsen Street\, Brooklyn\, NY
END:VEVENT
BEGIN:VEVENT
DTSTART;TZID=America/New_York:20200206T193000
DTEND;TZID=America/New_York:20200206T223000
DTSTAMP:20260425T185340
CREATED:20200131T153911Z
LAST-MODIFIED:20200131T153951Z
UID:49998-1581017400-1581028200@www.wbasny.org
SUMMARY:Equal. Strong. Anniversary. Suffrage. Rochester.
DESCRIPTION:Rochester Chapter
URL:https://www.wbasny.org/event/equal-strong-anniversary-suffrage-rochester-3/
LOCATION:255 East Avenue\, 255 East Avenue\, Suite LL02\, Rochester\, NY\, 14604
END:VEVENT
BEGIN:VEVENT
DTSTART;TZID=America/New_York:20200207T120000
DTEND;TZID=America/New_York:20200207T131500
DTSTAMP:20260425T185340
CREATED:20200203T171922Z
LAST-MODIFIED:20200203T171922Z
UID:50014-1581076800-1581081300@www.wbasny.org
SUMMARY:NAWA Luncheon With Hon. Ann Pfeiffer
DESCRIPTION:Greater Rochester Chapter
URL:https://www.wbasny.org/event/nawa-luncheon-with-hon-ann-pfeiffer/
LOCATION:The Powers Building\, 8th Floor Conference Room\, 16 West Main Street\, Rochester\, NY\, 14614
END:VEVENT
BEGIN:VEVENT
DTSTART;TZID=America/New_York:20200207T120000
DTEND;TZID=America/New_York:20200207T140000
DTSTAMP:20260425T185340
CREATED:20200203T172628Z
LAST-MODIFIED:20200203T172639Z
UID:50018-1581076800-1581084000@www.wbasny.org
SUMMARY:Black History Month: Letitia A. James\, Attorney Presents: "African Americans and the Vote"
DESCRIPTION:Western New York Chapter
URL:https://www.wbasny.org/event/black-history-month-letitia-a-james-attorney-presents-african-americans-and-the-vote/
LOCATION:Erie County Ceremonial Courtroom\, 92 Franklin Street\, Second Floor\, Buffalo\, NY\, 14202
ORGANIZER;CN="Western New York Women's Bar Association":MAILTO:wbasnywny@gmail.com
END:VEVENT
BEGIN:VEVENT
DTSTART;TZID=America/New_York:20200208T180000
DTEND;TZID=America/New_York:20200208T190000
DTSTAMP:20260425T185340
CREATED:20200127T181531Z
LAST-MODIFIED:20200127T181533Z
UID:49920-1581184800-1581188400@www.wbasny.org
SUMMARY:2020 Celebration
DESCRIPTION:Greater Rochester Chapter
URL:https://www.wbasny.org/event/2020-celebration/
LOCATION:Eastman School of Music
END:VEVENT
BEGIN:VEVENT
DTSTART;TZID=America/New_York:20200208T200000
DTEND;TZID=America/New_York:20200208T230000
DTSTAMP:20260425T185340
CREATED:20200131T154335Z
LAST-MODIFIED:20200131T154335Z
UID:50001-1581192000-1581202800@www.wbasny.org
SUMMARY:Equal. Strong. Anniversary. Suffrage. Rochester.
DESCRIPTION:Rochester Chapter
URL:https://www.wbasny.org/event/equal-strong-anniversary-suffrage-rochester-4/
LOCATION:255 East Avenue\, 255 East Avenue\, Suite LL02\, Rochester\, NY\, 14604
END:VEVENT
BEGIN:VEVENT
DTSTART;TZID=America/New_York:20200211T123000
DTEND;TZID=America/New_York:20200211T153000
DTSTAMP:20260425T185340
CREATED:20200210T215210Z
LAST-MODIFIED:20200210T215210Z
UID:50072-1581424200-1581435000@www.wbasny.org
SUMMARY:Brown Bag Lunch With Honorable Christi J. Acker
DESCRIPTION:Mid-Hudson Chapter
URL:https://www.wbasny.org/event/brown-bag-lunch-with-honorable-christi-j-acker/
LOCATION:Dutchess County Supreme Court\, 10 Market Street\, Poughkeepsie\, NY\, 12016
END:VEVENT
BEGIN:VEVENT
DTSTART;TZID=America/New_York:20200211T161500
DTEND;TZID=America/New_York:20200211T190000
DTSTAMP:20260425T185340
CREATED:20200120T203927Z
LAST-MODIFIED:20200120T203928Z
UID:49759-1581437700-1581447600@www.wbasny.org
SUMMARY:The Suffrage Struggle In New York: And Why it Took So Long
DESCRIPTION:Greater Rochester Chapter
URL:https://www.wbasny.org/event/the-suffrage-struggle-in-new-york-and-why-it-took-so-long/
LOCATION:Nixon Peabody LLP\, 1300 Clinton Square\, Floor 14\, Rochester\, NY\, 14604
END:VEVENT
BEGIN:VEVENT
DTSTART;TZID=UTC:20200211T171500
DTEND;TZID=UTC:20200211T191500
DTSTAMP:20260425T185340
CREATED:20190522T194801Z
LAST-MODIFIED:20200206T232154Z
UID:46350-1581441300-1581448500@www.wbasny.org
SUMMARY:Officers Conference Call
DESCRIPTION:WBASNY
URL:https://www.wbasny.org/event/officers-conference-call-8/
LOCATION:Teleconference
ORGANIZER;CN="WBASNY":MAILTO:events@wbasny.org
END:VEVENT
BEGIN:VEVENT
DTSTART;TZID=America/New_York:20200213T080000
DTEND;TZID=America/New_York:20200213T170000
DTSTAMP:20260425T185340
CREATED:20200120T205813Z
LAST-MODIFIED:20200120T205814Z
UID:49771-1581580800-1581613200@www.wbasny.org
SUMMARY:Eleanor Oliphant is Completely Fine: A Novel\, by Gail Honeyman
DESCRIPTION:Orange- Sullivan Counties Chapter
URL:https://www.wbasny.org/event/eleanor-oliphant-is-completely-fine-a-novel-by-gail-honeyman/
LOCATION:Eat This Bakery\, 8 Union Street\, Montgomery\, New York
END:VEVENT
BEGIN:VEVENT
DTSTART;TZID=America/New_York:20200213T180000
DTEND;TZID=America/New_York:20200213T200000
DTSTAMP:20260425T185340
CREATED:20200117T232056Z
LAST-MODIFIED:20200117T232056Z
UID:49753-1581616800-1581624000@www.wbasny.org
SUMMARY:CLE - Professional Compensation in Surrogate's Court and Adult Guardianship
DESCRIPTION:
URL:https://www.wbasny.org/event/cle-professional-compensation-in-surrogates-court-and-adult-guardianship/
LOCATION:M & T Bank\, 12 White Plains Road\, 3rd Floor\, White Plains\, NY\, 10591
ORGANIZER;CN="Westchester Women's Bar Association":MAILTO:executivedirector@wwbany.org
END:VEVENT
BEGIN:VEVENT
DTSTART;TZID=America/New_York:20200214T130000
DTEND;TZID=America/New_York:20200214T140000
DTSTAMP:20260425T185340
CREATED:20200122T224304Z
LAST-MODIFIED:20200122T224305Z
UID:49860-1581685200-1581688800@www.wbasny.org
SUMMARY:All Digital: Digital Wills & Digital Assets
DESCRIPTION:Western New York Chapter
URL:https://www.wbasny.org/event/all-digital-digital-wills-digital-assets/
LOCATION:438 Main Street\, 438 Main Street\, Sun Room Auditorium
ORGANIZER;CN="Western New York Women's Bar Association":MAILTO:wbasnywny@gmail.com
END:VEVENT
BEGIN:VEVENT
DTSTART;TZID=America/New_York:20200218T173000
DTEND;TZID=America/New_York:20200218T203000
DTSTAMP:20260425T185340
CREATED:20200203T174016Z
LAST-MODIFIED:20200203T174016Z
UID:50024-1582047000-1582057800@www.wbasny.org
SUMMARY:Next Mentorship Meeting
DESCRIPTION:Orange-Sullivan Counties Chapter
URL:https://www.wbasny.org/event/next-mentorship-meeting/
LOCATION:Copper Bottom\, 162 N Main Street\, Florida\, New York
END:VEVENT
END:VCALENDAR