BEGIN:VCALENDAR
VERSION:2.0
PRODID:-//wbasny - ECPv6.15.20//NONSGML v1.0//EN
CALSCALE:GREGORIAN
METHOD:PUBLISH
X-WR-CALNAME:wbasny
X-ORIGINAL-URL:https://www.wbasny.org
X-WR-CALDESC:Events for wbasny
REFRESH-INTERVAL;VALUE=DURATION:PT1H
X-Robots-Tag:noindex
X-PUBLISHED-TTL:PT1H
BEGIN:VTIMEZONE
TZID:America/New_York
BEGIN:DAYLIGHT
TZOFFSETFROM:-0500
TZOFFSETTO:-0400
TZNAME:EDT
DTSTART:20190310T070000
END:DAYLIGHT
BEGIN:STANDARD
TZOFFSETFROM:-0400
TZOFFSETTO:-0500
TZNAME:EST
DTSTART:20191103T060000
END:STANDARD
BEGIN:DAYLIGHT
TZOFFSETFROM:-0500
TZOFFSETTO:-0400
TZNAME:EDT
DTSTART:20200308T070000
END:DAYLIGHT
BEGIN:STANDARD
TZOFFSETFROM:-0400
TZOFFSETTO:-0500
TZNAME:EST
DTSTART:20201101T060000
END:STANDARD
BEGIN:DAYLIGHT
TZOFFSETFROM:-0500
TZOFFSETTO:-0400
TZNAME:EDT
DTSTART:20210314T070000
END:DAYLIGHT
BEGIN:STANDARD
TZOFFSETFROM:-0400
TZOFFSETTO:-0500
TZNAME:EST
DTSTART:20211107T060000
END:STANDARD
END:VTIMEZONE
BEGIN:VTIMEZONE
TZID:UTC
BEGIN:STANDARD
TZOFFSETFROM:+0000
TZOFFSETTO:+0000
TZNAME:UTC
DTSTART:20190101T000000
END:STANDARD
END:VTIMEZONE
BEGIN:VEVENT
DTSTART;TZID=America/New_York:20200208T180000
DTEND;TZID=America/New_York:20200208T190000
DTSTAMP:20260425T123509
CREATED:20200127T181531Z
LAST-MODIFIED:20200127T181533Z
UID:49920-1581184800-1581188400@www.wbasny.org
SUMMARY:2020 Celebration
DESCRIPTION:Greater Rochester Chapter
URL:https://www.wbasny.org/event/2020-celebration/
LOCATION:Eastman School of Music
END:VEVENT
BEGIN:VEVENT
DTSTART;TZID=America/New_York:20200208T200000
DTEND;TZID=America/New_York:20200208T230000
DTSTAMP:20260425T123509
CREATED:20200131T154335Z
LAST-MODIFIED:20200131T154335Z
UID:50001-1581192000-1581202800@www.wbasny.org
SUMMARY:Equal. Strong. Anniversary. Suffrage. Rochester.
DESCRIPTION:Rochester Chapter
URL:https://www.wbasny.org/event/equal-strong-anniversary-suffrage-rochester-4/
LOCATION:255 East Avenue\, 255 East Avenue\, Suite LL02\, Rochester\, NY\, 14604
END:VEVENT
BEGIN:VEVENT
DTSTART;TZID=America/New_York:20200211T123000
DTEND;TZID=America/New_York:20200211T153000
DTSTAMP:20260425T123509
CREATED:20200210T215210Z
LAST-MODIFIED:20200210T215210Z
UID:50072-1581424200-1581435000@www.wbasny.org
SUMMARY:Brown Bag Lunch With Honorable Christi J. Acker
DESCRIPTION:Mid-Hudson Chapter
URL:https://www.wbasny.org/event/brown-bag-lunch-with-honorable-christi-j-acker/
LOCATION:Dutchess County Supreme Court\, 10 Market Street\, Poughkeepsie\, NY\, 12016
END:VEVENT
BEGIN:VEVENT
DTSTART;TZID=America/New_York:20200211T161500
DTEND;TZID=America/New_York:20200211T190000
DTSTAMP:20260425T123509
CREATED:20200120T203927Z
LAST-MODIFIED:20200120T203928Z
UID:49759-1581437700-1581447600@www.wbasny.org
SUMMARY:The Suffrage Struggle In New York: And Why it Took So Long
DESCRIPTION:Greater Rochester Chapter
URL:https://www.wbasny.org/event/the-suffrage-struggle-in-new-york-and-why-it-took-so-long/
LOCATION:Nixon Peabody LLP\, 1300 Clinton Square\, Floor 14\, Rochester\, NY\, 14604
END:VEVENT
BEGIN:VEVENT
DTSTART;TZID=UTC:20200211T171500
DTEND;TZID=UTC:20200211T191500
DTSTAMP:20260425T123509
CREATED:20190522T194801Z
LAST-MODIFIED:20200206T232154Z
UID:46350-1581441300-1581448500@www.wbasny.org
SUMMARY:Officers Conference Call
DESCRIPTION:WBASNY
URL:https://www.wbasny.org/event/officers-conference-call-8/
LOCATION:Teleconference
ORGANIZER;CN="WBASNY":MAILTO:events@wbasny.org
END:VEVENT
BEGIN:VEVENT
DTSTART;TZID=America/New_York:20200213T080000
DTEND;TZID=America/New_York:20200213T170000
DTSTAMP:20260425T123509
CREATED:20200120T205813Z
LAST-MODIFIED:20200120T205814Z
UID:49771-1581580800-1581613200@www.wbasny.org
SUMMARY:Eleanor Oliphant is Completely Fine: A Novel\, by Gail Honeyman
DESCRIPTION:Orange- Sullivan Counties Chapter
URL:https://www.wbasny.org/event/eleanor-oliphant-is-completely-fine-a-novel-by-gail-honeyman/
LOCATION:Eat This Bakery\, 8 Union Street\, Montgomery\, New York
END:VEVENT
BEGIN:VEVENT
DTSTART;TZID=America/New_York:20200213T180000
DTEND;TZID=America/New_York:20200213T200000
DTSTAMP:20260425T123509
CREATED:20200117T232056Z
LAST-MODIFIED:20200117T232056Z
UID:49753-1581616800-1581624000@www.wbasny.org
SUMMARY:CLE - Professional Compensation in Surrogate's Court and Adult Guardianship
DESCRIPTION:
URL:https://www.wbasny.org/event/cle-professional-compensation-in-surrogates-court-and-adult-guardianship/
LOCATION:M & T Bank\, 12 White Plains Road\, 3rd Floor\, White Plains\, NY\, 10591
ORGANIZER;CN="Westchester Women's Bar Association":MAILTO:executivedirector@wwbany.org
END:VEVENT
BEGIN:VEVENT
DTSTART;TZID=America/New_York:20200214T130000
DTEND;TZID=America/New_York:20200214T140000
DTSTAMP:20260425T123509
CREATED:20200122T224304Z
LAST-MODIFIED:20200122T224305Z
UID:49860-1581685200-1581688800@www.wbasny.org
SUMMARY:All Digital: Digital Wills & Digital Assets
DESCRIPTION:Western New York Chapter
URL:https://www.wbasny.org/event/all-digital-digital-wills-digital-assets/
LOCATION:438 Main Street\, 438 Main Street\, Sun Room Auditorium
ORGANIZER;CN="Western New York Women's Bar Association":MAILTO:wbasnywny@gmail.com
END:VEVENT
BEGIN:VEVENT
DTSTART;TZID=America/New_York:20200218T173000
DTEND;TZID=America/New_York:20200218T203000
DTSTAMP:20260425T123509
CREATED:20200203T174016Z
LAST-MODIFIED:20200203T174016Z
UID:50024-1582047000-1582057800@www.wbasny.org
SUMMARY:Next Mentorship Meeting
DESCRIPTION:Orange-Sullivan Counties Chapter
URL:https://www.wbasny.org/event/next-mentorship-meeting/
LOCATION:Copper Bottom\, 162 N Main Street\, Florida\, New York
END:VEVENT
BEGIN:VEVENT
DTSTART;TZID=America/New_York:20200218T173000
DTEND;TZID=America/New_York:20200218T210000
DTSTAMP:20260425T123509
CREATED:20200124T160457Z
LAST-MODIFIED:20200128T211045Z
UID:49895-1582047000-1582059600@www.wbasny.org
SUMMARY:Black History Month
DESCRIPTION:Brooklyn Chapter
URL:https://www.wbasny.org/event/black-history-month/
LOCATION:123 Remsen Street\, 123 Remsen Street\, Brooklyn\, NY
END:VEVENT
BEGIN:VEVENT
DTSTART;TZID=America/New_York:20200218T180000
DTEND;TZID=America/New_York:20200219T200000
DTSTAMP:20260425T123509
CREATED:20200218T160337Z
LAST-MODIFIED:20200218T160337Z
UID:50202-1582048800-1582142400@www.wbasny.org
SUMMARY:Invitation to Assist with Mock Interview Events Maurice A. Deane School of Law at Hofstra University
DESCRIPTION:Nassau County Chapter
URL:https://www.wbasny.org/event/invitation-to-assist-with-mock-interview-events-maurice-a-deane-school-of-law-at-hofstra-university/
LOCATION:Hofstra Law School\, 121 Hofstra University\, Room 308\, Hempstead\, NY\, 11549
END:VEVENT
BEGIN:VEVENT
DTSTART;TZID=America/New_York:20200219T120000
DTEND;TZID=America/New_York:20200219T140000
DTSTAMP:20260425T123509
CREATED:20200124T161051Z
LAST-MODIFIED:20200124T161052Z
UID:49899-1582113600-1582120800@www.wbasny.org
SUMMARY:The Honorable Joseph A. Egitto Supervising Judge for the Family Courts 9th Judicial District
DESCRIPTION:Orange-Sullivan Counties Chapter
URL:https://www.wbasny.org/event/the-honorable-joseph-a-egitto-supervising-judge-for-the-family-courts-9th-judicial-district/
LOCATION:Orange County Court House\, 285 Main Street\, Goshen\, NY\, 10924
END:VEVENT
BEGIN:VEVENT
DTSTART;TZID=America/New_York:20200219T124500
DTEND;TZID=America/New_York:20200219T160000
DTSTAMP:20260425T123509
CREATED:20200212T220410Z
LAST-MODIFIED:20200212T220410Z
UID:50115-1582116300-1582128000@www.wbasny.org
SUMMARY:Kings County Courts Black History Month Committee
DESCRIPTION:Brooklyn Chapter
URL:https://www.wbasny.org/event/kings-county-courts-black-history-month-committee/
LOCATION:Appellate Division\, 45 Monroe Place 1st floor\, Brooklyn\, New York
END:VEVENT
BEGIN:VEVENT
DTSTART;TZID=America/New_York:20200219T180000
DTEND;TZID=America/New_York:20200219T203000
DTSTAMP:20260425T123509
CREATED:20200127T184444Z
LAST-MODIFIED:20200127T184446Z
UID:49941-1582135200-1582144200@www.wbasny.org
SUMMARY:8 Minute Networking Event for UB School of Law Students
DESCRIPTION:Western New York Chapter
URL:https://www.wbasny.org/event/8-minute-networking-event-for-ub-school-of-law-students-2/
LOCATION:UB Law School\, O'Brien Hall (North Campus)
ORGANIZER;CN="Western New York Women's Bar Association":MAILTO:wbasnywny@gmail.com
END:VEVENT
BEGIN:VEVENT
DTSTART;TZID=America/New_York:20200220T120000
DTEND;TZID=America/New_York:20200220T153000
DTSTAMP:20260425T123509
CREATED:20200124T152324Z
LAST-MODIFIED:20200220T153458Z
UID:49872-1582200000-1582212600@www.wbasny.org
SUMMARY:Lunch With a Judge Timothy McElduff
DESCRIPTION:Orange-Sullivan Counties Chapter
URL:https://www.wbasny.org/event/lunch-with-a-judge-timothy-mcelduff/
LOCATION:Delancey’s Goshen
END:VEVENT
BEGIN:VEVENT
DTSTART;TZID=America/New_York:20200220T180000
DTEND;TZID=America/New_York:20200220T203000
DTSTAMP:20260425T123509
CREATED:20200120T205033Z
LAST-MODIFIED:20200124T151312Z
UID:49765-1582221600-1582230600@www.wbasny.org
SUMMARY:8 Minute Networking Event for UB School of Law Students
DESCRIPTION:Western New York Chapter
URL:https://www.wbasny.org/event/8-minute-networking-event-for-ub-school-of-law-students/
LOCATION:O’Brian Hall\, Cellino Barnes Conference Room 509
ORGANIZER;CN="Western New York Women's Bar Association":MAILTO:wbasnywny@gmail.com
END:VEVENT
BEGIN:VEVENT
DTSTART;TZID=America/New_York:20200220T180000
DTEND;TZID=America/New_York:20200220T220000
DTSTAMP:20260425T123509
CREATED:20200120T215054Z
LAST-MODIFIED:20200120T215055Z
UID:49803-1582221600-1582236000@www.wbasny.org
SUMMARY:Legal Aid Charity Bartending
DESCRIPTION:Rockland County Chapter
URL:https://www.wbasny.org/event/legal-aid-charity-bartending/
LOCATION:Garnerville Arts Center\, Garnerville\, New York
END:VEVENT
BEGIN:VEVENT
DTSTART;TZID=America/New_York:20200220T183000
DTEND;TZID=America/New_York:20200220T213000
DTSTAMP:20260425T123509
CREATED:20200206T162418Z
LAST-MODIFIED:20200206T162418Z
UID:50047-1582223400-1582234200@www.wbasny.org
SUMMARY:Women's Health and Wellness
DESCRIPTION:Staten Island Chapter
URL:https://www.wbasny.org/event/womens-health-and-wellness-2/
LOCATION:Vino Divino School of Wine\, 42 Industrial Loop\, Staten Island\, NY\, 10309\, United States
END:VEVENT
BEGIN:VEVENT
DTSTART;TZID=America/New_York:20200221T120000
DTEND;TZID=America/New_York:20200221T130000
DTSTAMP:20260425T123509
CREATED:20200210T212346Z
LAST-MODIFIED:20200210T212346Z
UID:50055-1582286400-1582290000@www.wbasny.org
SUMMARY:The Law of Mindfulness
DESCRIPTION:Western New York Chapter
URL:https://www.wbasny.org/event/the-law-of-mindfulness/
LOCATION:438 Main Street\, 438 Main Street\, Sun Room Auditorium
ORGANIZER;CN="Western New York Women's Bar Association":MAILTO:wbasnywny@gmail.com
END:VEVENT
BEGIN:VEVENT
DTSTART;TZID=America/New_York:20200221T123000
DTEND;TZID=America/New_York:20200221T153000
DTSTAMP:20260425T123509
CREATED:20200217T224020Z
LAST-MODIFIED:20200217T224020Z
UID:50163-1582288200-1582299000@www.wbasny.org
SUMMARY:Black History Month Event
DESCRIPTION:Nassau Chapter
URL:https://www.wbasny.org/event/black-history-month-event/
LOCATION:Supreme Court\, Nassau County
END:VEVENT
BEGIN:VEVENT
DTSTART;TZID=America/New_York:20200224T121500
DTEND;TZID=America/New_York:20200224T130000
DTSTAMP:20260425T123509
CREATED:20200217T222207Z
LAST-MODIFIED:20200217T222207Z
UID:50150-1582546500-1582549200@www.wbasny.org
SUMMARY:Petitioning 101
DESCRIPTION:Western New York Chapter
URL:https://www.wbasny.org/event/petitioning-101/
LOCATION:Hurtz & Fine\, P.C.\,\, 1300 Liberty Building\, Buffalo\, NY\, 14202\, United States
ORGANIZER;CN="Western New York Women's Bar Association":MAILTO:wbasnywny@gmail.com
END:VEVENT
BEGIN:VEVENT
DTSTART;TZID=America/New_York:20200225T180000
DTEND;TZID=America/New_York:20200225T193000
DTSTAMP:20260425T123509
CREATED:20200210T220329Z
LAST-MODIFIED:20200210T220329Z
UID:50075-1582653600-1582659000@www.wbasny.org
SUMMARY:Addressing Institutional Bias In Suburban Schools
DESCRIPTION:Greater Rochester Chapter
URL:https://www.wbasny.org/event/addressing-institutional-bias-in-suburban-schools/
LOCATION:Irondequit Public Library\, 1290 Titus Avenue\, Rochester\, NY
END:VEVENT
BEGIN:VEVENT
DTSTART;TZID=America/New_York:20200225T183000
DTEND;TZID=America/New_York:20200225T213000
DTSTAMP:20260425T123509
CREATED:20200128T211725Z
LAST-MODIFIED:20200128T211726Z
UID:49962-1582655400-1582666200@www.wbasny.org
SUMMARY:Women's Health and Wellness
DESCRIPTION:Staten Island Chapter
URL:https://www.wbasny.org/event/womens-health-and-wellness/
LOCATION:Vino Divino School of Wine\, 42 Industrial Loop\, Staten Island\, NY\, 10309\, United States
END:VEVENT
BEGIN:VEVENT
DTSTART;TZID=America/New_York:20200227T130000
DTEND;TZID=America/New_York:20200227T141500
DTSTAMP:20260425T123509
CREATED:20200217T221306Z
LAST-MODIFIED:20200227T185516Z
UID:50144-1582808400-1582812900@www.wbasny.org
SUMMARY:Black History Month Luncheon
DESCRIPTION:Bronx Chapter
URL:https://www.wbasny.org/event/luncheon-in-honor-of-black-history-month-special-guest-justice-troy-k-webber/
LOCATION:Bronx Family Court\, 900 Sheridan Avenue\, Bronx\, NY\, 10451
END:VEVENT
BEGIN:VEVENT
DTSTART;TZID=America/New_York:20200227T140000
DTEND;TZID=America/New_York:20200227T150000
DTSTAMP:20260425T123509
CREATED:20200224T161703Z
LAST-MODIFIED:20200227T185550Z
UID:50271-1582812000-1582815600@www.wbasny.org
SUMMARY:Nice Girls Don't Speak Up or Stand Out
DESCRIPTION:NCWBA
URL:https://www.wbasny.org/event/ncwba-webinar-nice-girls-dont-speak-up-or-stand-out/
ORGANIZER;CN="Western New York Women's Bar Association":MAILTO:wbasnywny@gmail.com
END:VEVENT
BEGIN:VEVENT
DTSTART;TZID=America/New_York:20200227T173000
DTEND;TZID=America/New_York:20200227T193000
DTSTAMP:20260425T123509
CREATED:20200120T215536Z
LAST-MODIFIED:20200227T185829Z
UID:49810-1582824600-1582831800@www.wbasny.org
SUMMARY:Wear Red For Go Red Event
DESCRIPTION:Rochester
URL:https://www.wbasny.org/event/wear-red-for-go-red-event/
LOCATION:The Vesper\, 1 Capron Street\, Rochester\, New York\, 14607
END:VEVENT
BEGIN:VEVENT
DTSTART;TZID=America/New_York:20200227T173000
DTEND;TZID=America/New_York:20200227T193000
DTSTAMP:20260425T123509
CREATED:20200217T224356Z
LAST-MODIFIED:20200217T224453Z
UID:50166-1582824600-1582831800@www.wbasny.org
SUMMARY:Complimentary CLE For Members- Microagressions in Society and Workplace
DESCRIPTION:Nassau Chapter
URL:https://www.wbasny.org/event/complimentary-cle-for-members-microagressions-in-society-and-workplace/
LOCATION:Nassau County Bar Association\, 15th & West Streets \, Mineola\, NY\, United States
END:VEVENT
BEGIN:VEVENT
DTSTART;TZID=America/New_York:20200227T180000
DTEND;TZID=America/New_York:20200227T210000
DTSTAMP:20260425T123509
CREATED:20200106T221235Z
LAST-MODIFIED:20200227T185909Z
UID:49685-1582826400-1582837200@www.wbasny.org
SUMMARY:Judges Choice Dinner
DESCRIPTION:Western New York
URL:https://www.wbasny.org/event/judges-choice-dinner/
LOCATION:Shamus Restaurant\, 98 West Avenue\, Lockport\, NY\, 14094
ORGANIZER;CN="Western New York Women's Bar Association":MAILTO:wbasnywny@gmail.com
END:VEVENT
BEGIN:VEVENT
DTSTART;TZID=America/New_York:20200227T180000
DTEND;TZID=America/New_York:20200227T213000
DTSTAMP:20260425T123509
CREATED:20200210T222349Z
LAST-MODIFIED:20200210T222349Z
UID:50086-1582826400-1582839000@www.wbasny.org
SUMMARY:2020 Annual Dinner Honoring: Senator Luis Sepulveda\, 32nd Senate District
DESCRIPTION:Queens County Chapter
URL:https://www.wbasny.org/event/2020-annual-dinner-honoring-senator-luis-sepulveda-32nd-senate-district/
LOCATION:Agra Palace\, 116-33 Queens Blvd.\, Forest Hills\, New York\, 11375
END:VEVENT
BEGIN:VEVENT
DTSTART;TZID=America/New_York:20200228T180000
DTEND;TZID=America/New_York:20200228T210000
DTSTAMP:20260425T123509
CREATED:20200210T213940Z
LAST-MODIFIED:20200227T190027Z
UID:50066-1582912800-1582923600@www.wbasny.org
SUMMARY:A Celebration of African Heritage
DESCRIPTION:Queens
URL:https://www.wbasny.org/event/a-celebration-of-african-heritage/
LOCATION:Queens Theater\, 14 United Nations South Flushing Meadows Corona Park\, Queens\, New York\, 11368
END:VEVENT
END:VCALENDAR