BEGIN:VCALENDAR
VERSION:2.0
PRODID:-//wbasny - ECPv6.15.20//NONSGML v1.0//EN
CALSCALE:GREGORIAN
METHOD:PUBLISH
X-WR-CALNAME:wbasny
X-ORIGINAL-URL:https://www.wbasny.org
X-WR-CALDESC:Events for wbasny
REFRESH-INTERVAL;VALUE=DURATION:PT1H
X-Robots-Tag:noindex
X-PUBLISHED-TTL:PT1H
BEGIN:VTIMEZONE
TZID:America/New_York
BEGIN:DAYLIGHT
TZOFFSETFROM:-0500
TZOFFSETTO:-0400
TZNAME:EDT
DTSTART:20200308T070000
END:DAYLIGHT
BEGIN:STANDARD
TZOFFSETFROM:-0400
TZOFFSETTO:-0500
TZNAME:EST
DTSTART:20201101T060000
END:STANDARD
BEGIN:DAYLIGHT
TZOFFSETFROM:-0500
TZOFFSETTO:-0400
TZNAME:EDT
DTSTART:20210314T070000
END:DAYLIGHT
BEGIN:STANDARD
TZOFFSETFROM:-0400
TZOFFSETTO:-0500
TZNAME:EST
DTSTART:20211107T060000
END:STANDARD
BEGIN:DAYLIGHT
TZOFFSETFROM:-0500
TZOFFSETTO:-0400
TZNAME:EDT
DTSTART:20220313T070000
END:DAYLIGHT
BEGIN:STANDARD
TZOFFSETFROM:-0400
TZOFFSETTO:-0500
TZNAME:EST
DTSTART:20221106T060000
END:STANDARD
END:VTIMEZONE
BEGIN:VEVENT
DTSTART;TZID=America/New_York:20210209T180000
DTEND;TZID=America/New_York:20210209T200000
DTSTAMP:20260422T175336
CREATED:20201214T222939Z
LAST-MODIFIED:20201214T222939Z
UID:53575-1612893600-1612900800@www.wbasny.org
SUMMARY:Appearing at a Mediation Advocacy Skills for the Litigation Practitioner
DESCRIPTION:New York Chapter
URL:https://www.wbasny.org/event/appearing-at-a-mediation-advocacy-skills-for-the-litigation-practitioner/
END:VEVENT
BEGIN:VEVENT
DTSTART;TZID=America/New_York:20210210T130000
DTEND;TZID=America/New_York:20210210T150000
DTSTAMP:20260422T175336
CREATED:20201228T163412Z
LAST-MODIFIED:20201228T163412Z
UID:53660-1612962000-1612969200@www.wbasny.org
SUMMARY:"Lunch with a Judge" series featuring: Hon. Patria Frais-Colon
DESCRIPTION:Brooklyn Chapter
URL:https://www.wbasny.org/event/lunch-with-a-judge-series-featuring-hon-patria-frais-colon/
END:VEVENT
BEGIN:VEVENT
DTSTART;TZID=America/New_York:20210210T140000
DTEND;TZID=America/New_York:20210210T160000
DTSTAMP:20260422T175336
CREATED:20210126T160713Z
LAST-MODIFIED:20210126T160713Z
UID:53944-1612965600-1612972800@www.wbasny.org
SUMMARY:Race\, law & Justice Reimagined: A Panel Conversation About Law\, Equity & Justice
DESCRIPTION:Western New York Chapter
URL:https://www.wbasny.org/event/race-law-justice-reimagined-a-panel-conversation-about-law-equity-justice/
ORGANIZER;CN="Western New York Women's Bar Association":MAILTO:wbasnywny@gmail.com
END:VEVENT
BEGIN:VEVENT
DTSTART;TZID=America/New_York:20210210T190000
DTEND;TZID=America/New_York:20210210T210000
DTSTAMP:20260422T175336
CREATED:20210205T162333Z
LAST-MODIFIED:20210205T162416Z
UID:54069-1612983600-1612990800@www.wbasny.org
SUMMARY:45th Annual Martin Luther King Jr. Commemoration Keynote Speaker - Patrisse Cullors
DESCRIPTION:Western New York Chapter
URL:https://www.wbasny.org/event/45th-annual-martin-luther-king-jr-commemoration-keynote-speaker-patrisse-cullors/
ORGANIZER;CN="Western New York Women's Bar Association":MAILTO:wbasnywny@gmail.com
END:VEVENT
BEGIN:VEVENT
DTSTART;TZID=America/New_York:20210211T130000
DTEND;TZID=America/New_York:20210211T140000
DTSTAMP:20260422T175336
CREATED:20210205T163628Z
LAST-MODIFIED:20210205T163628Z
UID:54072-1613048400-1613052000@www.wbasny.org
SUMMARY:LAND USE LAW Roles and Responsibilities Of Local Government Boards
DESCRIPTION:Orange-Sullivan Chapter \nA Virtual Continuing Legal Education Program \n  \nLAND USE LAW Roles and Responsibilities Of Local Government Boards \n by Kelly Naughton\, Esq. \n  \n1 hour CLE credit in Professional Practice \nThursday February 11\, 2021 \nAttendance by Zoom 1:00 – 2:00 p.m. \n  \nRegister by replying to RSVP@wbaosc.org \n$10 for Non Members of WBASNY \n  \nMaterials will be sent electronically
URL:https://www.wbasny.org/event/land-use-law-roles-and-responsibilities-of-local-government-boards/
END:VEVENT
BEGIN:VEVENT
DTSTART;TZID=America/New_York:20210211T180000
DTEND;TZID=America/New_York:20210211T193000
DTSTAMP:20260422T175336
CREATED:20210205T153931Z
LAST-MODIFIED:20210205T153931Z
UID:54057-1613066400-1613071800@www.wbasny.org
SUMMARY:Enhance Your Emotional Intelligence (EQ): Enhance Your Health
DESCRIPTION:Nassau County Chapter \nFebruary 11\, 2021 from 6-7:30 PM – Enhance Your Emotional Intelligence (EQ): Enhance Your Health. Dr. Sharon Abrahams of Legal Talent Advisors\, LLC will discuss foundations of EQ and how to apply it to improving your own EQ to help you reduce stress and improve your health. Please register here. Upon registration\, you will receive an email confirmation with the login credentials. \n 
URL:https://www.wbasny.org/event/enhance-your-emotional-intelligence-eq-enhance-your-health/
END:VEVENT
BEGIN:VEVENT
DTSTART;TZID=America/New_York:20210211T180000
DTEND;TZID=America/New_York:20210211T200000
DTSTAMP:20260422T175336
CREATED:20210107T152603Z
LAST-MODIFIED:20210107T152603Z
UID:53765-1613066400-1613073600@www.wbasny.org
SUMMARY:Virtual Judicial Reception
DESCRIPTION:New York Chapter
URL:https://www.wbasny.org/event/virtual-judicial-reception/
END:VEVENT
BEGIN:VEVENT
DTSTART;TZID=America/New_York:20210211T193000
DTEND;TZID=America/New_York:20210211T203000
DTSTAMP:20260422T175336
CREATED:20210205T155716Z
LAST-MODIFIED:20210205T155716Z
UID:54066-1613071800-1613075400@www.wbasny.org
SUMMARY:WBAOSC Trivia Night
DESCRIPTION:Orange-Sullivan Chapter \nWBAOSC Trivia Night \nFebruary 11th – 7:30pm – via Zoom \nPlease join us for WBAOSC’s first virtual trivia night on Zoom! All members are invited to find a partner (the partner does not have to be a WBAOSC member) and sign up to be a team by emailing us at rsvp@wbaosc.org. Trivia will be Jeopardy style and include categories such as Women’s History\, Famous U.S. Supreme Court Cases\, Hudson Valley Knowledge\, and more! \n  \nPrizes will be given to the top 3 partner teams with the most points! \n  \nYou may also join just to watch and cheer on a friend or gain some trivia knowledge! Please email rsvp@wbaosc.org for the Zoom link!
URL:https://www.wbasny.org/event/wbaosc-trivia-night/
END:VEVENT
BEGIN:VEVENT
DTSTART;TZID=America/New_York:20210217T120000
DTEND;TZID=America/New_York:20210217T140000
DTSTAMP:20260422T175336
CREATED:20210118T211812Z
LAST-MODIFIED:20210118T211841Z
UID:53899-1613563200-1613570400@www.wbasny.org
SUMMARY:CLE - What the 'Hack"?!' Data Security Issues for Your Firm and Your Clients
DESCRIPTION:Westchester Chapter \nWe are celebrating WWBA’s 45th year with a luncheon series called “Leading Lady Lawyers Monthly Luncheon Series\,” the February presentation is called “What the ‘Hack”?!’ Data Security Issues for Your Firm and Your Clients\,” presented on February 17\, 2021\, 12:00 – 2:00\, 1 ethics CLE credit\, 1 professional practice CLE credit\, $40 for WWBA and WBASNY members.
URL:https://www.wbasny.org/event/cle-what-the-hack-data-security-issues-for-your-firm-and-your-clients/
ORGANIZER;CN="Westchester Women's Bar Association":MAILTO:executivedirector@wwbany.org
END:VEVENT
BEGIN:VEVENT
DTSTART;TZID=America/New_York:20210218T130000
DTEND;TZID=America/New_York:20210218T140000
DTSTAMP:20260422T175336
CREATED:20210122T172528Z
LAST-MODIFIED:20210122T172528Z
UID:53915-1613653200-1613656800@www.wbasny.org
SUMMARY:CLE - Improving Outcomes for Families
DESCRIPTION:Staten Island Chapter
URL:https://www.wbasny.org/event/cle-improving-outcomes-for-families/
END:VEVENT
BEGIN:VEVENT
DTSTART;TZID=America/New_York:20210218T193000
DTEND;TZID=America/New_York:20210218T203000
DTSTAMP:20260422T175336
CREATED:20210118T210742Z
LAST-MODIFIED:20210118T210742Z
UID:53891-1613676600-1613680200@www.wbasny.org
SUMMARY:Books and Bottles Club: “So You Want to Talk About Race”
DESCRIPTION:Rochester Chapter \nBooks and Bottles Club: “So You Want to Talk About Race” by Ijeoma Oluo \nPlease email Kat Kramarchyk at GRAWABooksNBottles@gmail.com for the Zoom information and to receive an update on the drink of the month!
URL:https://www.wbasny.org/event/books-and-bottles-club-so-you-want-to-talk-about-race/
END:VEVENT
BEGIN:VEVENT
DTSTART;TZID=America/New_York:20210222T180000
DTEND;TZID=America/New_York:20210222T200000
DTSTAMP:20260422T175336
CREATED:20210126T154342Z
LAST-MODIFIED:20210126T154342Z
UID:53940-1614016800-1614024000@www.wbasny.org
SUMMARY:Black History Month Celebration
DESCRIPTION:Brooklyn Chapter
URL:https://www.wbasny.org/event/black-history-month-celebration/
END:VEVENT
BEGIN:VEVENT
DTSTART;TZID=America/New_York:20210223T120000
DTEND;TZID=America/New_York:20210223T133000
DTSTAMP:20260422T175336
CREATED:20210222T153700Z
LAST-MODIFIED:20210222T153700Z
UID:54223-1614081600-1614087000@www.wbasny.org
SUMMARY:The Black Family: Representation\, Identity & Diversity with Honorable Letitia A. James
DESCRIPTION:Western New York Chapter
URL:https://www.wbasny.org/event/the-black-family-representation-identity-diversity-with-honorable-letitia-a-james/
ORGANIZER;CN="Western New York Women's Bar Association":MAILTO:wbasnywny@gmail.com
END:VEVENT
BEGIN:VEVENT
DTSTART;TZID=America/New_York:20210224T130000
DTEND;TZID=America/New_York:20210224T150000
DTSTAMP:20260422T175336
CREATED:20210215T161446Z
LAST-MODIFIED:20210215T161446Z
UID:54153-1614171600-1614178800@www.wbasny.org
SUMMARY:Virtual Heart Awareness Event
DESCRIPTION:Bronx Chapter
URL:https://www.wbasny.org/event/virtual-heart-awareness-event/
END:VEVENT
BEGIN:VEVENT
DTSTART;TZID=America/New_York:20210224T173000
DTEND;TZID=America/New_York:20210224T190000
DTSTAMP:20260422T175336
CREATED:20210112T154512Z
LAST-MODIFIED:20210112T154512Z
UID:53840-1614187800-1614193200@www.wbasny.org
SUMMARY:Hood Feminism: Notes from the Women That a Movement Forgot
DESCRIPTION:Western New York Chapter
URL:https://www.wbasny.org/event/hood-feminism-notes-from-the-women-that-a-movement-forgot/
ORGANIZER;CN="Western New York Women's Bar Association":MAILTO:wbasnywny@gmail.com
END:VEVENT
BEGIN:VEVENT
DTSTART;TZID=America/New_York:20210224T180000
DTEND;TZID=America/New_York:20210224T190000
DTSTAMP:20260422T175336
CREATED:20210118T210629Z
LAST-MODIFIED:20210118T210629Z
UID:53889-1614189600-1614193200@www.wbasny.org
SUMMARY:Go Red!
DESCRIPTION:Rochester Chapter \nThe Women’s Health Committee will be putting on its annual Go Red! Event  More details to follow on our website and social media.
URL:https://www.wbasny.org/event/go-red/
END:VEVENT
BEGIN:VEVENT
DTSTART;TZID=America/New_York:20210225T123000
DTEND;TZID=America/New_York:20210225T133000
DTSTAMP:20260422T175336
CREATED:20210216T173331Z
LAST-MODIFIED:20210216T174146Z
UID:54199-1614256200-1614259800@www.wbasny.org
SUMMARY:New York Mechanics' Liens - A Primer
DESCRIPTION:Orange-Sullivan Chapter \nPlease join us for: \nA Virtual Continuing Legal Education Program \nNew York Mechanics’ Liens – A Primer \n by Lia E. Fierro\, Esq. \n  \nA basic primer on mechanics’ liens in New York. This program will enable you to understand the types of mechanics’ liens available\, necessary content\, filing and service requirements\, amendments\, duration\, and extension. It will also address discharge and foreclosure of mechanics’ liens. \n  \n1 hour CLE credit in Professional Practice  \nThursday February 25\, 2021 \nAttendance by Zoom 12:30 – 1:30 p.m. \n  \nRegister by replying to RSVP@wbaosc.org \n$10 for Non Members of WBASNY \n  \nMaterials will be sent electronically
URL:https://www.wbasny.org/event/new-york-mechanics-liens-a-primer/
END:VEVENT
BEGIN:VEVENT
DTSTART;TZID=America/New_York:20210225T123000
DTEND;TZID=America/New_York:20210225T140000
DTSTAMP:20260422T175336
CREATED:20210205T154104Z
LAST-MODIFIED:20210205T154104Z
UID:54059-1614256200-1614261600@www.wbasny.org
SUMMARY:Til Death Do Us Part: Right of Election Planning CLE
DESCRIPTION:Nassau County Chapter \nFebruary 25\, 2021 from 12:30-2:00 PM (CLE Pending Approval) – “‘Til Death Do Us Part: Right of Election Planning”. This program will address: Defining the Right of Election\, how Separation and Divorce Affect the Right of Election\, Waivers of Right of Election in Pre-Nuptial Agreements\, and how to Spot Additional Value for Your Clients. Please register here. Upon registration\, you will receive an email confirmation with the login credentials.
URL:https://www.wbasny.org/event/til-death-do-us-part-right-of-election-planning-cle/
END:VEVENT
BEGIN:VEVENT
DTSTART;TZID=America/New_York:20210225T140000
DTEND;TZID=America/New_York:20210225T150000
DTSTAMP:20260422T175336
CREATED:20210223T191257Z
LAST-MODIFIED:20210223T191257Z
UID:54277-1614261600-1614265200@www.wbasny.org
SUMMARY:The Impact of COVID-19 and George Floyd on the Insurance Industry
DESCRIPTION:Westchester Chapter \n \nIn the wake of the Pandemic and George Floyd’s death\, the insurance industry has had to adapt to meet new challenges. Join us as we discuss the impact of these events on our industry. \nModerator:  Janeen Thomas\, Partner\, Lewis Brisbois \nSpeakers:  Vivian Wesson\, Chief Intellectual Property Counsel\, Marsh & McLennan and David Priebe\, Chairman of Guy Carpenter & Company LLC \nLocation:  Zoom video conferencing (Registration needs to be done no later than 24 hours prior to the program in order to receive the zoom link) \nCharge:  None \nRegistration:      https://mmc.zoom.us/meeting/register/tJctduGorDspHNapagr0s8mMbYvAe5_um4ce
URL:https://www.wbasny.org/event/the-impact-of-covid-19-and-george-floyd-on-the-insurance-industry/
ORGANIZER;CN="Westchester Women's Bar Association":MAILTO:executivedirector@wwbany.org
END:VEVENT
BEGIN:VEVENT
DTSTART;TZID=America/New_York:20210225T183000
DTEND;TZID=America/New_York:20210225T200000
DTSTAMP:20260422T175336
CREATED:20210205T221937Z
LAST-MODIFIED:20210205T221937Z
UID:54098-1614277800-1614283200@www.wbasny.org
SUMMARY:A Talk Back: The Black Woman\, Law\, and Power
DESCRIPTION:Queens County Chapter
URL:https://www.wbasny.org/event/a-talk-back-the-black-woman-law-and-power/
END:VEVENT
BEGIN:VEVENT
DTSTART;TZID=America/New_York:20210225T190000
DTEND;TZID=America/New_York:20210225T210000
DTSTAMP:20260422T175336
CREATED:20210222T162808Z
LAST-MODIFIED:20210222T162819Z
UID:54249-1614279600-1614286800@www.wbasny.org
SUMMARY:How has the American Legal System Become the American Lethal System?
DESCRIPTION:Suffolk County Chapter
URL:https://www.wbasny.org/event/how-has-the-american-legal-system-become-the-american-lethal-system/
END:VEVENT
BEGIN:VEVENT
DTSTART;TZID=America/New_York:20210226T080000
DTEND;TZID=America/New_York:20210226T170000
DTSTAMP:20260422T175336
CREATED:20210226T201528Z
LAST-MODIFIED:20210226T201636Z
UID:54366-1614326400-1614358800@www.wbasny.org
SUMMARY:Virtual Awards Ceremony
DESCRIPTION:WBASNY \n \nWomen’s Bar Association of the State of New York \nInvites you to a \nVirtual Awards Ceremony \nSaturday\, March 20\, 2021 \n5:00 PM \nDoris S. Hoffman Medal\nMarjorie E. Karowe\, Esq. \nJoan L. Ellenbogen Founders Award\nHon. Linda Christopher \nMarilyn R. Menge Award\nIrene V. Villacci\, Esq.\nMargery Weinroth\, Esq. \nHanna S. Cohn Pro Bono Award\nAnna Marie Richmond\, Esq. \nDoris S. Hoffman Outstanding New Lawyer Award\nDanielle N. Menendez\, Esq. \nStephanie E. Kupferman Juvenile Justice Award\nHon. Karen A. Riley \nJudith S. Kaye Access to Justice Award\nHon. Marguerite Grays
URL:https://www.wbasny.org/event/virtual-awards-ceremony/
END:VEVENT
BEGIN:VEVENT
DTSTART;TZID=America/New_York:20210302T180000
DTEND;TZID=America/New_York:20210302T200000
DTSTAMP:20260422T175336
CREATED:20210224T154040Z
LAST-MODIFIED:20210224T154053Z
UID:54296-1614708000-1614715200@www.wbasny.org
SUMMARY:Compensated Gestational Surrogacy is Legal in New York State – Now What?
DESCRIPTION:New York Chapter \n\n\n\n\n\nThe Reproductive Rights & Women’s Health and the Matrimonial & Family Law Committees Present:\nCompensated Gestational Surrogacy is Legal in New York State – Now What?\nJoin us for a candid and interdisciplinary panel discussion of how the Child-Parent Security Act opens the door for New York intended parents and New York gestational surrogates to enter enforceable compensated surrogacy arrangements and ensure the legal parentage of the children conceived from these arrangements.  We will explore the practicalities of this game-changing new law from a legal\, medical\, and mental health perspective\, and answer all your burning questions along the way. \n Speakers:  \nAlexis Cirel\, Esq.\, Head of the Fertility Law Practice at Warshaw Burstein\, LLP \nDr. Anate Brauer\, IVF Director at Shady Grove Fertility Center\, New York \n\n\n\nDate:\nMarch 2\, 2021\n\n\nTime:\n6:00 p.m.\n\n\nLocation\nZoom Webinar- invitation to follow upon RSVP\n\n\nCost:\nFree – NYWBA/WBASNY Members\n$25 – Non-members\n\n\nRSVP\nEmail Reproductiverights@nywba.org
URL:https://www.wbasny.org/event/compensated-gestational-surrogacy-is-legal-in-new-york-state-now-what/
END:VEVENT
BEGIN:VEVENT
DTSTART;TZID=America/New_York:20210303T130000
DTEND;TZID=America/New_York:20210303T140000
DTSTAMP:20260422T175336
CREATED:20210205T154308Z
LAST-MODIFIED:20210205T154740Z
UID:54063-1614776400-1614780000@www.wbasny.org
SUMMARY:How to Avoid Top Mistakes in Settlement Agreements to Secure Your Client's Share of Retirement Benefits
DESCRIPTION:Nassau County Chapter \nMarch 3\, 2021 from 1-2:00 PM – “How to Avoid Top Mistakes in Settlement Agreements to Secure Your Client’s Share of Retirement Benefits”. Denisa Tova\, MBA\, CFP\, CDFA\, CQS of Tova QDRO & Retirement Valuation Services\, LLC will be presenting. Please register here. Upon registration\, you will receive an email confirmation with the login credentials.
URL:https://www.wbasny.org/event/how-to-avoid-top-mistakes-in-settlement-agreements-to-secure-your-clients-share-of-retirement-benefits/
END:VEVENT
BEGIN:VEVENT
DTSTART;TZID=America/New_York:20210305T120000
DTEND;TZID=America/New_York:20210305T131500
DTSTAMP:20260422T175336
CREATED:20210113T200500Z
LAST-MODIFIED:20210218T212139Z
UID:53870-1614945600-1614950100@www.wbasny.org
SUMMARY:CLE - Lessons Learned During a Pandemic: Managing Stress\, Building Resiliency and Creating Positive Outcome
DESCRIPTION:WBASNY Wellness Committee \n \nLessons Learned During a Pandemic: Managing Stress\, Building Resiliency and Creating Positive Outcomes\n \nJoin us for an interactive ethics CLE where a diverse panel of speakers will share personal hardships that they experienced during the pandemic\, how they dealt with those hardships\, and the tools and knowledge that they gained along the way. \nSpeakers: \nMaritza Buitrago\, Esq.\, Monroe County Family Court\nLaura M. Catina\, Esq.\, Catina & Mara\, PLLC\nKimberly F. Duguay\, Esq.\, First Assistant Wayne County Public Defender\nJoy A. Thompson\, Esq.\, New York City Office of Administrative Trials and Hearings\nAndrea Tomaino\, Esq.\, Principal Counsel to Seventh Judicial District Attorney Grievance Committee\, 4th Department \n1.0 CLE Credits \n(Ethics and Professinalism)\n(Transitional / Non-Transitional) \nCost:\nFree to Members / Non-Members – $40 \nWBASNY is certified by the New York State Continuing Legal Education Board as an Accredited Provider of continuing legal education in the State of New York. Program approval is pending for a maximum of 1.0 transitional/non-transitional credit hours which can be applied toward the Ethics & Professionalism requirement.​  \nFinancial hardship scholarship:  Full and partial scholarships for these programs based on financial need are available. A written request must be forwarded to the WBASNY President\, Post Office Box 936\, New York\, NY 10024-0546. All requests are confidential. The cost of this CLE program (excluding food) will be waived for up to ten (10) attorneys employed by a non-profit organization in New York State that provides direct legal services to victims of domestic violence. Please contact events@wbasny.org for more information and how to register.
URL:https://www.wbasny.org/event/cle-lessons-learned-during-a-pandemic-managing-stress-building-resiliency-and-creating-positive-outcome/
ORGANIZER;CN="WBASNY":MAILTO:events@wbasny.org
END:VEVENT
BEGIN:VEVENT
DTSTART;TZID=America/New_York:20210305T130000
DTEND;TZID=America/New_York:20210305T150000
DTSTAMP:20260422T175336
CREATED:20210215T154304Z
LAST-MODIFIED:20210215T154304Z
UID:54140-1614949200-1614956400@www.wbasny.org
SUMMARY:Women's History Month: Virtual Trip to the National Women's History Museum
DESCRIPTION:Brooklyn Chapter
URL:https://www.wbasny.org/event/womens-history-month-virtual-trip-to-the-national-womens-history-museum/
END:VEVENT
BEGIN:VEVENT
DTSTART;TZID=America/New_York:20210308T130000
DTEND;TZID=America/New_York:20210308T140000
DTSTAMP:20260422T175336
CREATED:20210219T230509Z
LAST-MODIFIED:20210222T162111Z
UID:54220-1615208400-1615212000@www.wbasny.org
SUMMARY:Juror Perceptions of Women Litigators
DESCRIPTION:Bronx Chapter
URL:https://www.wbasny.org/event/juror-perceptions-of-women-litigao/
END:VEVENT
BEGIN:VEVENT
DTSTART;TZID=America/New_York:20210308T173000
DTEND;TZID=America/New_York:20210308T200000
DTSTAMP:20260422T175336
CREATED:20200817T202344Z
LAST-MODIFIED:20200817T202344Z
UID:52135-1615224600-1615233600@www.wbasny.org
SUMMARY:Officers Meeting
DESCRIPTION:WBASNY \n 
URL:https://www.wbasny.org/event/officers-meeting/
ORGANIZER;CN="WBASNY":MAILTO:events@wbasny.org
END:VEVENT
BEGIN:VEVENT
DTSTART;TZID=America/New_York:20210309T130000
DTEND;TZID=America/New_York:20210309T140000
DTSTAMP:20260422T175336
CREATED:20210224T153333Z
LAST-MODIFIED:20210224T153333Z
UID:54292-1615294800-1615298400@www.wbasny.org
SUMMARY:Understanding Pass-Through Entity Tax Returns
DESCRIPTION:Nassau County Chapter \n“Understanding Pass-Through Entity Tax Returns”. This virtual program will address: different types of pass-through entities\, Form 1120S and its various schedules\, Form 1065 and its various schedules\, Forms and Statements common to both Form 1120S and Form 1065\, Discussion of Schedule K-1s\, and Income v. Cash Flow. Veronika Freundlich and Jeffrey Gibralter of Klein\, Liebman & Gresen\, LLC will be presenting. Register here. Upon registration\, you will receive an email with the login credentials.
URL:https://www.wbasny.org/event/understanding-pass-through-entity-tax-returns/
END:VEVENT
BEGIN:VEVENT
DTSTART;TZID=America/New_York:20210310T120000
DTEND;TZID=America/New_York:20210310T130000
DTSTAMP:20260422T175336
CREATED:20210310T151241Z
LAST-MODIFIED:20210310T151254Z
UID:54478-1615377600-1615381200@www.wbasny.org
SUMMARY:Journaling & Meditation with Allie Doran\, MSW
DESCRIPTION:Western New York
URL:https://www.wbasny.org/event/journaling-meditation-with-allie-doran-msw/
ORGANIZER;CN="Western New York Women's Bar Association":MAILTO:wbasnywny@gmail.com
END:VEVENT
END:VCALENDAR