BEGIN:VCALENDAR
VERSION:2.0
PRODID:-//wbasny - ECPv6.15.20//NONSGML v1.0//EN
CALSCALE:GREGORIAN
METHOD:PUBLISH
X-WR-CALNAME:wbasny
X-ORIGINAL-URL:https://www.wbasny.org
X-WR-CALDESC:Events for wbasny
REFRESH-INTERVAL;VALUE=DURATION:PT1H
X-Robots-Tag:noindex
X-PUBLISHED-TTL:PT1H
BEGIN:VTIMEZONE
TZID:America/New_York
BEGIN:DAYLIGHT
TZOFFSETFROM:-0500
TZOFFSETTO:-0400
TZNAME:EDT
DTSTART:20200308T070000
END:DAYLIGHT
BEGIN:STANDARD
TZOFFSETFROM:-0400
TZOFFSETTO:-0500
TZNAME:EST
DTSTART:20201101T060000
END:STANDARD
BEGIN:DAYLIGHT
TZOFFSETFROM:-0500
TZOFFSETTO:-0400
TZNAME:EDT
DTSTART:20210314T070000
END:DAYLIGHT
BEGIN:STANDARD
TZOFFSETFROM:-0400
TZOFFSETTO:-0500
TZNAME:EST
DTSTART:20211107T060000
END:STANDARD
BEGIN:DAYLIGHT
TZOFFSETFROM:-0500
TZOFFSETTO:-0400
TZNAME:EDT
DTSTART:20220313T070000
END:DAYLIGHT
BEGIN:STANDARD
TZOFFSETFROM:-0400
TZOFFSETTO:-0500
TZNAME:EST
DTSTART:20221106T060000
END:STANDARD
END:VTIMEZONE
BEGIN:VEVENT
DTSTART;TZID=America/New_York:20210305T120000
DTEND;TZID=America/New_York:20210305T131500
DTSTAMP:20260422T180614
CREATED:20210113T200500Z
LAST-MODIFIED:20210218T212139Z
UID:53870-1614945600-1614950100@www.wbasny.org
SUMMARY:CLE - Lessons Learned During a Pandemic: Managing Stress\, Building Resiliency and Creating Positive Outcome
DESCRIPTION:WBASNY Wellness Committee \n \nLessons Learned During a Pandemic: Managing Stress\, Building Resiliency and Creating Positive Outcomes\n \nJoin us for an interactive ethics CLE where a diverse panel of speakers will share personal hardships that they experienced during the pandemic\, how they dealt with those hardships\, and the tools and knowledge that they gained along the way. \nSpeakers: \nMaritza Buitrago\, Esq.\, Monroe County Family Court\nLaura M. Catina\, Esq.\, Catina & Mara\, PLLC\nKimberly F. Duguay\, Esq.\, First Assistant Wayne County Public Defender\nJoy A. Thompson\, Esq.\, New York City Office of Administrative Trials and Hearings\nAndrea Tomaino\, Esq.\, Principal Counsel to Seventh Judicial District Attorney Grievance Committee\, 4th Department \n1.0 CLE Credits \n(Ethics and Professinalism)\n(Transitional / Non-Transitional) \nCost:\nFree to Members / Non-Members – $40 \nWBASNY is certified by the New York State Continuing Legal Education Board as an Accredited Provider of continuing legal education in the State of New York. Program approval is pending for a maximum of 1.0 transitional/non-transitional credit hours which can be applied toward the Ethics & Professionalism requirement.​  \nFinancial hardship scholarship:  Full and partial scholarships for these programs based on financial need are available. A written request must be forwarded to the WBASNY President\, Post Office Box 936\, New York\, NY 10024-0546. All requests are confidential. The cost of this CLE program (excluding food) will be waived for up to ten (10) attorneys employed by a non-profit organization in New York State that provides direct legal services to victims of domestic violence. Please contact events@wbasny.org for more information and how to register.
URL:https://www.wbasny.org/event/cle-lessons-learned-during-a-pandemic-managing-stress-building-resiliency-and-creating-positive-outcome/
ORGANIZER;CN="WBASNY":MAILTO:events@wbasny.org
END:VEVENT
BEGIN:VEVENT
DTSTART;TZID=America/New_York:20210305T130000
DTEND;TZID=America/New_York:20210305T150000
DTSTAMP:20260422T180614
CREATED:20210215T154304Z
LAST-MODIFIED:20210215T154304Z
UID:54140-1614949200-1614956400@www.wbasny.org
SUMMARY:Women's History Month: Virtual Trip to the National Women's History Museum
DESCRIPTION:Brooklyn Chapter
URL:https://www.wbasny.org/event/womens-history-month-virtual-trip-to-the-national-womens-history-museum/
END:VEVENT
BEGIN:VEVENT
DTSTART;TZID=America/New_York:20210308T130000
DTEND;TZID=America/New_York:20210308T140000
DTSTAMP:20260422T180614
CREATED:20210219T230509Z
LAST-MODIFIED:20210222T162111Z
UID:54220-1615208400-1615212000@www.wbasny.org
SUMMARY:Juror Perceptions of Women Litigators
DESCRIPTION:Bronx Chapter
URL:https://www.wbasny.org/event/juror-perceptions-of-women-litigao/
END:VEVENT
BEGIN:VEVENT
DTSTART;TZID=America/New_York:20210308T173000
DTEND;TZID=America/New_York:20210308T200000
DTSTAMP:20260422T180614
CREATED:20200817T202344Z
LAST-MODIFIED:20200817T202344Z
UID:52135-1615224600-1615233600@www.wbasny.org
SUMMARY:Officers Meeting
DESCRIPTION:WBASNY \n 
URL:https://www.wbasny.org/event/officers-meeting/
ORGANIZER;CN="WBASNY":MAILTO:events@wbasny.org
END:VEVENT
BEGIN:VEVENT
DTSTART;TZID=America/New_York:20210309T130000
DTEND;TZID=America/New_York:20210309T140000
DTSTAMP:20260422T180614
CREATED:20210224T153333Z
LAST-MODIFIED:20210224T153333Z
UID:54292-1615294800-1615298400@www.wbasny.org
SUMMARY:Understanding Pass-Through Entity Tax Returns
DESCRIPTION:Nassau County Chapter \n“Understanding Pass-Through Entity Tax Returns”. This virtual program will address: different types of pass-through entities\, Form 1120S and its various schedules\, Form 1065 and its various schedules\, Forms and Statements common to both Form 1120S and Form 1065\, Discussion of Schedule K-1s\, and Income v. Cash Flow. Veronika Freundlich and Jeffrey Gibralter of Klein\, Liebman & Gresen\, LLC will be presenting. Register here. Upon registration\, you will receive an email with the login credentials.
URL:https://www.wbasny.org/event/understanding-pass-through-entity-tax-returns/
END:VEVENT
BEGIN:VEVENT
DTSTART;TZID=America/New_York:20210310T120000
DTEND;TZID=America/New_York:20210310T130000
DTSTAMP:20260422T180614
CREATED:20210310T151241Z
LAST-MODIFIED:20210310T151254Z
UID:54478-1615377600-1615381200@www.wbasny.org
SUMMARY:Journaling & Meditation with Allie Doran\, MSW
DESCRIPTION:Western New York
URL:https://www.wbasny.org/event/journaling-meditation-with-allie-doran-msw/
ORGANIZER;CN="Western New York Women's Bar Association":MAILTO:wbasnywny@gmail.com
END:VEVENT
BEGIN:VEVENT
DTSTART;TZID=America/New_York:20210310T130000
DTEND;TZID=America/New_York:20210310T150000
DTSTAMP:20260422T180614
CREATED:20210215T154718Z
LAST-MODIFIED:20210215T154718Z
UID:54143-1615381200-1615388400@www.wbasny.org
SUMMARY:Lunch with a Judge Series featuring Hon. Lillian Wan
DESCRIPTION:Brooklyn Chapter
URL:https://www.wbasny.org/event/lunch-with-a-judge-series-featuring-hon-lillian-wan/
END:VEVENT
BEGIN:VEVENT
DTSTART;TZID=America/New_York:20210311T140000
DTEND;TZID=America/New_York:20210311T183000
DTSTAMP:20260422T180614
CREATED:20210224T153945Z
LAST-MODIFIED:20210224T153955Z
UID:54294-1615471200-1615487400@www.wbasny.org
SUMMARY:FamilyKind’s 9th Annual Benefit & Virtual Symposium: Global Perspectives in Family Law and the COVID-19 Pandemic
DESCRIPTION:New York Chapter \n\n\n\n\n\nNYWBA’s Children’s Rights Committee is Co-Sponsoring a CLE Program with FamilyKind\, Inc.:\nFamilyKind’s 9th Annual Benefit & Virtual Symposium\nGlobal Perspectives in Family Law and the COVID-19 Pandemic\nSpeakers:  \nMaurice Q. Robinson\, Esq. (Moderator) \nHon. Vanessa Aufiero Da Rocha (Brazil) \nMichal Feffer\, MBA\, LLB (Israel) \nDavid Allison – Solicitor\, Mediator\, Collaborative Lawyer (England) \nHirotaka Honda –  Barister & Solicitor/Attorney at Law (Japan) \nPepsi Thuto – Attorney (Botswana) \nStephen Madigan\, MSW. MSc\, Ph.D. (Canada) \n\n\n\nDate:\nMarch 11\, 2021\n\n\nTime:\n2:00 p.m. – 6:30 p.m.\n\n\nLocation\nZoom Webinar- invitation to follow upon RSVP\n\n\nCLE:\n3 credits\, type TBD\n\n\nCost:\n$175 Registration\n$50 – Member of the 18B Panel/Students\n\n\nRSVP\nhttps://familykind.org/awards-symposium/\n\n\nInfo:\nIf you have any questions\, please contact childrensrightschairs@nywba.org.\n\n\n\n*CLE Credits:  3 Credits\, type TBD: The New York Women’s Bar Association is an accredited CLE provider. Approval of CLE credit is pending in accordance with the requirements of the NYS CLE Board for the above-listed credit hours for established attorneys and as transitional credit hours for newly admitted attorneys. \n** CLE is free for NYWBA and WBASNY members but access to the program requires payment of the registration fee. Full and partial scholarships based on financial need are available. For info on the guidelines and to apply\, contact CLE Co-Chairs Amy B. Goldsmith\, Tara Diamond or Elizabeth Shampnoi at cle@nywba.org or 212-216-1135. All requests are confidential.
URL:https://www.wbasny.org/event/familykinds-9th-annual-benefit-virtual-symposium-global-perspectives-in-family-law-and-the-covid-19-pandemic/
END:VEVENT
BEGIN:VEVENT
DTSTART;TZID=America/New_York:20210311T183000
DTEND;TZID=America/New_York:20210311T203000
DTSTAMP:20260422T180614
CREATED:20210226T152413Z
LAST-MODIFIED:20210226T152424Z
UID:54351-1615487400-1615494600@www.wbasny.org
SUMMARY:An Evening with Judge Rachel "Ruchie" Freier
DESCRIPTION:Queens Chapter
URL:https://www.wbasny.org/event/an-evening-with-judge-rachel-ruchie-freier/
END:VEVENT
BEGIN:VEVENT
DTSTART;TZID=America/New_York:20210316T180000
DTEND;TZID=America/New_York:20210316T193000
DTSTAMP:20260422T180614
CREATED:20210224T154958Z
LAST-MODIFIED:20210224T155009Z
UID:54298-1615917600-1615923000@www.wbasny.org
SUMMARY:From Sleep Deprived to Sleep Revived: What Makes Sleep Extra Difficult for Women & What to Do About It
DESCRIPTION:New York Chapter  \n\n\n\n\n\nThe NYWBA Reproductive Rights and Women’s Health Committee presents:\nFrom Sleep Deprived to Sleep Revived:\nWhat Makes Sleep Extra Difficult for Women & What to Do About It\nwith \nSusan D’Addario\, Certified Sleep Science Coach \nMany of us\, particularly women\, struggle to get a good night’s sleep. We feel exhausted\, on edge with family and friends\, drop the ball at work\, cannot keep our eyes open while driving or during other daytime activities. \nIt may seem like you’ve tried everything for better sleep\, including potentially habit-forming sleep medications\, and that there’s nothing you can do.  Rather than just accept your sleep deprivation\, why not try the advice from a Certified Sleep Science Coach? \nDuring this special Zoom event\, Susan will cover: \n\nWhy women have a particularly challenging time with sleep\nHow quality sleep serves us and how lack of sleep hurts\nWhat happens during the various sleep stages\nWhat gets in the way of falling asleep or sleeping through the night?\nWhat it takes to get a great night’s sleep\, feel rested and be ready to take on the world\n\nYou will come away with newfound knowledge that can start you on your journey to getting back to sleep again\, feel great and thriving for a lifetime! \n\n\n\nDate:\nMarch 16\, 2021\n\n\nTime:\n6:00-7:30 p.m.\n\n\nLocation\nBy Zoom link\n\n\nCost:\nFree\n\n\nRSVP\nEmail Earvedon@cardiedgarlaw.com\n\n\nInfo:\nIf you have any questions\, please contact RepRights@nywba.org.
URL:https://www.wbasny.org/event/from-sleep-deprived-to-sleep-revived-what-makes-sleep-extra-difficult-for-women-what-to-do-about-it/
END:VEVENT
BEGIN:VEVENT
DTSTART;TZID=America/New_York:20210318T123000
DTEND;TZID=America/New_York:20210318T133000
DTSTAMP:20260422T180614
CREATED:20210226T153138Z
LAST-MODIFIED:20210312T152933Z
UID:54355-1616070600-1616074200@www.wbasny.org
SUMMARY:"Self-Defined: Our Self Image on Our Own Terms"
DESCRIPTION:Nassau County Chapter \nMarch 18\, 2021 at 12:30 PM – \nThe United Nation’s 65th Annual Commission on the Status of Women\, along with the International Women’s Rights Committee of WBASNY present “Self-Defined: Our Self Image on Our Own Terms”. NCWBA Board Member Heather Kalachman\, Esq. will be moderating a virtual film screening and panel discussion of “The Illusionists\,” a film about international body-image and beauty ideals by feminist and activist\, Elena Rossini. Ms. Rossini will be one of the speakers following the film. The film showcases cultural stigma facing women and girls who are led to believe that they must look a certain way in order to be accepted in mainstream society. The panel will broadly address how the objectification of women in the media is inextricably linked to women’s disempowerment and how women and girls can be game changers and become more empowered to control their own body image choices reflecting strength and freedom from exploitation. As this is a UN parallel event\, all interested must register to attend through the NGO CSW system. This is a 2-step process. Click here to begin the free registration process\, choose “advocate” as your attendance status\, and then wait for an e-mail from NGO CSW/NY to complete your profile. Once you have completed your profile\, you can register for this program\, “Self-Defined: Our Self Image on Our Own Terms“\, or any other virtual program taking place during CSW 65 from March 14 through March 26. Please see the attached flyer for more information and a full list of panelists.
URL:https://www.wbasny.org/event/the-illusionists-moderated-by-ncwba-board-member-heather-kalachman-esq/
END:VEVENT
BEGIN:VEVENT
DTSTART;TZID=America/New_York:20210318T130000
DTEND;TZID=America/New_York:20210318T140000
DTSTAMP:20260422T180614
CREATED:20210215T160044Z
LAST-MODIFIED:20210215T160056Z
UID:54149-1616072400-1616076000@www.wbasny.org
SUMMARY:Virtual CLE: Disciplinary Process for Escrow Violations
DESCRIPTION:Bronx Chapter
URL:https://www.wbasny.org/event/virtual-cle-disciplinary-process-for-escrow-violations/
END:VEVENT
BEGIN:VEVENT
DTSTART;TZID=America/New_York:20210318T130000
DTEND;TZID=America/New_York:20210318T140000
DTSTAMP:20260422T180614
CREATED:20210303T210650Z
LAST-MODIFIED:20210303T210729Z
UID:54435-1616072400-1616076000@www.wbasny.org
SUMMARY:Discovery Guidelines in Personal Injury Cases: Perspective from Plaintiff and Defense
DESCRIPTION:Queens Chapter
URL:https://www.wbasny.org/event/discovery-guidelines-in-personal-injury-cases-perspective-from-plaintiff-and-defense/
END:VEVENT
BEGIN:VEVENT
DTSTART;TZID=America/New_York:20210318T173000
DTEND;TZID=America/New_York:20210318T193000
DTSTAMP:20260422T180614
CREATED:20210317T152852Z
LAST-MODIFIED:20210317T152852Z
UID:54543-1616088600-1616095800@www.wbasny.org
SUMMARY:Racial Equity in the Courts: A Conversation About Implicit Bias in the Jury Selection Process
DESCRIPTION:Western New York Chapter
URL:https://www.wbasny.org/event/racial-equity-in-the-courts-a-conversation-about-implicit-bias-in-the-jury-selection-process/
ORGANIZER;CN="Western New York Women's Bar Association":MAILTO:wbasnywny@gmail.com
END:VEVENT
BEGIN:VEVENT
DTSTART;TZID=America/New_York:20210318T180000
DTEND;TZID=America/New_York:20210318T200000
DTSTAMP:20260422T180614
CREATED:20210226T152018Z
LAST-MODIFIED:20210226T152018Z
UID:54348-1616090400-1616097600@www.wbasny.org
SUMMARY:BWBA Women's History Month: Making History and Paving the Way
DESCRIPTION:Brooklyn Chapter
URL:https://www.wbasny.org/event/bwba-womens-history-month-making-history-and-paving-the-way/
END:VEVENT
BEGIN:VEVENT
DTSTART;TZID=America/New_York:20210320T100000
DTEND;TZID=America/New_York:20210320T150000
DTSTAMP:20260422T180614
CREATED:20200817T202235Z
LAST-MODIFIED:20200817T204014Z
UID:52133-1616234400-1616252400@www.wbasny.org
SUMMARY:Board of Directors Meeting
DESCRIPTION:WBASNY \n 
URL:https://www.wbasny.org/event/board-of-directors-meeting-3/
ORGANIZER;CN="WBASNY":MAILTO:events@wbasny.org
END:VEVENT
BEGIN:VEVENT
DTSTART;TZID=America/New_York:20210320T170000
DTEND;TZID=America/New_York:20210320T190000
DTSTAMP:20260422T180614
CREATED:20210309T194004Z
LAST-MODIFIED:20210309T194004Z
UID:54468-1616259600-1616266800@www.wbasny.org
SUMMARY:Virtual Awards Ceremony
DESCRIPTION:WBASNY
URL:https://www.wbasny.org/event/virtual-awards-ceremony-2/
ORGANIZER;CN="WBASNY":MAILTO:events@wbasny.org
END:VEVENT
BEGIN:VEVENT
DTSTART;TZID=America/New_York:20210322T130000
DTEND;TZID=America/New_York:20210322T143000
DTSTAMP:20260422T180614
CREATED:20210317T155152Z
LAST-MODIFIED:20210317T155152Z
UID:54560-1616418000-1616423400@www.wbasny.org
SUMMARY:Trailblazing Women: Celebrating Women in the Law Past and Present
DESCRIPTION:Queens County
URL:https://www.wbasny.org/event/trailblazing-women-celebrating-women-in-the-law-past-and-present/
END:VEVENT
BEGIN:VEVENT
DTSTART;TZID=America/New_York:20210322T173000
DTEND;TZID=America/New_York:20210322T193000
DTSTAMP:20260422T180614
CREATED:20210226T153920Z
LAST-MODIFIED:20210312T154421Z
UID:54357-1616434200-1616441400@www.wbasny.org
SUMMARY:CLE: Eradicating Implicit Bias in the Courts
DESCRIPTION:Nassau County \nMarch 22\, 2021 from 5:30-7:30 PM – The Nassau County Bar Association Diversity and Inclusion Committee presents Eradicating Implicit Bias in the Courts. This program is offered for 1 Credit of Ethics; 1 Credit in Diversity\, Inclusion and Elimination of Bias. Free to NCBA Members; $70 for non-members. Pre-registration is required. Register at nassaubar.org or email academy@nassaubar.org. See the attached flyer for more information.
URL:https://www.wbasny.org/event/cle-eradicating-implicit-bias-in-the-courts/
END:VEVENT
BEGIN:VEVENT
DTSTART;TZID=America/New_York:20210323T180000
DTEND;TZID=America/New_York:20210323T190000
DTSTAMP:20260422T180614
CREATED:20210317T153420Z
LAST-MODIFIED:20210317T153420Z
UID:54550-1616522400-1616526000@www.wbasny.org
SUMMARY:What Black Women Need to Know about Hereditary Breast Cancer
DESCRIPTION:JALBCA
URL:https://www.wbasny.org/event/what-black-women-need-to-know-about-hereditary-breast-cancer/
END:VEVENT
BEGIN:VEVENT
DTSTART;TZID=America/New_York:20210324T090000
DTEND;TZID=America/New_York:20210324T120000
DTSTAMP:20260422T180614
CREATED:20210310T151535Z
LAST-MODIFIED:20210310T151614Z
UID:54482-1616576400-1616587200@www.wbasny.org
SUMMARY:RBG's Great Hits
DESCRIPTION:Western New York
URL:https://www.wbasny.org/event/rbgs-great-hits-2/
ORGANIZER;CN="Western New York Women's Bar Association":MAILTO:wbasnywny@gmail.com
END:VEVENT
BEGIN:VEVENT
DTSTART;TZID=America/New_York:20210324T130000
DTEND;TZID=America/New_York:20210324T140000
DTSTAMP:20260422T180614
CREATED:20210303T153228Z
LAST-MODIFIED:20210303T153228Z
UID:54414-1616590800-1616594400@www.wbasny.org
SUMMARY:A Conversation with the United States Magistrate Judges Sitting in White Plains
DESCRIPTION:Westchester Chapter
URL:https://www.wbasny.org/event/a-conversation-with-the-united-states-magistrate-judges-sitting-in-white-plains/
ORGANIZER;CN="Westchester Women's Bar Association":MAILTO:executivedirector@wwbany.org
END:VEVENT
BEGIN:VEVENT
DTSTART;TZID=America/New_York:20210324T173000
DTEND;TZID=America/New_York:20210324T193000
DTSTAMP:20260422T180614
CREATED:20210312T152734Z
LAST-MODIFIED:20210312T152745Z
UID:54512-1616607000-1616614200@www.wbasny.org
SUMMARY:Emotional Exhaustion and Burnout for Lawyers. How to prevent\, identify and reduce its effects on your life. By Dr. Kerry O'Hara
DESCRIPTION:Orange-Sullivan Chapter \nIn today’s world the prevalence of emotional burnout and the cost of chronic stress has hit crisis proportions. This is particularly true in the field of law. In surveys lawyers are reporting significantly higher rates of depression\, anxiety\, substance abuse and emotional exhaustion when compared to other professions. In this presentation participants will become familiar with the signs\, symptoms and causes of burnout.  Individuals will explore both the internal and environmental/ cultural factors leading to increases in chronic stress. The long- term effects of chronic stress on our physical\, emotional\, relational and cognitive functioning will be outlined.  Evidenced based strategies for the reduction of chronic stress and burnout will be discussed.  Lifestyle changes\, cognitive interventions and behavioral strategies will be explored. Each individual will be asked to create an individualized plan to address their unique circumstances.   The reduction of stress in our everyday lives is essential. This presentation will help individuals focus on the changes that are within their power to make. The journey towards a more balanced\, less stressful life starts with just one change.  \n  \nKerry Murray O’Hara\, PsyD – Clinical Psychologist & Director of DBT Wellness & Psychological Services \nDr. Kerry O’Hara is the Director/Founder of DBT Wellness & Psychological Services in Saratoga Springs\, NY\, which she opened in 2018. She has over 25 years of experience in a variety of clinical settings including inpatient\, residential\, forensic\, outpatient\, and academic. Her area of expertise is Dialectical Behavioral Therapy (DBT)\, a highly researched evidenced based treatment. Dr. O’Hara’s DBT Wellness Center provides individual\, family\, & group therapy. In addition\, she provides clinical trainings\, wellness consultation services for business\, and program development. \nOver the course of the last 6 years Dr. O’Hara has focused on the mental health crisis and wellness for the field of law. She has presented for the NYSBA and numerous other law associations and seminars. Dr. O’Hara has presented on such topics as; the culture of law\, how law school training effects wellness\, what creates clinical depression and anxiety for lawyers\, vicarious trauma and burnout\, issues related to senior lawyers\, reducing self- destructive coping for lawyers and self-care creating a balanced lifestyle for lawyers. In addition\, Dr. O’Hara has co-authored articles for the NYSBA Journal regarding barriers for wellness in the profession of law and the pathway to a more hopeful future. Dr. O’Hara recently has co-facilitated Wellness pod casts for Mental Health Awareness & Wellness week for the NYSBA. Additionally\, she has been co-facilitating the weekly Lawyer Round Table discussions addressing the isolation\, depression\, and anxiety lawyers experience as a result of the Covid-19 pandemic. Dr. O’Hara has also been named as a Clinical Consultant to the NYSBA Lawyer Taskforce for Lawyer wellbeing.  \n  \n  \nRSVP to rsvp@wbaosc.org for the link to attend.
URL:https://www.wbasny.org/event/emotional-exhaustion-and-burnout-for-lawyers-how-to-prevent-identify-and-reduce-its-effects-on-your-life-by-dr-kerry-ohara/
END:VEVENT
BEGIN:VEVENT
DTSTART;TZID=America/New_York:20210325T123000
DTEND;TZID=America/New_York:20210325T140000
DTSTAMP:20260422T180614
CREATED:20210218T212652Z
LAST-MODIFIED:20210309T201933Z
UID:54214-1616675400-1616680800@www.wbasny.org
SUMMARY:The Role of Women's Organizations in Shattering Glass Ceilings
DESCRIPTION:WBASNY / NAWJ NY Chapter \n \n \nFrom\nAssociate Justice of The United States Supreme Court\nRuth Bader Ginsburg\nTo\nVice President of The United States\nKamala Harris\n“The Role of Women’s Organizations in Shattering Glass Ceilings” \nPanelists: \nHon. Betty Ellerin\, Former\, Presiding Justice of the Appellate Division\, First Department\nHon. Elizabeth A. Garry\, Presiding Justice of the Appellate Division\, Third Department\nHon. Juanita Bing Newton\, Former Dean of the New York State Judicial Institute\nJoy A. Thompson\, Esq.\, WBASNY President
URL:https://www.wbasny.org/event/the-role-of-womens-organizations-in-shattering-glass-ceilings/
END:VEVENT
BEGIN:VEVENT
DTSTART;TZID=America/New_York:20210325T160000
DTEND;TZID=America/New_York:20210325T180000
DTSTAMP:20260422T180614
CREATED:20210315T144257Z
LAST-MODIFIED:20210315T144324Z
UID:54531-1616688000-1616695200@www.wbasny.org
SUMMARY:Queens Chapter - Women's History Month Celebration
DESCRIPTION:Queens Chapter
URL:https://www.wbasny.org/event/womens-history-month/
END:VEVENT
BEGIN:VEVENT
DTSTART;TZID=America/New_York:20210325T180000
DTEND;TZID=America/New_York:20210325T200000
DTSTAMP:20260422T180614
CREATED:20210216T173148Z
LAST-MODIFIED:20210216T173201Z
UID:54195-1616695200-1616702400@www.wbasny.org
SUMMARY:WNY Paint Night
DESCRIPTION:Western New York Chapter
URL:https://www.wbasny.org/event/wny-paint-night/
ORGANIZER;CN="Western New York Women's Bar Association":MAILTO:wbasnywny@gmail.com
END:VEVENT
BEGIN:VEVENT
DTSTART;TZID=America/New_York:20210325T200000
DTEND;TZID=America/New_York:20210325T220000
DTSTAMP:20260422T180614
CREATED:20210305T152653Z
LAST-MODIFIED:20210305T152653Z
UID:54440-1616702400-1616709600@www.wbasny.org
SUMMARY:Managing Your Personal Brand
DESCRIPTION:Bronx Chapter
URL:https://www.wbasny.org/event/managing-your-personal-brand/
END:VEVENT
BEGIN:VEVENT
DTSTART;TZID=America/New_York:20210326T123000
DTEND;TZID=America/New_York:20210326T140000
DTSTAMP:20260422T180614
CREATED:20210322T160630Z
LAST-MODIFIED:20210324T152804Z
UID:54588-1616761800-1616767200@www.wbasny.org
SUMMARY:Valiant Women of the Year: Refusing To Be Silenced 2021
DESCRIPTION:Westchester Chapter
URL:https://www.wbasny.org/event/refusing-to-be-silenced-2021/
ORGANIZER;CN="Westchester Women's Bar Association":MAILTO:executivedirector@wwbany.org
END:VEVENT
BEGIN:VEVENT
DTSTART;TZID=America/New_York:20210329T130000
DTEND;TZID=America/New_York:20210329T150000
DTSTAMP:20260422T180614
CREATED:20210326T145449Z
LAST-MODIFIED:20210326T145627Z
UID:54649-1617022800-1617030000@www.wbasny.org
SUMMARY:Celebrating Women in the Law "Past and Present"
DESCRIPTION:Queens Chapter
URL:https://www.wbasny.org/event/celebrating-women-in-the-law-past-and-present/
END:VEVENT
BEGIN:VEVENT
DTSTART;TZID=America/New_York:20210329T160000
DTEND;TZID=America/New_York:20210329T180000
DTSTAMP:20260422T180614
CREATED:20210129T220438Z
LAST-MODIFIED:20210129T220438Z
UID:54012-1617033600-1617040800@www.wbasny.org
SUMMARY:Women’s History Month: The Path to the Bench
DESCRIPTION:SAVE THE DATE!!! \nWomen’s History Month: The Path to the Bench \nA free 1.5-hour CLE program \nMarch 29\, 2021 @ 4 p.m. \n  \nIn recognition of Women’s History Month\, the Gender Fairness Committee of the Third Judicial District will present a two-part virtual program. Additionally\, the Gender Fairness Committee will announce and bestow the Hon. Leslie E. Stein Gender Equity Award. \n  \nIt will begin with a showing of the Committee’s documentary film\, “Blazing a Trail: Pioneering Women Judges of the Third Judicial District\,” a 30-minute program featuring interviews with the historic women who broke barriers throughout the judiciary.  \nNext\, a live panel discussion moderated by Hon. Rachel Kretser (Ret.)\, chair of the Gender Fairness Committee\, will reveal and discuss the logistical barriers to a career on the bench. The judges will discuss their personal experiences and reveal what really goes on behind the scene.  \n\nOn the panel are: \n• Hon. Andra Ackerman\, the first woman in the 300-year-history of Albany County to serve as County Court Judge. \n• Hon. Sherri Brooks-Morton\, the first ever female Family Court Judge of color in Albany County. \n• Hon. Lisa M. Fisher\, who was offered as a “sacrificial lamb” candidate against the favorite and pulled out an unlikely and historic victory. \n• Hon. Leslie E. Stein\, a woman who has climbed the judicial ladder from Albany City Court to Supreme Court to the Appellate Division and\, finally\, the Court of Appeals. \n\nRegistration is through our co-sponsor\, the Albany County Bar Association: https://zoom.us/webinar/register/WN_Hu-MPKrwSruTTfeKstoYNw
URL:https://www.wbasny.org/event/womens-history-month-the-path-to-the-bench/
END:VEVENT
END:VCALENDAR