BEGIN:VCALENDAR
VERSION:2.0
PRODID:-//wbasny - ECPv6.15.20//NONSGML v1.0//EN
CALSCALE:GREGORIAN
METHOD:PUBLISH
X-WR-CALNAME:wbasny
X-ORIGINAL-URL:https://www.wbasny.org
X-WR-CALDESC:Events for wbasny
REFRESH-INTERVAL;VALUE=DURATION:PT1H
X-Robots-Tag:noindex
X-PUBLISHED-TTL:PT1H
BEGIN:VTIMEZONE
TZID:America/New_York
BEGIN:DAYLIGHT
TZOFFSETFROM:-0500
TZOFFSETTO:-0400
TZNAME:EDT
DTSTART:20210314T070000
END:DAYLIGHT
BEGIN:STANDARD
TZOFFSETFROM:-0400
TZOFFSETTO:-0500
TZNAME:EST
DTSTART:20211107T060000
END:STANDARD
BEGIN:DAYLIGHT
TZOFFSETFROM:-0500
TZOFFSETTO:-0400
TZNAME:EDT
DTSTART:20220313T070000
END:DAYLIGHT
BEGIN:STANDARD
TZOFFSETFROM:-0400
TZOFFSETTO:-0500
TZNAME:EST
DTSTART:20221106T060000
END:STANDARD
BEGIN:DAYLIGHT
TZOFFSETFROM:-0500
TZOFFSETTO:-0400
TZNAME:EDT
DTSTART:20230312T070000
END:DAYLIGHT
BEGIN:STANDARD
TZOFFSETFROM:-0400
TZOFFSETTO:-0500
TZNAME:EST
DTSTART:20231105T060000
END:STANDARD
END:VTIMEZONE
BEGIN:VEVENT
DTSTART;TZID=America/New_York:20221119T100000
DTEND;TZID=America/New_York:20221119T150000
DTSTAMP:20260420T223936
CREATED:20220826T144805Z
LAST-MODIFIED:20220826T144805Z
UID:61874-1668852000-1668870000@www.wbasny.org
SUMMARY:Board of Directors Meeting
DESCRIPTION:Board of Directors Meeting
URL:https://www.wbasny.org/event/board-of-directors-meeting-13/
ORGANIZER;CN="WBASNY":MAILTO:events@wbasny.org
END:VEVENT
BEGIN:VEVENT
DTSTART;TZID=America/New_York:20221120T110000
DTEND;TZID=America/New_York:20221120T120000
DTSTAMP:20260420T223936
CREATED:20221117T163034Z
LAST-MODIFIED:20221117T163034Z
UID:64210-1668942000-1668945600@www.wbasny.org
SUMMARY:Pre-Thanksgiving Walk Around Rockland Lake
DESCRIPTION:
URL:https://www.wbasny.org/event/pre-thanksgiving-walk-around-rockland-lake/
END:VEVENT
BEGIN:VEVENT
DTSTART;TZID=America/New_York:20221122T080000
DTEND;TZID=America/New_York:20221122T170000
DTSTAMP:20260420T223936
CREATED:20220914T145035Z
LAST-MODIFIED:20220914T145035Z
UID:62734-1669104000-1669136400@www.wbasny.org
SUMMARY:Judiciary Night
DESCRIPTION:Queens Chapter
URL:https://www.wbasny.org/event/judiciary-night-3/
END:VEVENT
BEGIN:VEVENT
DTSTART;TZID=America/New_York:20221129T080000
DTEND;TZID=America/New_York:20221129T170000
DTSTAMP:20260420T223936
CREATED:20221108T155737Z
LAST-MODIFIED:20221108T160311Z
UID:64109-1669708800-1669741200@www.wbasny.org
SUMMARY:#WBASNYGives
DESCRIPTION:  \nAs part of our continued commitment to fundraising\, we are excited\nto announce our #WBASNYGives fundraising event to be held in the spirit\nof #GivingTuesday – a National day of giving – November 29\, 2022.\nDonations will be accepted during the entire month of November 2022\nand will remain open through January of 2023. All donors will be acknowledged in our “Donor Roll.” \nThis year special recognition* will be given to #WBASNYGives Donors who graciously support WBASNY’s mission as follows: \nSAPPHIRE DONOR – $500.00 and over \nDIAMOND DONOR – $250.00 and over \nRUBY DONOR – $50.00 and over \nPEARL DONOR – $5.00 and over \n*Sapphire and Diamond donors will receive a free WBASNY baseball cap \nAs part of this fundraising event\, we are seeking contributions in support of\, and in solidarity with\, WBASNY’s mission to: \n “Promote the advancement of the status of women in society and of women in the legal profession; to promote the fair and equal administration of justice; and to act as a unified voice for its members with respect to issues of statewide\, national and international significance to women generally and to women attorneys in particular.” \nMore than ever\, the united amplification of women’s voices is needed to cause the change we want to see in the world\, and to push for progress in our profession and in society. Lawyers are uniquely qualified to effectuate that change\, as leaders in the court system\, in the legislature\, and in our communities. As the second largest bar association in the State\, nearly 4\,000 members strong\, WBASNY\, and we as its attorney members\, has the numbers\, the skillset\, and the will to be the beacon illuminating the way.  Your support keeps that light burning. \nHere’s how … \n\n#WBASNYGives direct access to effect legislation impacting women and children\, and society as a whole\, through lobbying efforts and our thoughtful responses to important issues. Our organization is increasingly called upon by legislators and the Governor’s office to offer guidance and opinion on legislation impacting millions of lives.\n#WBASNYGives the support and camaraderie of a network of nearly 4\,000 attorneys\, mostly women\, who are in the unique position of knowing or empathizing with the specific challenges faced by women in this demanding profession. Because of WBASNY\, we know the names and faces of the women pioneers on whose shoulders we stand as we offer a hand to pull the next generation up. WBASNY means that no woman attorney across the State has to face her challenges alone.\n#WBASNYGives membership benefits such as free CLE opportunities\, discounts on financial services and financial planning opportunities\, strategic partners for insurance\, discounts on office supplies and services\, discounts on legal research providers\, and discounts on travel planning.  All simply by virtue of being a member.\n#WBASNYGives the opportunity to serve on over 40+ committees on the state-level to work on issues that each member feels particularly called to address with the collective strength of this organization and the expertise of its members supporting your passion.\n#WBASNYGives amicus briefs on cases of great significance to our members and mission\, ensuring that our opinions and mission are heard and advanced through the court system.\n#WBASNYGives NOTHING without the STRENGTH and SUPPORT of its MEMBERS.\n\nYour contribution to WBASNY helps us to continue this important work\, and gives us the ability to do even more. Thank you for your support and your dedication to this mission. \n  \nDONATE HERE
URL:https://www.wbasny.org/event/wbasnygives/
ORGANIZER;CN="WBASNY":MAILTO:events@wbasny.org
END:VEVENT
BEGIN:VEVENT
DTSTART;TZID=America/New_York:20221129T130000
DTEND;TZID=America/New_York:20221129T140000
DTSTAMP:20260420T223936
CREATED:20221121T210458Z
LAST-MODIFIED:20221121T210458Z
UID:64255-1669726800-1669730400@www.wbasny.org
SUMMARY:Lunch and Learn Series: Supported Decision-Making (SDM) and update on the New York Supported-Dicision Making Agreement Act
DESCRIPTION:The Elder Law & Disabilities Committee \nLunch & Learn Series \n\nSupported Decision-Making (SDM)\nand update on the New York\nSupported-Decision Making Agreement Act \n\nSpeaker:  \nHon. Kristin Booth Glen \nSupported Decision-Making New York \n\nNovember 29\, 2022. 1:00 p.m.\, by Zoom \nRSVP elderlawchairs@nywba.org
URL:https://www.wbasny.org/event/lunch-and-learn-series-supported-decision-making-sdm-and-update-on-the-new-york-supported-dicision-making-agreement-act/
END:VEVENT
BEGIN:VEVENT
DTSTART;TZID=America/New_York:20221201T090000
DTEND;TZID=America/New_York:20221203T180000
DTSTAMP:20260420T223937
CREATED:20221114T211410Z
LAST-MODIFIED:20221114T211410Z
UID:64190-1669885200-1670090400@www.wbasny.org
SUMMARY:Basic Mediation Training
DESCRIPTION:  \nFlyer for Basic Mediation Training
URL:https://www.wbasny.org/event/basic-mediation-training/
END:VEVENT
BEGIN:VEVENT
DTSTART;TZID=America/New_York:20221201T180000
DTEND;TZID=America/New_York:20221201T190000
DTSTAMP:20260420T223937
CREATED:20220824T141625Z
LAST-MODIFIED:20220824T141625Z
UID:61668-1669917600-1669921200@www.wbasny.org
SUMMARY:JALBCA's Breast Cancer Support Group Meetings
DESCRIPTION:
URL:https://www.wbasny.org/event/jalbcas-breast-cancer-support-group-meetings-3/
END:VEVENT
BEGIN:VEVENT
DTSTART;TZID=America/New_York:20221202T130000
DTEND;TZID=America/New_York:20221202T140000
DTSTAMP:20260420T223937
CREATED:20221103T152656Z
LAST-MODIFIED:20221103T152656Z
UID:63979-1669986000-1669989600@www.wbasny.org
SUMMARY:Women in Professional Development - 2022-2023 Series
DESCRIPTION:WIPD\, a project of WWBA’s Professional Development Committee\, was created with the goal to provide WWBA members with the informal support they need to effectively deal with the inevitability of change in life and professional transition phases. The group meets informally on a regular basis\, on the first Friday each month\, to provide networking\, conversation\, peer-to-peer discussions and to leverage the experience and expertise of fellow WWBA members. \n  \nREGISTER HERE
URL:https://www.wbasny.org/event/women-in-professional-development-2022-2023-series/
ORGANIZER;CN="Westchester Women's Bar Association":MAILTO:executivedirector@wwbany.org
END:VEVENT
BEGIN:VEVENT
DTSTART;TZID=America/New_York:20221205T083000
DTEND;TZID=America/New_York:20221205T113000
DTSTAMP:20260420T223937
CREATED:20221107T174438Z
LAST-MODIFIED:20221107T174438Z
UID:64092-1670229000-1670239800@www.wbasny.org
SUMMARY:CLE-Caring For Your Older Parents:What You and They Need to Protect Their Resources in Retirement
DESCRIPTION:Caring For Your Older Parents: \nWhat You And They Need to Know To Protect Their Resources In Retirement \nPresenters: \nHelen J. Ferraro-Zaffram\, Esq.\, Managing Attorney\, Center for Elder Law and Justice\nKelly Barrett Sarama\, Esq.\, Development & Communications Director\, Center for Elder Law and Justice\nPatricia A. Rauh. Esq.\, Associate Attorney at Hurwitz Fine\, P.C. \nHilton Garden Inn\, 10 Lafayette Square\, Buffalo\, NY 14203\nCost: $40 members\, $60 non-members \nMonday\, December 5\,  8:30 – 11:30 AM.  Breakfast will be included. \nIt is anticipated that this lecture will yield 3.0 hours of Areas of Professional Practice credit and will be appropriate for both newly admitted (admitted two years or less) and experienced attorneys.
URL:https://www.wbasny.org/event/cle-caring-for-your-older-parentswhat-you-and-they-need-to-protect-their-resources-in-retirement/
ORGANIZER;CN="Western New York Women's Bar Association":MAILTO:wbasnywny@gmail.com
END:VEVENT
BEGIN:VEVENT
DTSTART;TZID=America/New_York:20221205T130000
DTEND;TZID=America/New_York:20221205T140000
DTSTAMP:20260420T223937
CREATED:20221129T161954Z
LAST-MODIFIED:20221129T161954Z
UID:64314-1670245200-1670248800@www.wbasny.org
SUMMARY:Lunch with Hon. Gina Lopez-Summa
DESCRIPTION:
URL:https://www.wbasny.org/event/lunch-with-hon-gina-lopez-summa/
END:VEVENT
BEGIN:VEVENT
DTSTART;TZID=America/New_York:20221205T180000
DTEND;TZID=America/New_York:20221205T190000
DTSTAMP:20260420T223937
CREATED:20221121T210619Z
LAST-MODIFIED:20221121T210619Z
UID:64257-1670263200-1670266800@www.wbasny.org
SUMMARY:NYWBA ADR Committee Meeting
DESCRIPTION:NYWBA ADR Committee Meeting\nDecember 5\, 2022\, 6-7 p.m. by Zoom\n \nThe Co-Chairs of the ADR Committee invite you to attend the next ADR Committee meeting\n \nAgenda Items: \n\nCurrent events in ADR;\nFuture program planning – Committee members are encouraged to proffer topics of interest for a program and/or express their interest in serving as a panelist; and\nFeatured speaker – Suzanne Levy will be discussing\,  “Mediation as an Alternative when Guardianship is Weaponized”\n\nLapsed members are encouraged to renew their membership and attend.\n \nRSVP adr@nywba.org  to receive the Zoom link to the meeting. \nADR Co-Chairs: Marcy Einhorn\, Carol Swidler & Susan Salazar
URL:https://www.wbasny.org/event/nywba-adr-committee-meeting/
END:VEVENT
BEGIN:VEVENT
DTSTART;TZID=America/New_York:20221205T180000
DTEND;TZID=America/New_York:20221205T210000
DTSTAMP:20260420T223937
CREATED:20220826T144911Z
LAST-MODIFIED:20220826T144911Z
UID:61876-1670263200-1670274000@www.wbasny.org
SUMMARY:Officers Zoom Meeting
DESCRIPTION:Officers Zoom Meeting
URL:https://www.wbasny.org/event/officers-zoom-meeting-6/
ORGANIZER;CN="WBASNY":MAILTO:events@wbasny.org
END:VEVENT
BEGIN:VEVENT
DTSTART;TZID=America/New_York:20221206T120000
DTEND;TZID=America/New_York:20221206T130000
DTSTAMP:20260420T223937
CREATED:20221110T214532Z
LAST-MODIFIED:20221110T214533Z
UID:64167-1670328000-1670331600@www.wbasny.org
SUMMARY:GRAWA Diversity Committee Meeting
DESCRIPTION:December 6: \nGRAWA Diversity Committee Meeting \n12:00pm-1:00pm \nDiversity Committee meeting on Zoom. \nPlease e-mail Erin at eelmouji@woodsoviatt.com to RSVP.
URL:https://www.wbasny.org/event/grawa-diversity-committee-meeting-3/
END:VEVENT
BEGIN:VEVENT
DTSTART;TZID=America/New_York:20221206T183000
DTEND;TZID=America/New_York:20221206T193000
DTSTAMP:20260420T223937
CREATED:20220907T195755Z
LAST-MODIFIED:20221128T211522Z
UID:62299-1670351400-1670355000@www.wbasny.org
SUMMARY:SIWBA Annual Judicial Gala
DESCRIPTION:The Staten Island Women’s Bar Association’s \nAnnual Judicial Gala \n\n\nDecember 6\, 2022 \n6:30PM \nHilton Garden Inn \n\n2022 Honoree \nHon. Alison M. Hamanjian\, \nSupervising Judge of the Richmond County Family Court \n  \n \n  \n\n\n\n\n\n\n\n\n\n\n\n\n\n\n\nRSVP BY EMAIL\n\n\n\n\n\n\n\n\n\n\n\n\n\n\n\n  \n\n\n\n\n\n\n\nIf RSVP by email\, please send payment for ticket(s) and/or ad(s) to: \n  \nStaten Island Women’s Bar Association \nP.O. Box 140813 \nStaten Island\, New York 10314\n\n\n\n\n\n\n\n  \n\n\n\n\n\n\n\n\n\n\n\n\n\n\n\nRSVP BY EVENTBRITE\n\n\n\n\n\n\n\n\n\n\n\n\n\n\n\n  \n\n\n\n\n\n\n\nPLEASE EMAIL ALL JOURNAL ADS IN PDF AND WORD FORMAT BY NOVEMBER 21\, 2022.
URL:https://www.wbasny.org/event/siwba-annual-judicial-gala/
END:VEVENT
BEGIN:VEVENT
DTSTART;TZID=America/New_York:20221207T120000
DTEND;TZID=America/New_York:20221207T123000
DTSTAMP:20260420T223937
CREATED:20221129T221847Z
LAST-MODIFIED:20221129T221847Z
UID:64338-1670414400-1670416200@www.wbasny.org
SUMMARY:GRAWA Membership Committee Meeting
DESCRIPTION:Wednesday\, December 7\, 2022 – 12:00-12:30 PM \nChapter: Rochester \nName of event: GRAWA Membership Committee Meeting \nDescription of event: Membership Committee meeting. RSVP to Jennifer Jovcevski at jjovcevski@nixonpeabody.com to receive the Zoom link. \nHow will the event be held: Virtual \nCost of event: Free \nRegistration email / link: jjovcevski@nixonpeabody.com
URL:https://www.wbasny.org/event/grawa-membership-committee-meeting-3/
END:VEVENT
BEGIN:VEVENT
DTSTART;TZID=America/New_York:20221207T120000
DTEND;TZID=America/New_York:20221207T133000
DTSTAMP:20260420T223937
CREATED:20221108T153254Z
LAST-MODIFIED:20221108T153254Z
UID:64106-1670414400-1670419800@www.wbasny.org
SUMMARY:CLE-Tax Certiorari 101
DESCRIPTION:
URL:https://www.wbasny.org/event/cle-tax-certiorari-101/
END:VEVENT
BEGIN:VEVENT
DTSTART;TZID=America/New_York:20221207T123000
DTEND;TZID=America/New_York:20221207T143000
DTSTAMP:20260420T223937
CREATED:20220310T154444Z
LAST-MODIFIED:20220310T154444Z
UID:60095-1670416200-1670423400@www.wbasny.org
SUMMARY:Unpacking Evidence Base Practices for the Child Welfare and SUD Practioners
DESCRIPTION:WEDNESDAY\, DECEMBER 7\, 2022: 12:30-2:00 PM\nUNPACKING EVIDENCE BASED PRACTICES FOR THE CHILD WELFARE AND SUD PRACTIONERS\nPresenters \nJen Allen\, Supervisor – Ulster County Department of Social Services \nDr. Marian Silverman\, Child-Parent Psychotherapy \nAllison Contento\, Healthy Families New York Home Visiting Program \nNicole Wang\, Evidence Based Treatment Dissemination Center \nRalph Wolf\, Esq.\, Office for Justice Initiatives \nEvidence-based practice (EBP) involves identifying\, assessing\, and implementing strategies that are supported by scientific research. State child welfare agencies are increasingly aware of the need to focus their resources on programs that have demonstrated results\, especially for achieving outcomes as measured in the Federal Child and Family Services Review process. In addition\, many State legislators are calling for information about whether the programs they fund work\, and foundations and other funders often require that grantees employ evidence-based program models. To provide evidence that their services achieve positive outcomes\, administrators\, program managers\, supervisors\, and frontline workers must understand how evidence-based practice applies to child welfare services and be aware of the resources and tools available to assist them. \n  \nThis project is supported by Grant# 2020-AR-BX-K002 awarded by the Office of Juvenile Justice and Delinquency Prevention\, Office of Justice Programs\, U.S. Department of Justice. The opinions\, findings\, and conclusions or recommendations expressed in this publication/program/exhibition are those of the author(s) and do not necessarily reflect those of the Department of Justice.
URL:https://www.wbasny.org/event/unpacking-evidence-base-practices-for-the-child-welfare-and-sud-practioners/
END:VEVENT
BEGIN:VEVENT
DTSTART;TZID=America/New_York:20221207T173000
DTEND;TZID=America/New_York:20221207T183000
DTSTAMP:20260420T223937
CREATED:20221129T222109Z
LAST-MODIFIED:20221129T222109Z
UID:64340-1670434200-1670437800@www.wbasny.org
SUMMARY:Nassau Annual Holiday Cocktail Party and Mitten Fundraiser Benefiting the Safe Center LI
DESCRIPTION:Wednesday\, December 7\, 2022 -5:30 PM \nChapter: Nassau \nName of event:Annual Holiday Cocktail Party and Mitten Fundraiser Benefiting The Safe Center LI \nHow will the event be held: In-person \nCost of event: $85 \nRegistration email / link: www.eventbrite.com/e/ncwba-annual-holiday-cocktail-party-tickets-472986012897
URL:https://www.wbasny.org/event/nassau-annual-holiday-cocktail-party-and-mitten-fundraiser-benefiting-the-safe-center-li/
END:VEVENT
BEGIN:VEVENT
DTSTART;TZID=America/New_York:20221207T173000
DTEND;TZID=America/New_York:20221207T193000
DTSTAMP:20260420T223937
CREATED:20221103T153513Z
LAST-MODIFIED:20221103T153535Z
UID:63981-1670434200-1670441400@www.wbasny.org
SUMMARY:WWBA Holiday Party
DESCRIPTION:REGISTER HERE
URL:https://www.wbasny.org/event/wwba-holiday-party/
ORGANIZER;CN="Westchester Women's Bar Association":MAILTO:executivedirector@wwbany.org
END:VEVENT
BEGIN:VEVENT
DTSTART;TZID=America/New_York:20221208T080000
DTEND;TZID=America/New_York:20221208T170000
DTSTAMP:20260420T223937
CREATED:20220926T165110Z
LAST-MODIFIED:20220926T165110Z
UID:63041-1670486400-1670518800@www.wbasny.org
SUMMARY:RCWBA Holiday Party
DESCRIPTION:Save the date – RCWBA Holiday Party\, Thursday\, December 8\, 2022\n\n\nWe are pleased to announce that Crismelly Morales\, formerly of Ellen Holtzman’s office\, has graduated and opened her own practice focused on immigration law.\n\nCrismelly Morales\, Esq. \n3 E. Evergreen Road\, Suite #289 \nNew City\, NY 10956 \nTel. (845) 293-5040 \nWebsite: https://cmoraleslaw.com
URL:https://www.wbasny.org/event/rcwba-holiday-party/
END:VEVENT
BEGIN:VEVENT
DTSTART;TZID=America/New_York:20221208T180000
DTEND;TZID=America/New_York:20221208T210000
DTSTAMP:20260420T223937
CREATED:20221021T152206Z
LAST-MODIFIED:20221021T152206Z
UID:63650-1670522400-1670533200@www.wbasny.org
SUMMARY:Suffolk County Holiday Party
DESCRIPTION:
URL:https://www.wbasny.org/event/suffolk-county-holiday-party/
END:VEVENT
BEGIN:VEVENT
DTSTART;TZID=America/New_York:20221209T180000
DTEND;TZID=America/New_York:20221209T200000
DTSTAMP:20260420T223937
CREATED:20221101T151654Z
LAST-MODIFIED:20221101T151654Z
UID:63867-1670608800-1670616000@www.wbasny.org
SUMMARY:Annual Holiday Party and Wishing Tree
DESCRIPTION:Western New York Chapter
URL:https://www.wbasny.org/event/annual-holiday-party-and-wishing-tree-2/
ORGANIZER;CN="Western New York Women's Bar Association":MAILTO:wbasnywny@gmail.com
END:VEVENT
BEGIN:VEVENT
DTSTART;TZID=America/New_York:20221212T173000
DTEND;TZID=America/New_York:20221212T183000
DTSTAMP:20260420T223937
CREATED:20221128T213500Z
LAST-MODIFIED:20221128T213500Z
UID:64291-1670866200-1670869800@www.wbasny.org
SUMMARY:WBAOSC's Holiday Wrapping Party
DESCRIPTION:Join us for WBAOSC’s  \nHoliday Wrapping Party!\n\n\n\n  \n\n\n\nMonday\, December 12 \nJacobowitz & Gubits \n158 Orange Avenue\, Walden \n5:30 pm \n  \nThis year we will be celebrating the holidays by wrapping presents together for the local families adopted by WBAOSC. We have adopted four local families this year and are providing clothing\, toys\, household goods\, and food.  \n  \nJoin us for refreshments\, snacks\, holiday cheer\,  \nand some light\, festive manual labor!  \n  \nPlease RSVP to rsvp@wbaosc.org by December 8 \nFeel free to bring donations of wrapping supplies\, \nincluding wrapping paper\, tape\, gift labels\, bows\, etc. \n  \nHappy Holidays!
URL:https://www.wbasny.org/event/wbaoscs-holiday-wrapping-party/
END:VEVENT
BEGIN:VEVENT
DTSTART;TZID=America/New_York:20221213T080000
DTEND;TZID=America/New_York:20221213T093000
DTSTAMP:20260420T223937
CREATED:20221128T213959Z
LAST-MODIFIED:20221128T213959Z
UID:64297-1670918400-1670923800@www.wbasny.org
SUMMARY:Breakfast at the Bar
DESCRIPTION:
URL:https://www.wbasny.org/event/breakfast-at-the-bar-3/
END:VEVENT
BEGIN:VEVENT
DTSTART;TZID=America/New_York:20221213T173000
DTEND;TZID=America/New_York:20221213T200000
DTSTAMP:20260420T223937
CREATED:20221114T175620Z
LAST-MODIFIED:20221118T152735Z
UID:64185-1670952600-1670961600@www.wbasny.org
SUMMARY:Brooklyn Holiday Party
DESCRIPTION:HOLIDAY CELEBRATION RSVP HERE
URL:https://www.wbasny.org/event/brooklyn-holiday-party/
END:VEVENT
BEGIN:VEVENT
DTSTART;TZID=America/New_York:20221214T173000
DTEND;TZID=America/New_York:20221214T190000
DTSTAMP:20260420T223937
CREATED:20221128T213728Z
LAST-MODIFIED:20221128T213802Z
UID:64293-1671039000-1671044400@www.wbasny.org
SUMMARY:CNYWBA Holiday Party
DESCRIPTION:Register
URL:https://www.wbasny.org/event/cnywba-holiday-party/
END:VEVENT
BEGIN:VEVENT
DTSTART;TZID=America/New_York:20221214T173000
DTEND;TZID=America/New_York:20221214T203000
DTSTAMP:20260420T223937
CREATED:20221110T214911Z
LAST-MODIFIED:20221110T214911Z
UID:64171-1671039000-1671049800@www.wbasny.org
SUMMARY:GRAWA Holiday Party
DESCRIPTION:December 14: \nGRAWA Holiday Party: \nSave the Date! Wednesday\, December 14: 5:30pm-8:30pm. More details to come soon.
URL:https://www.wbasny.org/event/grawa-holiday-party/
END:VEVENT
BEGIN:VEVENT
DTSTART;TZID=America/New_York:20221215T173000
DTEND;TZID=America/New_York:20221215T213000
DTSTAMP:20260420T223937
CREATED:20221110T214317Z
LAST-MODIFIED:20221117T160037Z
UID:64164-1671125400-1671139800@www.wbasny.org
SUMMARY:QCWBA Holiday Party
DESCRIPTION:December 15: Holiday Party. \nThursday\, December 15\, 2022\n5:30 pm to 9:30 pm \nJericho Terrace\n249 Jericho Turnpike\nMineola\, NY 11501 \n$110/Person or Table of 10 for $990\nif payment received by Dec. 5th \n$135/Person or Table of 10 for $1\,215\nif payment received Dec. 6th or at the door \nBuy Tickets HERE or\nMail checks to:\nQCWBA\nP.O. Box 585\nBorough Hall Station\nKew Gardens\, NY 11424
URL:https://www.wbasny.org/event/qcwba-holiday-party/
END:VEVENT
BEGIN:VEVENT
DTSTART;TZID=America/New_York:20221215T180000
DTEND;TZID=America/New_York:20221215T190000
DTSTAMP:20260420T223937
CREATED:20221121T211109Z
LAST-MODIFIED:20221121T211109Z
UID:64259-1671127200-1671130800@www.wbasny.org
SUMMARY:NYWBA Bereavement Group Meeting
DESCRIPTION:NYWBA Bereavement Group Meeting \n\nThe holiday season can be fraught with mixed emotions\, especially for those who have suffered the loss of a spouse\, partner or other family member. Please join our group as we band together to face the holidays. Coping and survival mechanisms as well as ways to find new comfort and peace will be discussed as well as any other topics anyone cares to discuss. RSVP bereavement@nywba.org. \n\nDecember 15\, 2022\, 6:00 p.m.\, by Zoom
URL:https://www.wbasny.org/event/nywba-bereavement-group-meeting/
END:VEVENT
BEGIN:VEVENT
DTSTART;TZID=America/New_York:20221216T120000
DTEND;TZID=America/New_York:20221216T130000
DTSTAMP:20260420T223937
CREATED:20221212T160357Z
LAST-MODIFIED:20221212T160357Z
UID:64487-1671192000-1671195600@www.wbasny.org
SUMMARY:Lunch with Hon. Gary Rosa
DESCRIPTION:The monthly meetings with Judge members of our chapter will allow you to get to know each judge and perhaps learn a few tricks for success as well as pet peeves to avoid. It is a wonderful opportunity to have a casual meeting and be able to chat about any topic. \n  \nThe next session will feature Family Court Judge Gary Rosa \n  \nPlease save the time and date on your calendar: \n  \n12:00 noon\, Wednesday\, December 16\, 2022   \n  \nIf you do not have Teams on your computer\, download it now so you are ready to go. \n  \nWe will circulate the Team link on when we get closer to the event so it stays on top of your e-mail and is easy to find.
URL:https://www.wbasny.org/event/lunch-with-hon-gary-rosa/
END:VEVENT
END:VCALENDAR