BEGIN:VCALENDAR
VERSION:2.0
PRODID:-//wbasny - ECPv6.15.20//NONSGML v1.0//EN
CALSCALE:GREGORIAN
METHOD:PUBLISH
X-WR-CALNAME:wbasny
X-ORIGINAL-URL:https://www.wbasny.org
X-WR-CALDESC:Events for wbasny
REFRESH-INTERVAL;VALUE=DURATION:PT1H
X-Robots-Tag:noindex
X-PUBLISHED-TTL:PT1H
BEGIN:VTIMEZONE
TZID:America/New_York
BEGIN:DAYLIGHT
TZOFFSETFROM:-0500
TZOFFSETTO:-0400
TZNAME:EDT
DTSTART:20250309T070000
END:DAYLIGHT
BEGIN:STANDARD
TZOFFSETFROM:-0400
TZOFFSETTO:-0500
TZNAME:EST
DTSTART:20251102T060000
END:STANDARD
BEGIN:DAYLIGHT
TZOFFSETFROM:-0500
TZOFFSETTO:-0400
TZNAME:EDT
DTSTART:20260308T070000
END:DAYLIGHT
BEGIN:STANDARD
TZOFFSETFROM:-0400
TZOFFSETTO:-0500
TZNAME:EST
DTSTART:20261101T060000
END:STANDARD
BEGIN:DAYLIGHT
TZOFFSETFROM:-0500
TZOFFSETTO:-0400
TZNAME:EDT
DTSTART:20270314T070000
END:DAYLIGHT
BEGIN:STANDARD
TZOFFSETFROM:-0400
TZOFFSETTO:-0500
TZNAME:EST
DTSTART:20271107T060000
END:STANDARD
END:VTIMEZONE
BEGIN:VEVENT
DTSTART;TZID=America/New_York:20260217T130000
DTEND;TZID=America/New_York:20260217T140000
DTSTAMP:20260420T105520
CREATED:20260205T182320Z
LAST-MODIFIED:20260205T182442Z
UID:98878-1771333200-1771336800@www.wbasny.org
SUMMARY:The Use of Force by Federal Agents (Brooklyn Chapter)
DESCRIPTION:RSVP Now
URL:https://www.wbasny.org/event/the-use-of-force-by-federal-agents-brooklyn-chapter/
END:VEVENT
BEGIN:VEVENT
DTSTART;TZID=America/New_York:20260218T123000
DTEND;TZID=America/New_York:20260218T143000
DTSTAMP:20260420T105520
CREATED:20260210T154504Z
LAST-MODIFIED:20260210T154504Z
UID:99057-1771417800-1771425000@www.wbasny.org
SUMMARY:Black History Month Celebration: A Century of Black History Commemorations (Brooklyn Chapter)
DESCRIPTION:
URL:https://www.wbasny.org/event/black-history-month-celebration-a-century-of-black-history-commemorations-brooklyn-chapter/
END:VEVENT
BEGIN:VEVENT
DTSTART;TZID=America/New_York:20260219T130000
DTEND;TZID=America/New_York:20260219T140000
DTSTAMP:20260420T105520
CREATED:20260122T181644Z
LAST-MODIFIED:20260122T181644Z
UID:98372-1771506000-1771509600@www.wbasny.org
SUMMARY:CLE- U.S Supreme Court Update: The Constitutional Rights of Parents
DESCRIPTION:ERA / Women’s Civil Rights Committee presents \n  \nU.S. Supreme Court Update: The Constitutional Rights\nof Parents \n  \nFebruary 19\, 2026 \n  \n1:00 – 2:00 pm \n  \nThis program will explore the evolution of the constitutional rights of parents to make decisions concerning care\, custody and control of their children and to direct their children’s religious upbringing.  \n \nDebra S. Cohen\, Esq. \n \nLouise A. Derevlany\, Esq. \n1.0 CLE Credits  \n(Transitional / Non-Transitional) \n\nCost:\nFree to Members \nNon-Members – $40 \nREGISTER HERE \nWBASNY is certified by the New York State Continuing Legal Education Board as an Accredited Provider of continuing legal education in the State of New York. Program approval is pending for a maximum of 1.0 transitional/non-transitional credit hours.​ \n  \nFinancial hardship scholarship:  Full and partial scholarships for these programs based on financial need are available. A written request must be forwarded to the WBASNY President\, Post Office Box 936\, New York\, NY 10024-0546. All requests are confidential.
URL:https://www.wbasny.org/event/cle-u-s-supreme-court-update-the-constitutional-rights-of-parents/
ORGANIZER;CN="WBASNY":MAILTO:events@wbasny.org
END:VEVENT
BEGIN:VEVENT
DTSTART;TZID=America/New_York:20260219T130000
DTEND;TZID=America/New_York:20260219T140000
DTSTAMP:20260420T105520
CREATED:20260216T154216Z
LAST-MODIFIED:20260216T154216Z
UID:99346-1771506000-1771509600@www.wbasny.org
SUMMARY:NYWBA Social Media Committee Meeting
DESCRIPTION:February 19\, 2026 1:00 pm – 2:00 pm \nNYWBA Social Media Committee Meeting \nJoin the NYWBA’s newly formed Social Media Committee as we work to increase the NYWBA’s presence online. The Committee welcomes input from members as we develop our Social Media Action Plan. This month will focus on strategy\, review of plan\, and other updates. \nVirtual \nNYWBA Social Media Committee Meeting
URL:https://www.wbasny.org/event/nywba-social-media-committee-meeting/
END:VEVENT
BEGIN:VEVENT
DTSTART;TZID=America/New_York:20260220T130000
DTEND;TZID=America/New_York:20260220T140000
DTSTAMP:20260420T105520
CREATED:20260204T151717Z
LAST-MODIFIED:20260204T151717Z
UID:98846-1771592400-1771596000@www.wbasny.org
SUMMARY:Beyond the Business Card (Suffolk Chapter)
DESCRIPTION:
URL:https://www.wbasny.org/event/beyond-the-business-card-suffolk-chapter/
END:VEVENT
BEGIN:VEVENT
DTSTART;TZID=America/New_York:20260220T190000
DTEND;TZID=America/New_York:20260220T210000
DTSTAMP:20260420T105520
CREATED:20260216T161245Z
LAST-MODIFIED:20260216T161245Z
UID:99351-1771614000-1771621200@www.wbasny.org
SUMMARY:NYWBA Kimchi-Making Workshop
DESCRIPTION:February 20\, 2026 7:00 pm – 9:00 pm \nNYWBA Kimchi-Making Workshop \nJoin us for a hands-on kimchi-making workshop where you’ll learn the basics of traditional Korean fermentation and make your own jar to take home. \nThis hands-workshop introduces participants to the history\, followed by an overview of the traditional kimchi-making process. Attendees will learn how to prepare their own batch of kimchi to take home at the end of the session. The workshop will be taught by Andrea Kim\, a member of NYWBA and a current part-time law student at Brooklyn Law School. \nA portion of proceeds will be donated to the Immigration Defense Project. \nIn-Person \n150 E 42nd St 17th floor\, New York\, NY 10017 \n$45 Members/$25 Law Students \nREGISTER HERE
URL:https://www.wbasny.org/event/nywba-kimchi-making-workshop/
END:VEVENT
BEGIN:VEVENT
DTSTART;TZID=America/New_York:20260222T123000
DTEND;TZID=America/New_York:20260222T133000
DTSTAMP:20260420T105520
CREATED:20260202T210607Z
LAST-MODIFIED:20260202T210607Z
UID:98696-1771763400-1771767000@www.wbasny.org
SUMMARY:Orangetheory Charity Event (Orange and Sullivan Chapter)
DESCRIPTION:RSVP to rsvp@WBAOSC.org
URL:https://www.wbasny.org/event/orangetheory-charity-event-orange-and-sullivan-chapter/
END:VEVENT
BEGIN:VEVENT
DTSTART;TZID=America/New_York:20260223T130000
DTEND;TZID=America/New_York:20260223T140000
DTSTAMP:20260420T105520
CREATED:20260216T161625Z
LAST-MODIFIED:20260216T161625Z
UID:99353-1771851600-1771855200@www.wbasny.org
SUMMARY:NYWBA Animal Law Committee Meeting
DESCRIPTION:February 23\, 2026 1:00 pm \nNYWBA Animal Law Committee Meeting \nZoom link will be circulated amongst the committee members in advance of the meeting. \nNYWBA Animal Law Committee Meeting \n \n 
URL:https://www.wbasny.org/event/nywba-animal-law-committee-meeting-3/
END:VEVENT
BEGIN:VEVENT
DTSTART;TZID=America/New_York:20260224T183000
DTEND;TZID=America/New_York:20260224T203000
DTSTAMP:20260420T105520
CREATED:20260216T162351Z
LAST-MODIFIED:20260216T162351Z
UID:99355-1771957800-1771965000@www.wbasny.org
SUMMARY:CLE- Mediation: Best Practices & Pitfalls
DESCRIPTION:February 24\, 2026 6:30 pm – 8:30 pm \nNYWBA Matrimonial and Family Law Committee and Rower Events Presents: Mediation: Best Practices & Pitfalls | CLE Program \nPlease join us for a panel discussion hosted by Rower LLC and the NYWBA Matrimonial and Family Law Committee regarding mediation. \nIn-Person \n2 Park Avenue Conference Center (entrance located on 33rd Street next to Gregory’s Coffee) \nFree NYWBA and WBASNY and NYSBA Members\, $25\, non-member
URL:https://www.wbasny.org/event/cle-mediation-best-practices-pitfalls/
END:VEVENT
BEGIN:VEVENT
DTSTART;TZID=America/New_York:20260225T120000
DTEND;TZID=America/New_York:20260225T130000
DTSTAMP:20260420T105520
CREATED:20260203T153056Z
LAST-MODIFIED:20260203T153056Z
UID:98702-1772020800-1772024400@www.wbasny.org
SUMMARY:CLE- Access to Justice
DESCRIPTION:Register: contact@wbasnywny.org 
URL:https://www.wbasny.org/event/cle-access-to-justice/
ORGANIZER;CN="Western New York Women's Bar Association":MAILTO:wbasnywny@gmail.com
END:VEVENT
BEGIN:VEVENT
DTSTART;TZID=America/New_York:20260225T123000
DTEND;TZID=America/New_York:20260225T133000
DTSTAMP:20260420T105520
CREATED:20260206T151503Z
LAST-MODIFIED:20260206T151503Z
UID:98937-1772022600-1772026200@www.wbasny.org
SUMMARY:Lunch with a Judge Series (Orange and Sullivan Chapter)
DESCRIPTION:Members CLICK HERE to have lunch with Judge Brady \n\nNon-Members CLICK HERE to have Lunch with Judge Brady
URL:https://www.wbasny.org/event/lunch-with-a-judge-series-orange-and-sullivan-chapter/
END:VEVENT
BEGIN:VEVENT
DTSTART;TZID=America/New_York:20260225T173000
DTEND;TZID=America/New_York:20260225T190000
DTSTAMP:20260420T105520
CREATED:20260130T211947Z
LAST-MODIFIED:20260130T211947Z
UID:98587-1772040600-1772046000@www.wbasny.org
SUMMARY:Book Club (Central New York)
DESCRIPTION:
URL:https://www.wbasny.org/event/book-club-central-new-york/
END:VEVENT
BEGIN:VEVENT
DTSTART;TZID=America/New_York:20260225T173000
DTEND;TZID=America/New_York:20260225T193000
DTSTAMP:20260420T105520
CREATED:20260203T171212Z
LAST-MODIFIED:20260203T171212Z
UID:98707-1772040600-1772047800@www.wbasny.org
SUMMARY:Black Women Lawyers and the Legal Organizations They Established (Brooklyn Chapter)
DESCRIPTION:
URL:https://www.wbasny.org/event/black-women-lawyers-and-the-legal-organizations-they-established-brooklyn-chapter/
END:VEVENT
BEGIN:VEVENT
DTSTART;TZID=America/New_York:20260225T173000
DTEND;TZID=America/New_York:20260225T193000
DTSTAMP:20260420T105520
CREATED:20260206T152143Z
LAST-MODIFIED:20260206T152143Z
UID:98941-1772040600-1772047800@www.wbasny.org
SUMMARY:GO RED for Women's Heart Health (GRAWA Chapter)
DESCRIPTION:REGISTER HERE
URL:https://www.wbasny.org/event/go-red-for-womens-heart-health-grawa-chapter/
END:VEVENT
BEGIN:VEVENT
DTSTART;TZID=America/New_York:20260226T130000
DTEND;TZID=America/New_York:20260226T140000
DTSTAMP:20260420T105520
CREATED:20260212T173304Z
LAST-MODIFIED:20260212T173304Z
UID:99085-1772110800-1772114400@www.wbasny.org
SUMMARY:Lunch with Hon. Cohen (Brooklyn Chapter)
DESCRIPTION:RSVP Now
URL:https://www.wbasny.org/event/lunch-with-hon-cohen-brooklyn-chapter/
END:VEVENT
BEGIN:VEVENT
DTSTART;TZID=America/New_York:20260226T163000
DTEND;TZID=America/New_York:20260226T173000
DTSTAMP:20260420T105520
CREATED:20260216T163525Z
LAST-MODIFIED:20260216T163525Z
UID:99357-1772123400-1772127000@www.wbasny.org
SUMMARY:The Induction Ceremony of James G. Clynes as a Justice of The Supreme Court of the State of New York
DESCRIPTION:February 26\, 2026 4:30 pm \nTHE INDUCTION CEREMONY OF JAMES G. CLYNES AS A JUSTICE OF THE SUPREME COURT OF THE STATE OF NEW YORK \nYou are cordially invited to attend the induction ceremony of James G. Clynes as a justice of the supreme court of the state of New York. \nIn-Person \nNew York Supreme Court\, 60 Centre Street\, Room 300\, New York\, NY 10013 \nTHE INDUCTION CEREMONY OF JAMES G. CLYNES AS A JUSTICE OF THE SUPREME COURT OF THE STATE OF NEW YORK \n \n 
URL:https://www.wbasny.org/event/the-induction-ceremony-of-james-g-clynes-as-a-justice-of-the-supreme-court-of-the-state-of-new-york/
END:VEVENT
BEGIN:VEVENT
DTSTART;TZID=America/New_York:20260226T173000
DTEND;TZID=America/New_York:20260226T190000
DTSTAMP:20260420T105520
CREATED:20260130T212448Z
LAST-MODIFIED:20260130T212448Z
UID:98590-1772127000-1772132400@www.wbasny.org
SUMMARY:Bar Association Happy Hour Mixer (Capital District Chapter)
DESCRIPTION:
URL:https://www.wbasny.org/event/bar-association-happy-hour-mixer-capital-district-chapter/
END:VEVENT
BEGIN:VEVENT
DTSTART;TZID=America/New_York:20260226T173000
DTEND;TZID=America/New_York:20260226T193000
DTSTAMP:20260420T105520
CREATED:20260209T205219Z
LAST-MODIFIED:20260209T205219Z
UID:99047-1772127000-1772134200@www.wbasny.org
SUMMARY:Frederick Douglass and the Woman Who Led Him to Freedom (Central New York Chapter)
DESCRIPTION:RSVP Here!
URL:https://www.wbasny.org/event/frederick-douglass-and-the-woman-who-led-him-to-freedom-central-new-york-chapter/
END:VEVENT
BEGIN:VEVENT
DTSTART;TZID=America/New_York:20260227T173000
DTEND;TZID=America/New_York:20260227T183000
DTSTAMP:20260420T105520
CREATED:20260129T211552Z
LAST-MODIFIED:20260129T211552Z
UID:98581-1772213400-1772217000@www.wbasny.org
SUMMARY:Zumba for Heart Health (Suffolk Chapter)
DESCRIPTION:CLICK HERE TO REGISTER FOR THIS EVENT
URL:https://www.wbasny.org/event/zumba-for-heart-health-suffolk-chapter/
END:VEVENT
BEGIN:VEVENT
DTSTART;TZID=America/New_York:20260228T083000
DTEND;TZID=America/New_York:20260228T093000
DTSTAMP:20260420T105520
CREATED:20260206T153217Z
LAST-MODIFIED:20260206T153217Z
UID:98944-1772267400-1772271000@www.wbasny.org
SUMMARY:Ride with Heart (GRAWA Chapter)
DESCRIPTION:REGISTER HERE
URL:https://www.wbasny.org/event/ride-with-heart-grawa-chapter/
END:VEVENT
BEGIN:VEVENT
DTSTART;TZID=America/New_York:20260302T100000
DTEND;TZID=America/New_York:20260302T110000
DTSTAMP:20260420T105520
CREATED:20260210T205248Z
LAST-MODIFIED:20260210T205248Z
UID:99060-1772445600-1772449200@www.wbasny.org
SUMMARY:Read Across America Day (GRAWA)
DESCRIPTION:If you are unable to join us on March 2nd\, please consider making a book donation by checking out our Amazon Wishlist!
URL:https://www.wbasny.org/event/read-across-america-day-grawa/
END:VEVENT
BEGIN:VEVENT
DTSTART;TZID=America/New_York:20260304T170000
DTEND;TZID=America/New_York:20260304T190000
DTSTAMP:20260420T105520
CREATED:20260209T204408Z
LAST-MODIFIED:20260209T204408Z
UID:99044-1772643600-1772650800@www.wbasny.org
SUMMARY:Honoring Legacy\, Inspiring the Future: The Karen DeCrow Panel 2026 (Central New York Chapter)
DESCRIPTION:Register Here!
URL:https://www.wbasny.org/event/honoring-legacy-inspiring-the-future-the-karen-decrow-panel-2026-central-new-york-chapter/
END:VEVENT
BEGIN:VEVENT
DTSTART;TZID=America/New_York:20260304T180000
DTEND;TZID=America/New_York:20260304T190000
DTSTAMP:20260420T105520
CREATED:20260213T152815Z
LAST-MODIFIED:20260215T221253Z
UID:99175-1772647200-1772650800@www.wbasny.org
SUMMARY:Bridging the Generational Gap
DESCRIPTION:present \n  \nBridging the Generational Gap \n  \nMarch 4\, 2026 \n  \n6:00 – 7:00 pm \n  \nIn today’s legal landscape\, the impossible math of modern life has forced a shift in how women lawyers engage with professional organizations and the profession itself. In addition\, navigating a workforce that spans four generations can lead to misunderstanding and miscommunication\, exacerbating burnout and disengagement. This session\, Bridging the Generational Gap\, trades general observations for hands on strategies designed to solve the communication and engagement challenges facing today’s women lawyers. We’ll move past the old models of success and offer a fresh approach that meets the urgent needs of women across four generations. \n  \nJoin Kelli Dunaway and Mollie Farrell Khazaeli for a dynamic program designed to turn a crisis of disengagement into a force for collective change. Whether you are looking to better understand your colleagues or revitalize your bar association’s value\, you will leave with the tools to reach across generations and build a more collaborative\, relevant\, and powerful professional community. \n \nKelli Dunaway \n \nMollie Farrell \nWebinar Registration – Zoom
URL:https://www.wbasny.org/event/bridging-the-generational-gap/
ORGANIZER;CN="WBASNY":MAILTO:events@wbasny.org
END:VEVENT
BEGIN:VEVENT
DTSTART;TZID=America/New_York:20260305T080000
DTEND;TZID=America/New_York:20260305T170000
DTSTAMP:20260420T105520
CREATED:20260218T172026Z
LAST-MODIFIED:20260218T172205Z
UID:99480-1772697600-1772730000@www.wbasny.org
SUMMARY:Read Across America Day (Westchester Chapter)
DESCRIPTION:WWBA Members are invited to participate in the “Read Across America Day” celebration to be held at the Justice Sonia Sotomayor Community School on Thursday\, March 5\, 2026 at 8:00 AM. On this day\, we will be commemorating the birthday of Dr. Seuss and creating a wonderful opportunity to promote children’s reading. \nThrough participation in the program as a Guest Reader\, you will engage as a critical partner to promote reading as a catalyst for students’ future academic and professional success. \nIf you are interested in being a Guest Reader\, please contact Julie P. Passman by email at passmanspecialed@gmail.com. \n*Please note\, volunteer spots will be first come\, first-served.* \nKindly RSVP by Friday\, February 27\, 2026. \nJustice Sonia Sotomayor Community School\, 121 McLean Avenue Yonkers\, NY 10705
URL:https://www.wbasny.org/event/read-across-america-day-westchester-chapter/
ORGANIZER;CN="Westchester Women's Bar Association":MAILTO:executivedirector@wwbany.org
END:VEVENT
BEGIN:VEVENT
DTSTART;TZID=America/New_York:20260305T123000
DTEND;TZID=America/New_York:20260305T133000
DTSTAMP:20260420T105520
CREATED:20260213T212156Z
LAST-MODIFIED:20260213T212156Z
UID:99263-1772713800-1772717400@www.wbasny.org
SUMMARY:Lunch with a Judge Series (Orange and Sullivan Chapter)
DESCRIPTION:Members CLICK HERE to have lunch with Magistrate Bourne \n\nNon-Members CLICK HERE to have Lunch with Magistrate Bourne
URL:https://www.wbasny.org/event/lunch-with-a-judge-series-orange-and-sullivan-chapter-2/
END:VEVENT
BEGIN:VEVENT
DTSTART;TZID=America/New_York:20260305T130000
DTEND;TZID=America/New_York:20260305T143000
DTSTAMP:20260420T105520
CREATED:20260227T181533Z
LAST-MODIFIED:20260227T181533Z
UID:99904-1772715600-1772721000@www.wbasny.org
SUMMARY:The Gender Recognition Act and Other Services and Supports for LGBTQ+ Immigrants (Central New York Chapter)
DESCRIPTION:
URL:https://www.wbasny.org/event/the-gender-recognition-act-and-other-services-and-supports-for-lgbtq-immigrants-central-new-york-chapter/
END:VEVENT
BEGIN:VEVENT
DTSTART;TZID=America/New_York:20260305T173000
DTEND;TZID=America/New_York:20260305T193000
DTSTAMP:20260420T105520
CREATED:20260127T161735Z
LAST-MODIFIED:20260127T161735Z
UID:98566-1772731800-1772739000@www.wbasny.org
SUMMARY:Headshot Happy Hour (Western New York Chapter)
DESCRIPTION:RSVP to: tschubauer.waters@gmail.com
URL:https://www.wbasny.org/event/headshot-happy-hour-western-new-york-chapter-3/
ORGANIZER;CN="Western New York Women's Bar Association":MAILTO:wbasnywny@gmail.com
END:VEVENT
BEGIN:VEVENT
DTSTART;TZID=America/New_York:20260305T183000
DTEND;TZID=America/New_York:20260305T200000
DTSTAMP:20260420T105520
CREATED:20260206T155628Z
LAST-MODIFIED:20260206T155628Z
UID:98947-1772735400-1772740800@www.wbasny.org
SUMMARY:Book and a Beverage (WBASNY)
DESCRIPTION:WBASNY Wellness Committee\ncordially invites you to an \nevening to virtually enjoy a book and a beverage \nMarch 5\, 2026\n6:30 – 8:00 pm \nPlease join the WBASNY Wellness Committee to enjoy a fun evening with friends and beverage of your choice. We will be discussing the New York Times Bestseller The Thursday Murder Club by Richard Osman. This book is the first in a popular mystery series\, which follows four witty seniors who live in a retirement village. The unlikely group solves cold cases until a real murder happens\, turning their hobby into a real murder investigation.   This book has now become a popular film on Netflix. \n \nREGISTER HERE
URL:https://www.wbasny.org/event/book-and-a-beverage-wbasny/
ORGANIZER;CN="WBASNY":MAILTO:events@wbasny.org
END:VEVENT
BEGIN:VEVENT
DTSTART;TZID=America/New_York:20260308T130000
DTEND;TZID=America/New_York:20260308T170000
DTSTAMP:20260420T105520
CREATED:20251229T155536Z
LAST-MODIFIED:20251229T155536Z
UID:97422-1772974800-1772989200@www.wbasny.org
SUMMARY:NYWBA Cycle for Survival 2026
DESCRIPTION:March 8\, 2026 1:00 pm – 5:00 pm \nNYWBA Cycle for Survival 2026 \nThis will be NYWBA’s FIFTH year participating in Sloan Kettering’s Cycle for Survival. Cycle for Survival is an annual fundraiser for which Sloan Kettering and Equinox partner together to raise money for rare cancer research. \nWe ride in memory of NYWBA Past President Amanda Norejko who we sadly lost to cancer in August 2024. \nCycle for Survival is a four-hour indoor cycle event during which participants take turns cycling on spin bikes. You can ride for as short or as long a time as you want. There will be a DJ playing music and the Equinox spin instructors take turns riding on the stage. It is a really fun\, inspirational and exciting event and we urge each of you to join the NYWBA team. \nIf you are unable to ride or would rather not ride that is completely fine. Feel free to come to cheer on our team or visit the NYWBA team website and make a donation. \nWe are really looking forward to the event this year and hope each of you will join us in the fight to cure rare cancers. \nThis ride will be held at Equinox Bryant Park (129 W 41st St\, New York\, NY 10036) \nIn-Person \nEquinox Bryant Park (129 W 41st St\, New York\, NY 10036)
URL:https://www.wbasny.org/event/nywba-cycle-for-survival-2026/
END:VEVENT
BEGIN:VEVENT
DTSTART;TZID=America/New_York:20260310T173000
DTEND;TZID=America/New_York:20260310T183000
DTSTAMP:20260420T105520
CREATED:20260210T213558Z
LAST-MODIFIED:20260210T213558Z
UID:99063-1773163800-1773167400@www.wbasny.org
SUMMARY:L'Chaim + Meet: GRAWA/Jewish Federation Women's Philanthropy Gathering before 93Queen Screening (GRAWA)
DESCRIPTION:REGISTER HERE
URL:https://www.wbasny.org/event/lchaim-meet-grawa-jewish-federation-womens-philanthropy-gathering-before-93queen-screening-grawa/
END:VEVENT
END:VCALENDAR