BEGIN:VCALENDAR
VERSION:2.0
PRODID:-//wbasny - ECPv6.15.20//NONSGML v1.0//EN
CALSCALE:GREGORIAN
METHOD:PUBLISH
X-ORIGINAL-URL:https://www.wbasny.org
X-WR-CALDESC:Events for wbasny
REFRESH-INTERVAL;VALUE=DURATION:PT1H
X-Robots-Tag:noindex
X-PUBLISHED-TTL:PT1H
BEGIN:VTIMEZONE
TZID:America/New_York
BEGIN:DAYLIGHT
TZOFFSETFROM:-0500
TZOFFSETTO:-0400
TZNAME:EDT
DTSTART:20180311T070000
END:DAYLIGHT
BEGIN:STANDARD
TZOFFSETFROM:-0400
TZOFFSETTO:-0500
TZNAME:EST
DTSTART:20181104T060000
END:STANDARD
BEGIN:DAYLIGHT
TZOFFSETFROM:-0500
TZOFFSETTO:-0400
TZNAME:EDT
DTSTART:20190310T070000
END:DAYLIGHT
BEGIN:STANDARD
TZOFFSETFROM:-0400
TZOFFSETTO:-0500
TZNAME:EST
DTSTART:20191103T060000
END:STANDARD
BEGIN:DAYLIGHT
TZOFFSETFROM:-0500
TZOFFSETTO:-0400
TZNAME:EDT
DTSTART:20200308T070000
END:DAYLIGHT
BEGIN:STANDARD
TZOFFSETFROM:-0400
TZOFFSETTO:-0500
TZNAME:EST
DTSTART:20201101T060000
END:STANDARD
END:VTIMEZONE
BEGIN:VTIMEZONE
TZID:UTC
BEGIN:STANDARD
TZOFFSETFROM:+0000
TZOFFSETTO:+0000
TZNAME:UTC
DTSTART:20180101T000000
END:STANDARD
END:VTIMEZONE
BEGIN:VEVENT
DTSTART;TZID=America/New_York:20190916T080000
DTEND;TZID=America/New_York:20190916T170000
DTSTAMP:20260425T203434
CREATED:20190916T154622Z
LAST-MODIFIED:20190916T154629Z
UID:48007-1568620800-1568653200@www.wbasny.org
SUMMARY:Guardians of Justice
DESCRIPTION:Queens Chapter
URL:https://www.wbasny.org/event/guardians-of-justice/
LOCATION:Terrace On The Park\, 52-11 111th Street\, Flushing\, New York\, 11368
END:VEVENT
BEGIN:VEVENT
DTSTART;TZID=America/New_York:20190916T180000
DTEND;TZID=America/New_York:20190916T200000
DTSTAMP:20260425T203434
CREATED:20190911T203157Z
LAST-MODIFIED:20190911T203203Z
UID:47869-1568656800-1568664000@www.wbasny.org
SUMMARY:NYWBA Annual Membership Reception
DESCRIPTION:Nassau County Chapter \n 
URL:https://www.wbasny.org/event/nywba-annual-membership-reception/
LOCATION:Blank Rome LLP\, 405 Lexington Avenue\, New York City\, NY
END:VEVENT
BEGIN:VEVENT
DTSTART;TZID=America/New_York:20190917T080000
DTEND;TZID=America/New_York:20190917T170000
DTSTAMP:20260425T203434
CREATED:20190911T195156Z
LAST-MODIFIED:20190911T195200Z
UID:47813-1568707200-1568739600@www.wbasny.org
SUMMARY:Constitution Day
DESCRIPTION:Nassau County Chapter
URL:https://www.wbasny.org/event/constitution-day/
LOCATION:TBD
END:VEVENT
BEGIN:VEVENT
DTSTART;TZID=America/New_York:20190917T123000
DTEND;TZID=America/New_York:20190917T160000
DTSTAMP:20260425T203434
CREATED:20190906T213057Z
LAST-MODIFIED:20190906T213131Z
UID:47735-1568723400-1568736000@www.wbasny.org
SUMMARY:Matrimonial Mentoring Program
DESCRIPTION:Western New York Chapter
URL:https://www.wbasny.org/event/matrimonial-mentoring-program/
LOCATION:Supreme Court Ceremonial Courtroom
ORGANIZER;CN="Western New York Women's Bar Association":MAILTO:wbasnywny@gmail.com
END:VEVENT
BEGIN:VEVENT
DTSTART;TZID=UTC:20190918T080000
DTEND;TZID=UTC:20190918T090000
DTSTAMP:20260425T203434
CREATED:20190904T191442Z
LAST-MODIFIED:20190904T191446Z
UID:47603-1568793600-1568797200@www.wbasny.org
SUMMARY:Empowering Women For Financial Freedom
DESCRIPTION:Western New York Chapter
URL:https://www.wbasny.org/event/empowering-women-for-financial-freedom/
LOCATION:Alliance Advisory Group\, 600 Delaware Avenue\, Buffalo\, NY\, 14202
ORGANIZER;CN="Western New York Women's Bar Association":MAILTO:wbasnywny@gmail.com
END:VEVENT
BEGIN:VEVENT
DTSTART;TZID=America/New_York:20190918T123000
DTEND;TZID=America/New_York:20190918T153000
DTSTAMP:20260425T203434
CREATED:20190906T205307Z
LAST-MODIFIED:20190906T205311Z
UID:47704-1568809800-1568820600@www.wbasny.org
SUMMARY:Networking Luncheon
DESCRIPTION:Suffolk County Chapter
URL:https://www.wbasny.org/event/networking-luncheon/
LOCATION:Irish Coffee Pub\, 131 Carleton Avenue\, East Islip\, NY
END:VEVENT
BEGIN:VEVENT
DTSTART;TZID=America/New_York:20190919T080000
DTEND;TZID=America/New_York:20190919T173000
DTSTAMP:20260425T203434
CREATED:20190912T212808Z
LAST-MODIFIED:20190912T212814Z
UID:47940-1568880000-1568914200@www.wbasny.org
SUMMARY:Connectionology-University of Buffalo School of Law
DESCRIPTION:Western New York Chapter
URL:https://www.wbasny.org/event/connectionology-university-of-buffalo-school-of-law/
LOCATION:University of Buffalo Law School\, 211 Putnam Way\, Buffalo\, NY\, 14260
ORGANIZER;CN="Western New York Women's Bar Association":MAILTO:wbasnywny@gmail.com
END:VEVENT
BEGIN:VEVENT
DTSTART;TZID=America/New_York:20190919T080000
DTEND;TZID=America/New_York:20190920T170000
DTSTAMP:20260425T203434
CREATED:20190911T195539Z
LAST-MODIFIED:20190911T195545Z
UID:47817-1568880000-1568998800@www.wbasny.org
SUMMARY:NYSBA Technology Summit
DESCRIPTION:Nassau County Chapter
URL:https://www.wbasny.org/event/nysba-technology-summit/
LOCATION:Crowne Plaza\, Times Square
END:VEVENT
BEGIN:VEVENT
DTSTART;TZID=America/New_York:20190919T083000
DTEND;TZID=America/New_York:20190919T103000
DTSTAMP:20260425T203434
CREATED:20190916T155352Z
LAST-MODIFIED:20190916T155358Z
UID:48013-1568881800-1568889000@www.wbasny.org
SUMMARY:Sexual Harassment Prevention Training
DESCRIPTION:Central New York Chapter
URL:https://www.wbasny.org/event/sexual-harassment-prevention-training/
LOCATION:Vera House\, Inc.\, 723 James Street\, Syracuse\, NY\, 13203
END:VEVENT
BEGIN:VEVENT
DTSTART;TZID=America/New_York:20190919T123000
DTEND;TZID=America/New_York:20190919T163000
DTSTAMP:20260425T203434
CREATED:20190909T154644Z
LAST-MODIFIED:20190909T154650Z
UID:47769-1568896200-1568910600@www.wbasny.org
SUMMARY:"Lunch with a Judge"
DESCRIPTION:Orange-Sullivan Chapter
URL:https://www.wbasny.org/event/lunch-with-a-judge/
LOCATION:Delancey’s\, 40 Park Place\, Goshen\, 10924\, United States
END:VEVENT
BEGIN:VEVENT
DTSTART;TZID=America/New_York:20190919T173000
DTEND;TZID=America/New_York:20190919T203000
DTSTAMP:20260425T203434
CREATED:20190916T160217Z
LAST-MODIFIED:20190916T160531Z
UID:48019-1568914200-1568925000@www.wbasny.org
SUMMARY:Halfway To Saint Patrick's Day Irish Seisiun
DESCRIPTION:Rockland County Chapter
URL:https://www.wbasny.org/event/halfway-to-saint-patricks-day-irish-seisiun/
LOCATION:The Brazen Fox\, 175 Mamaronek Avenue\, White Plains\, New York
END:VEVENT
BEGIN:VEVENT
DTSTART;TZID=America/New_York:20190920T103000
DTEND;TZID=America/New_York:20190920T150000
DTSTAMP:20260425T203434
CREATED:20190912T210638Z
LAST-MODIFIED:20190912T210650Z
UID:47923-1568975400-1568991600@www.wbasny.org
SUMMARY:Give Blood\, Get Cookies.
DESCRIPTION:Rockland County Chapter
URL:https://www.wbasny.org/event/give-blood-get-cookies/
LOCATION:Rockland County Courthouse\, 1 S Main Street\, New City\, NY\, 10956
END:VEVENT
BEGIN:VEVENT
DTSTART;TZID=UTC:20190921T100000
DTEND;TZID=UTC:20190921T150000
DTSTAMP:20260425T203434
CREATED:20190522T192626Z
LAST-MODIFIED:20190522T192626Z
UID:46335-1569060000-1569078000@www.wbasny.org
SUMMARY:Board of Directors Meeting
DESCRIPTION:WBASNY \n 
URL:https://www.wbasny.org/event/board-of-directors-meeting-5/
LOCATION:Columbia University Law School\, 435 West 116th Street\, New York\, NY\, 10027
ORGANIZER;CN="WBASNY":MAILTO:events@wbasny.org
END:VEVENT
BEGIN:VEVENT
DTSTART;TZID=America/New_York:20190922T110000
DTEND;TZID=America/New_York:20190922T170000
DTSTAMP:20260425T203434
CREATED:20190916T161425Z
LAST-MODIFIED:20190916T161441Z
UID:48028-1569150000-1569171600@www.wbasny.org
SUMMARY:A Walk in The Old Westbury Garden's
DESCRIPTION:Queens Chapter
URL:https://www.wbasny.org/event/a-walk-in-the-old-westbury-gardens/
LOCATION:Westbury Garden\, 71 Old Westbury Road\, Old Westbury\, New York\, 11568
END:VEVENT
BEGIN:VEVENT
DTSTART;TZID=America/New_York:20190923T173000
DTEND;TZID=America/New_York:20190923T193000
DTSTAMP:20260425T203434
CREATED:20190909T153151Z
LAST-MODIFIED:20190909T153157Z
UID:47758-1569259800-1569267000@www.wbasny.org
SUMMARY:"1\,000 Graduates Later-A Report on the Brooklyn Mental Health Court"
DESCRIPTION:Brooklyn Chapter \n 
URL:https://www.wbasny.org/event/1000-graduates-later-a-report-on-the-brooklyn-mental-health-court/
LOCATION:Rikers Island\, 123 Remsen Street\, Brooklyn\, NY
END:VEVENT
BEGIN:VEVENT
DTSTART;TZID=America/New_York:20190924T120000
DTEND;TZID=America/New_York:20190924T150000
DTSTAMP:20260425T203434
CREATED:20190906T213651Z
LAST-MODIFIED:20190906T213657Z
UID:47741-1569326400-1569337200@www.wbasny.org
SUMMARY:Pro Bono CLE- Advocating For Veterans: Challenging Veteran Disability Benefit Denials
DESCRIPTION:Western New York Chapter
URL:https://www.wbasny.org/event/pro-bono-cle-advocating-for-veterans-challenging-veteran-disability-benefit-denials/
LOCATION:Sun Burst Room\, 438 Main Street
ORGANIZER;CN="Western New York Women's Bar Association":MAILTO:wbasnywny@gmail.com
END:VEVENT
BEGIN:VEVENT
DTSTART;TZID=America/New_York:20190924T173000
DTEND;TZID=America/New_York:20190924T173000
DTSTAMP:20260425T203434
CREATED:20190911T195919Z
LAST-MODIFIED:20190911T195925Z
UID:47823-1569346200-1569346200@www.wbasny.org
SUMMARY:Membership Cocktail Party and Salute to the Judiciary
DESCRIPTION:Nassau County Chapter
URL:https://www.wbasny.org/event/membership-cocktail-party-and-salute-to-the-judiciary/
LOCATION:Domus
END:VEVENT
BEGIN:VEVENT
DTSTART;TZID=America/New_York:20190924T173000
DTEND;TZID=America/New_York:20190924T193000
DTSTAMP:20260425T203434
CREATED:20190905T144344Z
LAST-MODIFIED:20190905T144352Z
UID:47656-1569346200-1569353400@www.wbasny.org
SUMMARY:2nd Annual GRAWA Open House & New Member Reception
DESCRIPTION:Greater Rochester Chapter
URL:https://www.wbasny.org/event/2nd-annual-grawa-open-house-new-member-reception/
LOCATION:Woods Oviatt Gilman\, 1900 Bausch & Lomb Place\, Rochester\, NY\, 14604
END:VEVENT
BEGIN:VEVENT
DTSTART;TZID=America/New_York:20190924T173000
DTEND;TZID=America/New_York:20190924T203000
DTSTAMP:20260425T203434
CREATED:20190906T203924Z
LAST-MODIFIED:20190906T203929Z
UID:47691-1569346200-1569357000@www.wbasny.org
SUMMARY:Save The Date!
DESCRIPTION:Greater Rochester Chapter
URL:https://www.wbasny.org/event/save-the-date/
LOCATION:Woods Oviatt Gilman\, 1900 Bausch & Lomb Place\, Rochester\, NY\, 14604
END:VEVENT
BEGIN:VEVENT
DTSTART;TZID=America/New_York:20190924T183000
DTEND;TZID=America/New_York:20190924T213000
DTSTAMP:20260425T203434
CREATED:20190905T150606Z
LAST-MODIFIED:20190905T150610Z
UID:47682-1569349800-1569360600@www.wbasny.org
SUMMARY:SIWBA Annual Membership Mixer
DESCRIPTION:Staten Island Chapter
URL:https://www.wbasny.org/event/siwba-annual-membership-mixer/
LOCATION:Bocelli Ristorante\, 1250 Hylan Blvd\,\, Staten Island\, NY\, 10305\, United States
END:VEVENT
BEGIN:VEVENT
DTSTART;TZID=America/New_York:20190925T080000
DTEND;TZID=America/New_York:20190925T170000
DTSTAMP:20260425T203434
CREATED:20190911T200142Z
LAST-MODIFIED:20190911T200148Z
UID:47829-1569398400-1569430800@www.wbasny.org
SUMMARY:Dr. OZ Show
DESCRIPTION:Nassau County Chapter
URL:https://www.wbasny.org/event/dr-oz-show/
LOCATION:Dr. OZ Show\, 320 West 66th Street\, New York\, NY\, 10023
END:VEVENT
BEGIN:VEVENT
DTSTART;TZID=UTC:20190925T170000
DTEND;TZID=UTC:20190925T190000
DTSTAMP:20260425T203434
CREATED:20190802T185202Z
LAST-MODIFIED:20190802T185228Z
UID:47312-1569430800-1569438000@www.wbasny.org
SUMMARY:Membership Kickoff Party
DESCRIPTION:Mid-Hudson Chapter
URL:https://www.wbasny.org/event/membership-kickoff-party/
LOCATION:Poughkeepside Ice House on the Hudson\, 1 Main Street\, Poughkeepsie\, NY\, 12601
END:VEVENT
BEGIN:VEVENT
DTSTART;TZID=UTC:20190926T120000
DTEND;TZID=UTC:20190926T200000
DTSTAMP:20260425T203434
CREATED:20190627T011555Z
LAST-MODIFIED:20190702T010358Z
UID:46799-1569499200-1569528000@www.wbasny.org
SUMMARY:Golf Outing and Cocktail Reception
DESCRIPTION:Orange-Sullivan Chapter
URL:https://www.wbasny.org/event/womens-bar-association-of-orange-sullivan-county-golf-outing-and-cocktail-reception/
LOCATION:Winding Hills Golf Course\, 1847 NY-17K\, Montgomery\, NY\, 12549\, United States
END:VEVENT
BEGIN:VEVENT
DTSTART;TZID=America/New_York:20190926T170000
DTEND;TZID=America/New_York:20190926T220000
DTSTAMP:20260425T203434
CREATED:20190923T194646Z
LAST-MODIFIED:20190923T194930Z
UID:48136-1569517200-1569535200@www.wbasny.org
SUMMARY:Annual Membership Mixer
DESCRIPTION:Staten Island Chapter
URL:https://www.wbasny.org/event/annual-membership-mixer/
LOCATION:Mario’s Restaurant\, 1657 Richmond Road\, Staten Island\, NY\, 10304
END:VEVENT
BEGIN:VEVENT
DTSTART;TZID=America/New_York:20190926T173000
DTEND;TZID=America/New_York:20190926T193000
DTSTAMP:20260425T203434
CREATED:20190911T205817Z
LAST-MODIFIED:20190911T205842Z
UID:47894-1569519000-1569526200@www.wbasny.org
SUMMARY:38th Annual Judicial Reception
DESCRIPTION:Central New York Chapter
URL:https://www.wbasny.org/event/38th-annual-judicial-reception/
LOCATION:Rail Lane\, 530 S. Clinton Street
END:VEVENT
BEGIN:VEVENT
DTSTART;TZID=America/New_York:20190926T173000
DTEND;TZID=America/New_York:20190926T193000
DTSTAMP:20260425T203434
CREATED:20190911T211140Z
LAST-MODIFIED:20190911T211146Z
UID:47901-1569519000-1569526200@www.wbasny.org
SUMMARY:BWBA Annual Membership Party
DESCRIPTION:Brooklyn Chapter
URL:https://www.wbasny.org/event/bwba-annual-membership-party/
LOCATION:123 Remsen Street\, 123 Remsen Street\, Brooklyn\, NY
END:VEVENT
BEGIN:VEVENT
DTSTART;TZID=America/New_York:20190926T173000
DTEND;TZID=America/New_York:20190926T203000
DTSTAMP:20260425T203434
CREATED:20190924T205710Z
LAST-MODIFIED:20190924T205716Z
UID:48211-1569519000-1569529800@www.wbasny.org
SUMMARY:CLE: New York Appellate Division Practice
DESCRIPTION:Queens County Chapter
URL:https://www.wbasny.org/event/cle-new-york-appellate-division-practice/
LOCATION:Queens Civil Court\, 89-17 Sutphin Boulevard- Central Jury Room\, Queens\, NY\, 11435
END:VEVENT
BEGIN:VEVENT
DTSTART;TZID=America/New_York:20190926T180000
DTEND;TZID=America/New_York:20190926T190000
DTSTAMP:20260425T203434
CREATED:20190911T203714Z
LAST-MODIFIED:20190911T203720Z
UID:47873-1569520800-1569524400@www.wbasny.org
SUMMARY:18TH Annual Scholarship Gala
DESCRIPTION:Nassau County Chapter
URL:https://www.wbasny.org/event/18th-annual-scholarship-gala/
LOCATION:North Ritz Club\, 270 Jericho Turnpike\, Syosset\, NY\, 11791
END:VEVENT
BEGIN:VEVENT
DTSTART;TZID=America/New_York:20190927T121500
DTEND;TZID=America/New_York:20190927T153000
DTSTAMP:20260425T203434
CREATED:20190916T152639Z
LAST-MODIFIED:20190916T152651Z
UID:47991-1569586500-1569598200@www.wbasny.org
SUMMARY:Mid York Chapter September Meeting
DESCRIPTION:Mid York Chapter
URL:https://www.wbasny.org/event/mid-york-chapter-september-meeting/
LOCATION:Bagg’s Square Cafe\, 421 Broad Street\, Utica\, NY
END:VEVENT
BEGIN:VEVENT
DTSTART;TZID=America/New_York:20191001T120000
DTEND;TZID=America/New_York:20191001T130000
DTSTAMP:20260425T203434
CREATED:20190912T212047Z
LAST-MODIFIED:20190912T212054Z
UID:47934-1569931200-1569934800@www.wbasny.org
SUMMARY:Chamber Chat with Hon. Eugene M. Fahey
DESCRIPTION:Western New York Chapter
URL:https://www.wbasny.org/event/chamber-chat-with-hon-eugene-m-fahey/
LOCATION:50 Delaware Avenue\, 50 Delaware Avenue\, Buffalo\, NY\, 14202
ORGANIZER;CN="Western New York Women's Bar Association":MAILTO:wbasnywny@gmail.com
END:VEVENT
END:VCALENDAR