BEGIN:VCALENDAR
VERSION:2.0
PRODID:-//wbasny - ECPv6.15.20//NONSGML v1.0//EN
CALSCALE:GREGORIAN
METHOD:PUBLISH
X-ORIGINAL-URL:https://www.wbasny.org
X-WR-CALDESC:Events for wbasny
REFRESH-INTERVAL;VALUE=DURATION:PT1H
X-Robots-Tag:noindex
X-PUBLISHED-TTL:PT1H
BEGIN:VTIMEZONE
TZID:America/New_York
BEGIN:DAYLIGHT
TZOFFSETFROM:-0500
TZOFFSETTO:-0400
TZNAME:EDT
DTSTART:20190310T070000
END:DAYLIGHT
BEGIN:STANDARD
TZOFFSETFROM:-0400
TZOFFSETTO:-0500
TZNAME:EST
DTSTART:20191103T060000
END:STANDARD
BEGIN:DAYLIGHT
TZOFFSETFROM:-0500
TZOFFSETTO:-0400
TZNAME:EDT
DTSTART:20200308T070000
END:DAYLIGHT
BEGIN:STANDARD
TZOFFSETFROM:-0400
TZOFFSETTO:-0500
TZNAME:EST
DTSTART:20201101T060000
END:STANDARD
BEGIN:DAYLIGHT
TZOFFSETFROM:-0500
TZOFFSETTO:-0400
TZNAME:EDT
DTSTART:20210314T070000
END:DAYLIGHT
BEGIN:STANDARD
TZOFFSETFROM:-0400
TZOFFSETTO:-0500
TZNAME:EST
DTSTART:20211107T060000
END:STANDARD
END:VTIMEZONE
BEGIN:VTIMEZONE
TZID:UTC
BEGIN:STANDARD
TZOFFSETFROM:+0000
TZOFFSETTO:+0000
TZNAME:UTC
DTSTART:20190101T000000
END:STANDARD
END:VTIMEZONE
BEGIN:VEVENT
DTSTART;TZID=America/New_York:20200102T140000
DTEND;TZID=America/New_York:20200102T170000
DTSTAMP:20260425T092353
CREATED:20191220T212029Z
LAST-MODIFIED:20191220T212125Z
UID:49578-1577973600-1577984400@www.wbasny.org
SUMMARY:Induction Ceremony For Hon. Steven I. Milligram Justice For Supreme Court of The State Of New York
DESCRIPTION:Orange-Sullivan Counties Chapter
URL:https://www.wbasny.org/event/induction-ceremony-for-judge-hon-steven-i-milligram-justice-for-supreme-court-of-the-state-of-new-york/
LOCATION:Orange County Supreme Court House\, 285 Main Street\, Goshen\, NY
END:VEVENT
BEGIN:VEVENT
DTSTART;TZID=America/New_York:20200103T150000
DTEND;TZID=America/New_York:20200103T180000
DTSTAMP:20260425T092353
CREATED:20200103T222632Z
LAST-MODIFIED:20200103T222633Z
UID:49642-1578063600-1578074400@www.wbasny.org
SUMMARY:Swearing- In Ceremony for Orange County Surrogate Judge-Elect Hon. Timothy P. Mc. Elduff
DESCRIPTION:Orange-Sullivan Counties Chapter
URL:https://www.wbasny.org/event/swearing-in-ceremony-for-orange-county-surrogate-judge-elect-hon-timothy-p-mc-elduff/
LOCATION:Orange County Court House\, 285 Main Street\, Goshen\, NY\, 10924
END:VEVENT
BEGIN:VEVENT
DTSTART;TZID=America/New_York:20200106T130000
DTEND;TZID=America/New_York:20200106T140000
DTSTAMP:20260425T092353
CREATED:20200103T224822Z
LAST-MODIFIED:20200103T224823Z
UID:49670-1578315600-1578319200@www.wbasny.org
SUMMARY:Health and Wellness Screening
DESCRIPTION:Bronx County Chapter
URL:https://www.wbasny.org/event/health-and-wellness-screening/
LOCATION:Bronx Family Court\, 900 Sheridan Avenue\, Bronx\, NY\, 10451
END:VEVENT
BEGIN:VEVENT
DTSTART;TZID=America/New_York:20200107T121500
DTEND;TZID=America/New_York:20200107T143000
DTSTAMP:20260425T092353
CREATED:20191223T215319Z
LAST-MODIFIED:20191223T215320Z
UID:49591-1578399300-1578407400@www.wbasny.org
SUMMARY:Working Parents Committee
DESCRIPTION:Western New York Chapter
URL:https://www.wbasny.org/event/working-parents-committee/
LOCATION:Law Office Of Lindy Korn\, 535 Washington Street\, 9th Floor
ORGANIZER;CN="Western New York Women's Bar Association":MAILTO:wbasnywny@gmail.com
END:VEVENT
BEGIN:VEVENT
DTSTART;TZID=America/New_York:20200107T173000
DTEND;TZID=America/New_York:20200107T203000
DTSTAMP:20260425T092353
CREATED:20191220T204327Z
LAST-MODIFIED:20191220T204328Z
UID:49551-1578418200-1578429000@www.wbasny.org
SUMMARY:Mentoring
DESCRIPTION:Orange and Sullivan Counties Chapter
URL:https://www.wbasny.org/event/mentoring/
LOCATION:Cosimo’s\, 100 State Route 32\, Central Valley\, NY\, 10917\, United States
END:VEVENT
BEGIN:VEVENT
DTSTART;TZID=America/New_York:20200108T140000
DTEND;TZID=America/New_York:20200108T150000
DTSTAMP:20260425T092353
CREATED:20191220T205245Z
LAST-MODIFIED:20191220T205245Z
UID:49559-1578492000-1578495600@www.wbasny.org
SUMMARY:Appellate Division Fourth Department Bar Admission Ceremony
DESCRIPTION:Greater Rochester Chapter
URL:https://www.wbasny.org/event/appellate-division-fourth-department-bar-admission-ceremony/
END:VEVENT
BEGIN:VEVENT
DTSTART;TZID=America/New_York:20200109T173000
DTEND;TZID=America/New_York:20200109T210000
DTSTAMP:20260425T092353
CREATED:20191213T151830Z
LAST-MODIFIED:20191213T151830Z
UID:49487-1578591000-1578603600@www.wbasny.org
SUMMARY:How Much Is Too Much? Valuations in Divorce and Commercial Matters
DESCRIPTION:Rockland County Chapter
URL:https://www.wbasny.org/event/how-much-is-too-much-valuations-in-divorce-and-commercial-matters/
LOCATION:Double Tree Hilton\, 425 East Route 59\, Nanuet\, NY\, 10954\, United States
END:VEVENT
BEGIN:VEVENT
DTSTART;TZID=America/New_York:20200109T180000
DTEND;TZID=America/New_York:20200109T220000
DTSTAMP:20260425T092353
CREATED:20200103T223556Z
LAST-MODIFIED:20200103T223557Z
UID:49655-1578592800-1578607200@www.wbasny.org
SUMMARY:Annual Holiday Party & Coat Drive
DESCRIPTION:Nassau County Chapter
URL:https://www.wbasny.org/event/annual-holiday-party-coat-drive/
LOCATION:The Cuban\, 987 Stewart Avenue\, Garden City\, NY\, 11530
END:VEVENT
BEGIN:VEVENT
DTSTART;TZID=America/New_York:20200110T121500
DTEND;TZID=America/New_York:20200110T153000
DTSTAMP:20260425T092353
CREATED:20200109T222147Z
LAST-MODIFIED:20200110T165937Z
UID:49723-1578658500-1578670200@www.wbasny.org
SUMMARY:Chapter Meeting
DESCRIPTION:Mid-York Chapter
URL:https://www.wbasny.org/event/mid-york-chapter-womens-bar-association-january-meeting/
LOCATION:Courtview Luncheonette\, 219 Elizabeth Street\, Utica\, NY
END:VEVENT
BEGIN:VEVENT
DTSTART;TZID=America/New_York:20200111T120000
DTEND;TZID=America/New_York:20200111T130000
DTSTAMP:20260425T092353
CREATED:20191220T205717Z
LAST-MODIFIED:20200110T170020Z
UID:49563-1578744000-1578747600@www.wbasny.org
SUMMARY:Women's Health Committee Ignite Class
DESCRIPTION:Rochester Chapter
URL:https://www.wbasny.org/event/ignite-class-with-barre-yoga-with-the-womens-health-committee/
LOCATION:Midtown Athletic Club\, 200 East Highland Drive\, Rochester\, NY\, 14610
END:VEVENT
BEGIN:VEVENT
DTSTART;TZID=America/New_York:20200111T130000
DTEND;TZID=America/New_York:20200111T160000
DTSTAMP:20260425T092353
CREATED:20191216T223658Z
LAST-MODIFIED:20191216T223700Z
UID:49520-1578747600-1578758400@www.wbasny.org
SUMMARY:Buffalo Bulls Women's Basketball Game
DESCRIPTION:Western New York Chapter
URL:https://www.wbasny.org/event/buffalo-bulls-womens-basketball-game/
LOCATION:University at Buffalo\, Alumni Arena
ORGANIZER;CN="Western New York Women's Bar Association":MAILTO:wbasnywny@gmail.com
END:VEVENT
BEGIN:VEVENT
DTSTART;TZID=America/New_York:20200112T150000
DTEND;TZID=America/New_York:20200112T180000
DTSTAMP:20260425T092353
CREATED:20200109T221300Z
LAST-MODIFIED:20200109T221302Z
UID:49716-1578841200-1578852000@www.wbasny.org
SUMMARY:March Against Anti-Semitism
DESCRIPTION:Queens County Chapter
URL:https://www.wbasny.org/event/march-against-anti-semitism/
LOCATION:Intersection of County Street Drive\, 11th Street\, Mineola\, NY
END:VEVENT
BEGIN:VEVENT
DTSTART;TZID=America/New_York:20200113T180000
DTEND;TZID=America/New_York:20200113T200000
DTSTAMP:20260425T092353
CREATED:20200103T221632Z
LAST-MODIFIED:20200103T221633Z
UID:49636-1578938400-1578945600@www.wbasny.org
SUMMARY:Judges and Lawyers Breast Cancer Alert
DESCRIPTION:JALBCA
URL:https://www.wbasny.org/event/judges-and-lawyers-breast-cancer-alert/
LOCATION:Robinson & Cole LLP\, 666 Third Avenue\, New York\, NY\, 10017
END:VEVENT
BEGIN:VEVENT
DTSTART;TZID=UTC:20200114T090000
DTEND;TZID=UTC:20200114T120000
DTSTAMP:20260425T092353
CREATED:20190522T194451Z
LAST-MODIFIED:20190522T194451Z
UID:46346-1578992400-1579003200@www.wbasny.org
SUMMARY:Officers Meeting
DESCRIPTION:WBASNY \n 
URL:https://www.wbasny.org/event/officers-meeting-10/
LOCATION:Hotel Beacon\, 2130 Broadway\, New York\, NY\, 10023\, United States
ORGANIZER;CN="WBASNY":MAILTO:events@wbasny.org
END:VEVENT
BEGIN:VEVENT
DTSTART;TZID=America/New_York:20200114T173000
DTEND;TZID=America/New_York:20200114T203000
DTSTAMP:20260425T092353
CREATED:20191230T221913Z
LAST-MODIFIED:20191230T221914Z
UID:49612-1579023000-1579033800@www.wbasny.org
SUMMARY:Mix\, Mingle & Network
DESCRIPTION:Brooklyn Chapter
URL:https://www.wbasny.org/event/mix-mingle-network/
LOCATION:Kimoto Rooftop Garden Lounge\, 216 Duffield Street\, Brooklyn\, NY\, 11201\, United States
END:VEVENT
BEGIN:VEVENT
DTSTART;TZID=America/New_York:20200114T183000
DTEND;TZID=America/New_York:20200114T213000
DTSTAMP:20260425T092353
CREATED:20191227T212856Z
LAST-MODIFIED:20191227T212857Z
UID:49606-1579026600-1579037400@www.wbasny.org
SUMMARY:Tax Law Changes and Life Insurance Simplified
DESCRIPTION:Suffolk County Chapter
URL:https://www.wbasny.org/event/tax-law-changes-and-life-insurance-simplified/
LOCATION:Old City Public House\, 200 Portion Road\, Ronkonkoma\, NY\, 11779
END:VEVENT
BEGIN:VEVENT
DTSTART;TZID=America/New_York:20200115T121500
DTEND;TZID=America/New_York:20200115T143000
DTSTAMP:20260425T092353
CREATED:20191223T215612Z
LAST-MODIFIED:20191223T215613Z
UID:49597-1579090500-1579098600@www.wbasny.org
SUMMARY:Diversity Committee Meeting
DESCRIPTION:Western New York Chapter
URL:https://www.wbasny.org/event/diversity-committee-meeting-2/
LOCATION:City Hall\, 11th Floor Room 1132
ORGANIZER;CN="Western New York Women's Bar Association":MAILTO:wbasnywny@gmail.com
END:VEVENT
BEGIN:VEVENT
DTSTART;TZID=America/New_York:20200115T123000
DTEND;TZID=America/New_York:20200115T153000
DTSTAMP:20260425T092353
CREATED:20200106T223705Z
LAST-MODIFIED:20200106T223706Z
UID:49702-1579091400-1579102200@www.wbasny.org
SUMMARY:Networking Luncheon
DESCRIPTION:Suffolk County Chapter
URL:https://www.wbasny.org/event/networking-luncheon-5/
LOCATION:Irish Coffee Pub\, 131 Carleton Avenue\, East Islip\, NY
END:VEVENT
BEGIN:VEVENT
DTSTART;TZID=America/New_York:20200115T174500
DTEND;TZID=America/New_York:20200115T203000
DTSTAMP:20260425T092353
CREATED:20200103T223121Z
LAST-MODIFIED:20200103T223122Z
UID:49650-1579110300-1579120200@www.wbasny.org
SUMMARY:New Frontiers in Family Law and Parenting: Adoption\, Surrogacy\, Fertility and Reproductive Technology
DESCRIPTION:Nassau County Chapter
URL:https://www.wbasny.org/event/new-frontiers-in-family-law-and-parenting-adoption-surrogacy-fertility-and-reproductive-technology/
LOCATION:Domus
END:VEVENT
BEGIN:VEVENT
DTSTART;TZID=America/New_York:20200115T180000
DTEND;TZID=America/New_York:20200115T200000
DTSTAMP:20260425T092353
CREATED:20191220T204019Z
LAST-MODIFIED:20191220T204020Z
UID:49547-1579111200-1579118400@www.wbasny.org
SUMMARY:14th Annual Judicial Reception
DESCRIPTION:Rockland County Chapter
URL:https://www.wbasny.org/event/14th-annual-judicial-reception/
LOCATION:La Terrazza\, 291 South Main Street\, New City\, 10956
END:VEVENT
BEGIN:VEVENT
DTSTART;TZID=America/New_York:20200116T120000
DTEND;TZID=America/New_York:20200116T130000
DTSTAMP:20260425T092353
CREATED:20200106T222402Z
LAST-MODIFIED:20200106T222403Z
UID:49695-1579176000-1579179600@www.wbasny.org
SUMMARY:Bar Leaders Best Practices
DESCRIPTION:Western New York
URL:https://www.wbasny.org/event/bar-leaders-best-practices/
LOCATION:Cle Webinar
ORGANIZER;CN="Western New York Women's Bar Association":MAILTO:wbasnywny@gmail.com
END:VEVENT
BEGIN:VEVENT
DTSTART;TZID=America/New_York:20200116T173000
DTEND;TZID=America/New_York:20200116T193000
DTSTAMP:20260425T092353
CREATED:20191223T214932Z
LAST-MODIFIED:20191223T214932Z
UID:49586-1579195800-1579203000@www.wbasny.org
SUMMARY:Learn To Play Poker
DESCRIPTION:Western New York Chapter
URL:https://www.wbasny.org/event/learn-to-play-poker/
LOCATION:Lipsitz & Ponterio\, LLC\, 424 Main Street\, Suite 1500\, Buffalo\, NY\, 14202
ORGANIZER;CN="Western New York Women's Bar Association":MAILTO:wbasnywny@gmail.com
END:VEVENT
BEGIN:VEVENT
DTSTART;TZID=America/New_York:20200116T180000
DTEND;TZID=America/New_York:20200116T210000
DTSTAMP:20260425T092353
CREATED:20191220T204644Z
LAST-MODIFIED:20191220T204644Z
UID:49555-1579197600-1579208400@www.wbasny.org
SUMMARY:The Book Club
DESCRIPTION:Orange and Sullivan Counties Chapter
URL:https://www.wbasny.org/event/the-book-club/
LOCATION:Orange County Distillery\, 19 Maloney Lane\, Goshen\, NY\, 10924
END:VEVENT
BEGIN:VEVENT
DTSTART;TZID=America/New_York:20200119T110000
DTEND;TZID=America/New_York:20200119T130000
DTSTAMP:20260425T092353
CREATED:20191213T153002Z
LAST-MODIFIED:20200117T231817Z
UID:49494-1579431600-1579438800@www.wbasny.org
SUMMARY:Beat the Blues Spa Day and Brunch
DESCRIPTION:Orange-Sullivan Chapter \nO
URL:https://www.wbasny.org/event/beat-the-blues-spa-day-and-brunch/
LOCATION:Marasco Senior Center Town Hall Complex\, 555 Union Avenue\, New Windsor\, NY
END:VEVENT
BEGIN:VEVENT
DTSTART;TZID=America/New_York:20200120T060000
DTEND;TZID=America/New_York:20200120T193000
DTSTAMP:20260425T092353
CREATED:20191220T210520Z
LAST-MODIFIED:20200117T231842Z
UID:49570-1579500000-1579548600@www.wbasny.org
SUMMARY:Martin Luther King\, Jr. Day of Service
DESCRIPTION:Rochester Chapter
URL:https://www.wbasny.org/event/martin-luther-king-jr-day-of-service/
LOCATION:Samaritan House Crisis Center\, 210 Main Street\, Rochester\, NY\, 14608
END:VEVENT
BEGIN:VEVENT
DTSTART;TZID=America/New_York:20200121T123000
DTEND;TZID=America/New_York:20200121T153000
DTSTAMP:20260425T092353
CREATED:20200106T221608Z
LAST-MODIFIED:20200106T221609Z
UID:49691-1579609800-1579620600@www.wbasny.org
SUMMARY:Working Parents Committee Meeting
DESCRIPTION:Western New York Chapter
URL:https://www.wbasny.org/event/working-parents-committee-meeting-3/
LOCATION:Law Office Of Lindy Korn\, 535 Washington Street\, 9th Floor
ORGANIZER;CN="Western New York Women's Bar Association":MAILTO:wbasnywny@gmail.com
END:VEVENT
BEGIN:VEVENT
DTSTART;TZID=America/New_York:20200121T124500
DTEND;TZID=America/New_York:20200121T141500
DTSTAMP:20260425T092353
CREATED:20200120T220741Z
LAST-MODIFIED:20200120T220742Z
UID:49818-1579610700-1579616100@www.wbasny.org
SUMMARY:From Selma To The Bronx\, Part ll
DESCRIPTION:Bronx Chapter
URL:https://www.wbasny.org/event/from-selma-to-the-bronx-part-ll/
LOCATION:Bronx County Hall Of Justice\, 265 East 161st Street\, Room 691\, New York\, New York\, 10451
END:VEVENT
BEGIN:VEVENT
DTSTART;TZID=America/New_York:20200122T180000
DTEND;TZID=America/New_York:20200122T210000
DTSTAMP:20260425T092353
CREATED:20200103T224017Z
LAST-MODIFIED:20200103T224018Z
UID:49661-1579716000-1579726800@www.wbasny.org
SUMMARY:The Brehon Law Society Annual Banquet
DESCRIPTION:Nassau County Chapter
URL:https://www.wbasny.org/event/the-brehon-law-society-annual-banquet/
LOCATION:The North Ritz Club\, 274 Jericho Turnpike\, Syosset\, NY\, 11791
END:VEVENT
BEGIN:VEVENT
DTSTART;TZID=America/New_York:20200123T130000
DTEND;TZID=America/New_York:20200123T150000
DTSTAMP:20260425T092353
CREATED:20200122T223845Z
LAST-MODIFIED:20200122T223846Z
UID:49856-1579784400-1579791600@www.wbasny.org
SUMMARY:Judicial Welcoming Ceremony
DESCRIPTION:Western New York Chapter
URL:https://www.wbasny.org/event/judicial-welcoming-ceremony/
LOCATION:Supreme Court Ceremonial Courtroom
ORGANIZER;CN="Western New York Women's Bar Association":MAILTO:wbasnywny@gmail.com
END:VEVENT
BEGIN:VEVENT
DTSTART;TZID=America/New_York:20200123T131500
DTEND;TZID=America/New_York:20200123T141500
DTSTAMP:20260425T092353
CREATED:20200120T221001Z
LAST-MODIFIED:20200120T221002Z
UID:49822-1579785300-1579788900@www.wbasny.org
SUMMARY:A Lunch Panel Discussion on ADR
DESCRIPTION:Bronx County Chapter
URL:https://www.wbasny.org/event/a-lunch-panel-discussion-on-adr/
LOCATION:851 Grand Concourse\, 851 Grand Concourse - Room 819\, Bronx\, NY\, 10451\, United States
END:VEVENT
END:VCALENDAR