BEGIN:VCALENDAR
VERSION:2.0
PRODID:-//wbasny - ECPv6.15.20//NONSGML v1.0//EN
CALSCALE:GREGORIAN
METHOD:PUBLISH
X-ORIGINAL-URL:https://www.wbasny.org
X-WR-CALDESC:Events for wbasny
REFRESH-INTERVAL;VALUE=DURATION:PT1H
X-Robots-Tag:noindex
X-PUBLISHED-TTL:PT1H
BEGIN:VTIMEZONE
TZID:America/New_York
BEGIN:DAYLIGHT
TZOFFSETFROM:-0500
TZOFFSETTO:-0400
TZNAME:EDT
DTSTART:20200308T070000
END:DAYLIGHT
BEGIN:STANDARD
TZOFFSETFROM:-0400
TZOFFSETTO:-0500
TZNAME:EST
DTSTART:20201101T060000
END:STANDARD
BEGIN:DAYLIGHT
TZOFFSETFROM:-0500
TZOFFSETTO:-0400
TZNAME:EDT
DTSTART:20210314T070000
END:DAYLIGHT
BEGIN:STANDARD
TZOFFSETFROM:-0400
TZOFFSETTO:-0500
TZNAME:EST
DTSTART:20211107T060000
END:STANDARD
BEGIN:DAYLIGHT
TZOFFSETFROM:-0500
TZOFFSETTO:-0400
TZNAME:EDT
DTSTART:20220313T070000
END:DAYLIGHT
BEGIN:STANDARD
TZOFFSETFROM:-0400
TZOFFSETTO:-0500
TZNAME:EST
DTSTART:20221106T060000
END:STANDARD
END:VTIMEZONE
BEGIN:VEVENT
DTSTART;TZID=America/New_York:20210107T130000
DTEND;TZID=America/New_York:20210107T140000
DTSTAMP:20260422T184232
CREATED:20201218T163517Z
LAST-MODIFIED:20201218T163517Z
UID:53606-1610024400-1610028000@www.wbasny.org
SUMMARY:Courtroom Basics 101 - CLE on navigating the unwritten etiquette in a courtroom.
DESCRIPTION:Brooklyn Chapter \nThursday\, January 7\, 2021\, 1:00pm: Young Lawyers & Mentorship Committees present: Courtroom Basics 101. CLE on navigating the unwritten etiquette in a courtroom.
URL:https://www.wbasny.org/event/courtroom-basics-101-cle-on-navigating-the-unwritten-etiquette-in-a-courtroom/
END:VEVENT
BEGIN:VEVENT
DTSTART;TZID=America/New_York:20210107T130000
DTEND;TZID=America/New_York:20210107T150000
DTSTAMP:20260422T184232
CREATED:20201214T221518Z
LAST-MODIFIED:20201214T221602Z
UID:53569-1610024400-1610031600@www.wbasny.org
SUMMARY:Leveraging AI-Powered Analytics in NY State Court for Judge Research\, Opposing Counsel/Party Intel & Motion Drafting
DESCRIPTION:New York Chapter
URL:https://www.wbasny.org/event/leveraging-ai-powered-analytics-in-ny-state-court-for-judge-research-opposing-counsel-party-intel-motion-drafting/
END:VEVENT
BEGIN:VEVENT
DTSTART;TZID=America/New_York:20210111T130000
DTEND;TZID=America/New_York:20210111T143000
DTSTAMP:20260422T184232
CREATED:20201228T163039Z
LAST-MODIFIED:20201228T163039Z
UID:53657-1610370000-1610375400@www.wbasny.org
SUMMARY:Courtroom Basics 101 CLE
DESCRIPTION:Brooklyn Chapter
URL:https://www.wbasny.org/event/courtroom-basics-101-cle/
END:VEVENT
BEGIN:VEVENT
DTSTART;TZID=America/New_York:20210111T173000
DTEND;TZID=America/New_York:20210111T200000
DTSTAMP:20260422T184232
CREATED:20200817T204235Z
LAST-MODIFIED:20200817T204235Z
UID:52168-1610386200-1610395200@www.wbasny.org
SUMMARY:Officers Meeting
DESCRIPTION:WBASNY \n 
URL:https://www.wbasny.org/event/officers-meeting-3/
ORGANIZER;CN="WBASNY":MAILTO:events@wbasny.org
END:VEVENT
BEGIN:VEVENT
DTSTART;TZID=America/New_York:20210111T180000
DTEND;TZID=America/New_York:20210111T200000
DTSTAMP:20260422T184232
CREATED:20201229T153435Z
LAST-MODIFIED:20201229T154236Z
UID:53707-1610388000-1610395200@www.wbasny.org
SUMMARY:"Zoom with a Judge" ft. Hon. Cori H. Weston
DESCRIPTION:New York Chapter
URL:https://www.wbasny.org/event/zoom-with-a-judge-3/
END:VEVENT
BEGIN:VEVENT
DTSTART;TZID=America/New_York:20210112T130000
DTEND;TZID=America/New_York:20210112T150000
DTSTAMP:20260422T184232
CREATED:20201229T154140Z
LAST-MODIFIED:20210112T185653Z
UID:53710-1610456400-1610463600@www.wbasny.org
SUMMARY:"Zoom with a Judge" Honorable Deborah Kaplan
DESCRIPTION:New York Chapter
URL:https://www.wbasny.org/event/zoom-with-a-judge-ft-honorable-deborah-kaplan/
END:VEVENT
BEGIN:VEVENT
DTSTART;TZID=America/New_York:20210114T080000
DTEND;TZID=America/New_York:20210114T170000
DTSTAMP:20260422T184232
CREATED:20210112T154948Z
LAST-MODIFIED:20210112T154948Z
UID:53844-1610611200-1610643600@www.wbasny.org
SUMMARY:CLE: Commercial Tenent Defenses to Nonpayment of Rent Defaults Due to the Pandemic
DESCRIPTION:New York Chapter
URL:https://www.wbasny.org/event/cle-commercial-tenent-defenses-to-nonpayment-of-rent-defaults-due-to-the-pandemic/
END:VEVENT
BEGIN:VEVENT
DTSTART;TZID=America/New_York:20210114T130000
DTEND;TZID=America/New_York:20210114T140000
DTSTAMP:20260422T184232
CREATED:20201218T163617Z
LAST-MODIFIED:20201228T162519Z
UID:53608-1610629200-1610632800@www.wbasny.org
SUMMARY:"Lunch with a Judge" series with Hon. Harriet Thompson
DESCRIPTION:Brooklyn Chapter
URL:https://www.wbasny.org/event/lunch-with-a-judge-series-with-hon-harriet-thompson/
END:VEVENT
BEGIN:VEVENT
DTSTART;TZID=America/New_York:20210115T120000
DTEND;TZID=America/New_York:20210115T133000
DTSTAMP:20260422T184232
CREATED:20201228T165342Z
LAST-MODIFIED:20201228T165342Z
UID:53664-1610712000-1610717400@www.wbasny.org
SUMMARY:CLE - Mindfulness for Lawyers
DESCRIPTION:Del-Chen-O
URL:https://www.wbasny.org/event/cle-mindfulness-for-lawyers/
END:VEVENT
BEGIN:VEVENT
DTSTART;VALUE=DATE:20210118
DTEND;VALUE=DATE:20210119
DTSTAMP:20260422T184232
CREATED:20201216T153017Z
LAST-MODIFIED:20210118T211223Z
UID:53590-1610928000-1611014399@www.wbasny.org
SUMMARY:Annual Dr. Martin Luther King\, Jr. Day of Service event
DESCRIPTION:Rochester Chapter \nJanuary 18\, GRAWA’s Diversity Committee will be coordinating the annual Dr. Martin Luther King\, Jr. Day of Service event (additional details TBD).
URL:https://www.wbasny.org/event/grawa-annual-dr-martin-luther-king-jr-day-of-service-event/
END:VEVENT
BEGIN:VEVENT
DTSTART;TZID=America/New_York:20210120T130000
DTEND;TZID=America/New_York:20210120T143000
DTSTAMP:20260422T184232
CREATED:20201218T164219Z
LAST-MODIFIED:20201228T162637Z
UID:53610-1611147600-1611153000@www.wbasny.org
SUMMARY:CLE Committee presents: Handling Landlord & Tenant cases (in the COVID-19 era).
DESCRIPTION:Brooklyn Chapter
URL:https://www.wbasny.org/event/cle-committee-presents-handling-landlord-tenant-cases-in-the-covid-19-era/
END:VEVENT
BEGIN:VEVENT
DTSTART;VALUE=DATE:20210121
DTEND;VALUE=DATE:20210122
DTSTAMP:20260422T184232
CREATED:20201216T153203Z
LAST-MODIFIED:20201216T153203Z
UID:53592-1611187200-1611273599@www.wbasny.org
SUMMARY:GRAWA's Books and Bottles
DESCRIPTION:Greater Rochester Chapter \nOn Thursday\, January 21\, GRAWA’s brand-new club\, Books and Bottles\, will have its first virtual meeting to enjoy a themed beverage and discuss Educated: a memoir by Tara Westover.  Attendees may should RSVP to Kat Kramarchyk at GRAWABooksNBottles@gmail.com for Zoom information\, and to receive information about the drink of the month!
URL:https://www.wbasny.org/event/grawas-books-and-bottles/
END:VEVENT
BEGIN:VEVENT
DTSTART;TZID=America/New_York:20210122T130000
DTEND;TZID=America/New_York:20210122T150000
DTSTAMP:20260422T184232
CREATED:20201229T154935Z
LAST-MODIFIED:20201229T155751Z
UID:53715-1611320400-1611327600@www.wbasny.org
SUMMARY:Maximize Your Note of Issue Review
DESCRIPTION:New York Chapter
URL:https://www.wbasny.org/event/maximize-your-note-of-issue-review/
END:VEVENT
BEGIN:VEVENT
DTSTART;TZID=America/New_York:20210126T120000
DTEND;TZID=America/New_York:20210126T133000
DTSTAMP:20260422T184232
CREATED:20210122T171510Z
LAST-MODIFIED:20210122T171510Z
UID:53910-1611662400-1611667800@www.wbasny.org
SUMMARY:CLE - Cultural Humility & Competence: Serving Your Clients Better by Anticipating Diversity
DESCRIPTION:Orange-Sullivan Chapter
URL:https://www.wbasny.org/event/cle-cultural-humility-competence-serving-your-clients-better-by-anticipating-diversity/
END:VEVENT
BEGIN:VEVENT
DTSTART;TZID=America/New_York:20210126T180000
DTEND;TZID=America/New_York:20210126T190000
DTSTAMP:20260422T184232
CREATED:20210118T211143Z
LAST-MODIFIED:20210118T211143Z
UID:53894-1611684000-1611687600@www.wbasny.org
SUMMARY:Back to the 90's Trivia
DESCRIPTION:Brooklyn Chapter
URL:https://www.wbasny.org/event/back-to-the-90s-trivia/
END:VEVENT
BEGIN:VEVENT
DTSTART;TZID=America/New_York:20210126T180000
DTEND;TZID=America/New_York:20210126T200000
DTSTAMP:20260422T184232
CREATED:20201214T222728Z
LAST-MODIFIED:20201214T222728Z
UID:53572-1611684000-1611691200@www.wbasny.org
SUMMARY:Preparing for Mediation\, What Litigators Need to Know Before Walking in the Door
DESCRIPTION:New York Chapter
URL:https://www.wbasny.org/event/preparing-for-mediation-what-litigators-need-to-know-before-walking-in-the-door/
END:VEVENT
BEGIN:VEVENT
DTSTART;TZID=America/New_York:20210127T080000
DTEND;TZID=America/New_York:20210127T170000
DTSTAMP:20260422T184232
CREATED:20210112T155458Z
LAST-MODIFIED:20210112T155458Z
UID:53848-1611734400-1611766800@www.wbasny.org
SUMMARY:CLE: Online Hearings- A Tutorial and Discussion
DESCRIPTION:New York Chapter
URL:https://www.wbasny.org/event/cle-online-hearings-a-tutorial-and-discussion/
END:VEVENT
BEGIN:VEVENT
DTSTART;TZID=America/New_York:20210127T123000
DTEND;TZID=America/New_York:20210127T133000
DTSTAMP:20260422T184232
CREATED:20210104T152842Z
LAST-MODIFIED:20210104T152954Z
UID:53741-1611750600-1611754200@www.wbasny.org
SUMMARY:College Expenses in the COVID Age: What Divorcing Parents Need to Know
DESCRIPTION:Westchester Chapter
URL:https://www.wbasny.org/event/college-expenses-in-the-covid-age-what-divorcing-parents-need-to-know/
ORGANIZER;CN="Westchester Women's Bar Association":MAILTO:executivedirector@wwbany.org
END:VEVENT
BEGIN:VEVENT
DTSTART;TZID=America/New_York:20210127T130000
DTEND;TZID=America/New_York:20210127T150000
DTSTAMP:20260422T184232
CREATED:20201214T220719Z
LAST-MODIFIED:20201214T220719Z
UID:53564-1611752400-1611759600@www.wbasny.org
SUMMARY:Navigating the Integrated Guardianship/Housing Part
DESCRIPTION:New York Chapter
URL:https://www.wbasny.org/event/navigating-the-integrated-guardianship-housing-part/
END:VEVENT
BEGIN:VEVENT
DTSTART;TZID=America/New_York:20210127T130000
DTEND;TZID=America/New_York:20210127T150000
DTSTAMP:20260422T184232
CREATED:20210127T152329Z
LAST-MODIFIED:20210127T152329Z
UID:53992-1611752400-1611759600@www.wbasny.org
SUMMARY:Zoom Lunch with a Judge
DESCRIPTION:Bronx Chapter
URL:https://www.wbasny.org/event/zoom-lunch-with-a-judge-2/
END:VEVENT
BEGIN:VEVENT
DTSTART;TZID=America/New_York:20210128T180000
DTEND;TZID=America/New_York:20210128T190000
DTSTAMP:20260422T184232
CREATED:20210122T174052Z
LAST-MODIFIED:20210122T174052Z
UID:53929-1611856800-1611860400@www.wbasny.org
SUMMARY:CLE - Beyond Gender Survey 2020
DESCRIPTION:New York Chapter \nSpeakers: \nHonorable Betty Weinberg Ellerin\, Chair\, NYS Judicial Committee on Women in the Courts\nLindy Korn\,  Lindy Korn\, PLLC\nJorge Arteaga\, Deputy Director\, Hollaback! \nIn November 2020\, the New York Judicial Committee on Women in the Courts released the results of its Gender Survey 2020\, a comprehensive report on the results of a statewide survey on gender bias in the courts.  More than 5\,300 attorneys responded to the 2020 online survey\, which found that while advancements have been made\, women still face discriminatory treatment and experience higher levels of sexual harassment than men. Women reported that while there has been great improvement system-wide since a prior study conducted in 1986\, there is still significant bias against women attorneys and litigants. This panel will discuss ways in which the issues of sex discrimination and sexual harassment can be addressed from both a legal and a practical perspective as well as ways to implement the important recommendations for changes in policy and practice contained in the report. \n\n\n\nDate:\nJanuary 29\, 2021\n\n\nTime:\n6:00 pm\n\n\nLocation\nZoom webinar.  Link will be emailed 24-48 hours before the event.\n\n\nCLE:\n 1.0 Diversity\, Inclusion and Elimination of Bias credit*\n\n\nCost:\nFree – NYWBA and WBASNY Members**\n$25 – Non-members\n\n\nRSVP\nBefore Jan. 28\, 2021 using the form below.\nPLEASE NOTE THE EMAIL ADDRESS YOU ARE USING TO RECEIVE THE LINK.\n\n\nInfo:\nIf you have any questions\, please contact cle@nywba.org.\n\n\n\nRSVP BEFORE January 28\, 2021
URL:https://www.wbasny.org/event/cle-beyond-gender-survey-2020/
END:VEVENT
BEGIN:VEVENT
DTSTART;TZID=America/New_York:20210128T180000
DTEND;TZID=America/New_York:20210128T200000
DTSTAMP:20260422T184232
CREATED:20201218T164659Z
LAST-MODIFIED:20201228T162805Z
UID:53612-1611856800-1611864000@www.wbasny.org
SUMMARY:Judiciary Night. Recognizing Newly Elected\, Appointed\, Re-Elected\, and Re-Appointed Judges in Kings County
DESCRIPTION:Brooklyn Chapter
URL:https://www.wbasny.org/event/judiciary-night-recognizing-newly-elected-appointed-re-elected-and-re-appointed-judges-in-kings-county/
END:VEVENT
BEGIN:VEVENT
DTSTART;TZID=America/New_York:20210130T100000
DTEND;TZID=America/New_York:20210130T150000
DTSTAMP:20260422T184232
CREATED:20200817T202518Z
LAST-MODIFIED:20200817T202518Z
UID:52137-1612000800-1612018800@www.wbasny.org
SUMMARY:Board of Directors Meeting
DESCRIPTION:WBASNY \n 
URL:https://www.wbasny.org/event/board-of-directors-meeting-4/
ORGANIZER;CN="WBASNY":MAILTO:events@wbasny.org
END:VEVENT
BEGIN:VEVENT
DTSTART;TZID=America/New_York:20210204T080000
DTEND;TZID=America/New_York:20210204T170000
DTSTAMP:20260422T184232
CREATED:20210113T153905Z
LAST-MODIFIED:20210113T153905Z
UID:53857-1612425600-1612458000@www.wbasny.org
SUMMARY:CLE: Organize Your Small/Solo Practice - Tips to Manage Your Practice and Minimize Stress
DESCRIPTION:Queens County
URL:https://www.wbasny.org/event/cle-organize-your-small-solo-practice-tips-to-manage-your-practice-and-minimize-stress/
END:VEVENT
BEGIN:VEVENT
DTSTART;TZID=America/New_York:20210204T130000
DTEND;TZID=America/New_York:20210204T140000
DTSTAMP:20260422T184232
CREATED:20210129T221810Z
LAST-MODIFIED:20210129T221810Z
UID:54015-1612443600-1612447200@www.wbasny.org
SUMMARY:Black History Month Virtual Luncheon
DESCRIPTION:Bronx Chapter
URL:https://www.wbasny.org/event/black-history-month-virtual-luncheon/
END:VEVENT
BEGIN:VEVENT
DTSTART;TZID=America/New_York:20210205T130000
DTEND;TZID=America/New_York:20210205T140000
DTSTAMP:20260422T184232
CREATED:20210118T201817Z
LAST-MODIFIED:20210118T201817Z
UID:53881-1612530000-1612533600@www.wbasny.org
SUMMARY:The Heart-Head Connection: Heart Disease and Mental Health
DESCRIPTION:Brooklyn & Staten Island Chapters
URL:https://www.wbasny.org/event/the-heart-head-connection-heart-disease-and-mental-health/
END:VEVENT
BEGIN:VEVENT
DTSTART;TZID=America/New_York:20210208T123000
DTEND;TZID=America/New_York:20210208T140000
DTSTAMP:20260422T184232
CREATED:20210208T181145Z
LAST-MODIFIED:20210208T181145Z
UID:54117-1612787400-1612792800@www.wbasny.org
SUMMARY:Court Literacy Series: Navigating the Courts
DESCRIPTION:Suffolk Chapter
URL:https://www.wbasny.org/event/court-literacy-series-navigating-the-courts-2/
END:VEVENT
BEGIN:VEVENT
DTSTART;TZID=America/New_York:20210208T180000
DTEND;TZID=America/New_York:20210208T193000
DTSTAMP:20260422T184232
CREATED:20200817T205634Z
LAST-MODIFIED:20200817T205634Z
UID:52184-1612807200-1612812600@www.wbasny.org
SUMMARY:Officers Conference Call
DESCRIPTION:WBASNY \n 
URL:https://www.wbasny.org/event/officers-conference-call-10/
ORGANIZER;CN="WBASNY":MAILTO:events@wbasny.org
END:VEVENT
BEGIN:VEVENT
DTSTART;TZID=America/New_York:20210209T180000
DTEND;TZID=America/New_York:20210209T200000
DTSTAMP:20260422T184232
CREATED:20201214T222939Z
LAST-MODIFIED:20201214T222939Z
UID:53575-1612893600-1612900800@www.wbasny.org
SUMMARY:Appearing at a Mediation Advocacy Skills for the Litigation Practitioner
DESCRIPTION:New York Chapter
URL:https://www.wbasny.org/event/appearing-at-a-mediation-advocacy-skills-for-the-litigation-practitioner/
END:VEVENT
BEGIN:VEVENT
DTSTART;TZID=America/New_York:20210210T130000
DTEND;TZID=America/New_York:20210210T150000
DTSTAMP:20260422T184232
CREATED:20201228T163412Z
LAST-MODIFIED:20201228T163412Z
UID:53660-1612962000-1612969200@www.wbasny.org
SUMMARY:"Lunch with a Judge" series featuring: Hon. Patria Frais-Colon
DESCRIPTION:Brooklyn Chapter
URL:https://www.wbasny.org/event/lunch-with-a-judge-series-featuring-hon-patria-frais-colon/
END:VEVENT
END:VCALENDAR