BEGIN:VCALENDAR
VERSION:2.0
PRODID:-//wbasny - ECPv6.15.20//NONSGML v1.0//EN
CALSCALE:GREGORIAN
METHOD:PUBLISH
X-ORIGINAL-URL:https://www.wbasny.org
X-WR-CALDESC:Events for wbasny
REFRESH-INTERVAL;VALUE=DURATION:PT1H
X-Robots-Tag:noindex
X-PUBLISHED-TTL:PT1H
BEGIN:VTIMEZONE
TZID:America/New_York
BEGIN:DAYLIGHT
TZOFFSETFROM:-0500
TZOFFSETTO:-0400
TZNAME:EDT
DTSTART:20200308T070000
END:DAYLIGHT
BEGIN:STANDARD
TZOFFSETFROM:-0400
TZOFFSETTO:-0500
TZNAME:EST
DTSTART:20201101T060000
END:STANDARD
BEGIN:DAYLIGHT
TZOFFSETFROM:-0500
TZOFFSETTO:-0400
TZNAME:EDT
DTSTART:20210314T070000
END:DAYLIGHT
BEGIN:STANDARD
TZOFFSETFROM:-0400
TZOFFSETTO:-0500
TZNAME:EST
DTSTART:20211107T060000
END:STANDARD
BEGIN:DAYLIGHT
TZOFFSETFROM:-0500
TZOFFSETTO:-0400
TZNAME:EDT
DTSTART:20220313T070000
END:DAYLIGHT
BEGIN:STANDARD
TZOFFSETFROM:-0400
TZOFFSETTO:-0500
TZNAME:EST
DTSTART:20221106T060000
END:STANDARD
END:VTIMEZONE
BEGIN:VEVENT
DTSTART;TZID=America/New_York:20211101T130000
DTEND;TZID=America/New_York:20211101T140000
DTSTAMP:20260421T201914
CREATED:20211022T144706Z
LAST-MODIFIED:20211022T144831Z
UID:57456-1635771600-1635775200@www.wbasny.org
SUMMARY:Lunch With Hon. Carl J. Landicino
DESCRIPTION:Brooklyn Chapter \nRSVP LUNCH WITH A JUDGE \n 
URL:https://www.wbasny.org/event/lunch-with-hon-carl-j-landicino/
END:VEVENT
BEGIN:VEVENT
DTSTART;TZID=America/New_York:20211101T180000
DTEND;TZID=America/New_York:20211101T190000
DTSTAMP:20260421T201914
CREATED:20211025T194100Z
LAST-MODIFIED:20211025T194247Z
UID:57539-1635789600-1635793200@www.wbasny.org
SUMMARY:CLE-Employment Law: Finding Regulations
DESCRIPTION:Queens Chapter \n \nEmployment Law Regulations
URL:https://www.wbasny.org/event/cle-employment-law-finding-regulations/
END:VEVENT
BEGIN:VEVENT
DTSTART;TZID=America/New_York:20211103T120000
DTEND;TZID=America/New_York:20211103T133000
DTSTAMP:20260421T201914
CREATED:20211007T205437Z
LAST-MODIFIED:20211007T205437Z
UID:57354-1635940800-1635946200@www.wbasny.org
SUMMARY:Presumptive ADR Update
DESCRIPTION:New York Chapter \nThe NYWBA ADR Committee and Family and Divorce Mediation
URL:https://www.wbasny.org/event/presumptive-adr-update/
END:VEVENT
BEGIN:VEVENT
DTSTART;TZID=America/New_York:20211103T180000
DTEND;TZID=America/New_York:20211103T190000
DTSTAMP:20260421T201914
CREATED:20211020T172511Z
LAST-MODIFIED:20211020T172511Z
UID:57434-1635962400-1635966000@www.wbasny.org
SUMMARY:Board and Brush Event
DESCRIPTION:Orange & Sullivan Chapter \nBoard and Brush Event
URL:https://www.wbasny.org/event/board-and-brush-event/
END:VEVENT
BEGIN:VEVENT
DTSTART;TZID=America/New_York:20211103T180000
DTEND;TZID=America/New_York:20211103T200000
DTSTAMP:20260421T201914
CREATED:20211025T195304Z
LAST-MODIFIED:20211025T195304Z
UID:57543-1635962400-1635969600@www.wbasny.org
SUMMARY:CLE-Representing the Special Needs Client in Family Court
DESCRIPTION:New York Chapter \n \nRepresenting the Special Needs Client in Family Court
URL:https://www.wbasny.org/event/cle-representing-the-special-needs-client-in-family-court/
END:VEVENT
BEGIN:VEVENT
DTSTART;TZID=America/New_York:20211103T180000
DTEND;TZID=America/New_York:20211103T200000
DTSTAMP:20260421T201914
CREATED:20211028T150628Z
LAST-MODIFIED:20211028T150628Z
UID:57610-1635962400-1635969600@www.wbasny.org
SUMMARY:The Brandeis Association Annual Dinner
DESCRIPTION:Queens Chapter \n \nThe Brandeis Association Annual Installation Dinner
URL:https://www.wbasny.org/event/the-brandeis-association-annual-dinner/
END:VEVENT
BEGIN:VEVENT
DTSTART;TZID=America/New_York:20211104T170000
DTEND;TZID=America/New_York:20211104T200000
DTSTAMP:20260421T201914
CREATED:20210615T194441Z
LAST-MODIFIED:20210615T194441Z
UID:55809-1636045200-1636056000@www.wbasny.org
SUMMARY:Officers Meeting
DESCRIPTION:WBASNY \n 
URL:https://www.wbasny.org/event/officers-meeting-7/
LOCATION:TBD
ORGANIZER;CN="WBASNY":MAILTO:events@wbasny.org
END:VEVENT
BEGIN:VEVENT
DTSTART;TZID=America/New_York:20211104T190000
DTEND;TZID=America/New_York:20211104T200000
DTSTAMP:20260421T201914
CREATED:20211005T182038Z
LAST-MODIFIED:20211005T182038Z
UID:57336-1636052400-1636056000@www.wbasny.org
SUMMARY:JOIN NCWBA AS WE SUPPORT THE LEUKEMIA & LYMPHOMA SOCIETY(October 2021)
DESCRIPTION:Nassau Chapter \n  \nJOIN NCWBA AS WE SUPPORT
URL:https://www.wbasny.org/event/join-ncwba-as-we-support-the-leukemia-lymphoma-societyoctober-2021/
END:VEVENT
BEGIN:VEVENT
DTSTART;TZID=America/New_York:20211104T190000
DTEND;TZID=America/New_York:20211104T210000
DTSTAMP:20260421T201914
CREATED:20211029T174454Z
LAST-MODIFIED:20211029T174454Z
UID:57620-1636052400-1636059600@www.wbasny.org
SUMMARY:"Words Matter" for JALBCA
DESCRIPTION:“Words Matter” for JALBCA \n \nWords Matter for JALBCA
URL:https://www.wbasny.org/event/words-matter-for-jalbca/
END:VEVENT
BEGIN:VEVENT
DTSTART;TZID=America/New_York:20211105T130000
DTEND;TZID=America/New_York:20211105T140000
DTSTAMP:20260421T201914
CREATED:20211014T160728Z
LAST-MODIFIED:20211014T161953Z
UID:57415-1636117200-1636120800@www.wbasny.org
SUMMARY:The Guardianship Diversity Initiative: Introduction to the Queens Guardianship Bench
DESCRIPTION:New York Chapter \nThe NYWBA Elder Law
URL:https://www.wbasny.org/event/the-guardianship-diversity-initiative-introduction-to-the-queens-guardianship-bench/
END:VEVENT
BEGIN:VEVENT
DTSTART;TZID=America/New_York:20211108T080000
DTEND;TZID=America/New_York:20211108T170000
DTSTAMP:20260421T201914
CREATED:20211028T145548Z
LAST-MODIFIED:20211028T145548Z
UID:57607-1636358400-1636390800@www.wbasny.org
SUMMARY:Mentorship Program Application Deadline
DESCRIPTION:Brooklyn Chapter \n \nMentorship Program Application Deadline
URL:https://www.wbasny.org/event/mentorship-program-application-deadline/
END:VEVENT
BEGIN:VEVENT
DTSTART;TZID=America/New_York:20211108T130000
DTEND;TZID=America/New_York:20211108T143000
DTSTAMP:20260421T201914
CREATED:20211108T155427Z
LAST-MODIFIED:20211108T155427Z
UID:57700-1636376400-1636381800@www.wbasny.org
SUMMARY:Mental Health Monday by Lawyers Depression Project
DESCRIPTION:Queens Chapter \n \nMental Health Monday
URL:https://www.wbasny.org/event/mental-health-monday-by-lawyers-depression-project/
END:VEVENT
BEGIN:VEVENT
DTSTART;TZID=America/New_York:20211108T180000
DTEND;TZID=America/New_York:20211108T190000
DTSTAMP:20260421T201914
CREATED:20211108T162719Z
LAST-MODIFIED:20211108T162719Z
UID:57705-1636394400-1636398000@www.wbasny.org
SUMMARY:CLE- Immigration Law: Asylums\, VAWA\, T & U Visas
DESCRIPTION:Queens Chapter \n \nCLE- Immigration Law
URL:https://www.wbasny.org/event/cle-immigration-law-asylums-vawa-t-u-visas/
END:VEVENT
BEGIN:VEVENT
DTSTART;TZID=America/New_York:20211109T180000
DTEND;TZID=America/New_York:20211109T200000
DTSTAMP:20260421T201914
CREATED:20211014T161309Z
LAST-MODIFIED:20211014T161309Z
UID:57418-1636480800-1636488000@www.wbasny.org
SUMMARY:Understanding Divorce from a Different Perspective:
DESCRIPTION:New York Chapter \nUnderstanding Divorce from a Different Perspective
URL:https://www.wbasny.org/event/understanding-divorce-from-a-different-perspective/
END:VEVENT
BEGIN:VEVENT
DTSTART;TZID=America/New_York:20211109T180000
DTEND;TZID=America/New_York:20211109T200000
DTSTAMP:20260421T201914
CREATED:20211025T150937Z
LAST-MODIFIED:20211025T182724Z
UID:57503-1636480800-1636488000@www.wbasny.org
SUMMARY:The Franklin H Williams Judicial Commission Diversity Awards Night
DESCRIPTION:Queens Chapter \n \nThe Franklin H Williams Judicial Commission Diversity Awards Night
URL:https://www.wbasny.org/event/the-franklin-h-williams-judicial-commission-diversity-awards-night/
END:VEVENT
BEGIN:VEVENT
DTSTART;TZID=America/New_York:20211110T123000
DTEND;TZID=America/New_York:20211110T140000
DTSTAMP:20260421T201914
CREATED:20211021T214823Z
LAST-MODIFIED:20211021T214823Z
UID:57451-1636547400-1636552800@www.wbasny.org
SUMMARY:Fashion for a Cause
DESCRIPTION:Nassau Chapter \nFashion For a Cause
URL:https://www.wbasny.org/event/fashion-for-a-cause/
END:VEVENT
BEGIN:VEVENT
DTSTART;TZID=America/New_York:20211110T170000
DTEND;TZID=America/New_York:20211110T190000
DTSTAMP:20260421T201914
CREATED:20211011T193518Z
LAST-MODIFIED:20211011T193518Z
UID:57384-1636563600-1636570800@www.wbasny.org
SUMMARY:8 Minute Networking
DESCRIPTION:Western NY Chapter \n8 minute Networking
URL:https://www.wbasny.org/event/8-minute-networking-2/
ORGANIZER;CN="Western New York Women's Bar Association":MAILTO:wbasnywny@gmail.com
END:VEVENT
BEGIN:VEVENT
DTSTART;TZID=America/New_York:20211112T123000
DTEND;TZID=America/New_York:20211112T133000
DTSTAMP:20260421T201914
CREATED:20211108T191759Z
LAST-MODIFIED:20211108T191759Z
UID:57709-1636720200-1636723800@www.wbasny.org
SUMMARY:Everything You Need to Know About Becoming a Judge
DESCRIPTION:Western New York Chapter \n \nEverything You Need to Know About Becoming a Judge
URL:https://www.wbasny.org/event/everything-you-need-to-know-about-becoming-a-judge-2/
ORGANIZER;CN="Western New York Women's Bar Association":MAILTO:wbasnywny@gmail.com
END:VEVENT
BEGIN:VEVENT
DTSTART;TZID=America/New_York:20211113T100000
DTEND;TZID=America/New_York:20211113T150000
DTSTAMP:20260421T201914
CREATED:20210615T194554Z
LAST-MODIFIED:20210615T194608Z
UID:55811-1636797600-1636815600@www.wbasny.org
SUMMARY:Board of Directors Meeting
DESCRIPTION:WBASNY
URL:https://www.wbasny.org/event/board-of-directors-meeting-7/
LOCATION:TBD
ORGANIZER;CN="WBASNY":MAILTO:events@wbasny.org
END:VEVENT
BEGIN:VEVENT
DTSTART;TZID=America/New_York:20211116T120000
DTEND;TZID=America/New_York:20211116T130000
DTSTAMP:20260421T201914
CREATED:20211025T161027Z
LAST-MODIFIED:20211025T205111Z
UID:57524-1637064000-1637067600@www.wbasny.org
SUMMARY:NYS Permanent Judicial Commission on Justice for Children: Older Youth in the Courts
DESCRIPTION:Western New York Chapter \n \nOlder Youth in the Courts
URL:https://www.wbasny.org/event/nys-permanent-judicial-commission-on-justice-for-children-older-youth-in-the-courts/
ORGANIZER;CN="Western New York Women's Bar Association":MAILTO:wbasnywny@gmail.com
END:VEVENT
BEGIN:VEVENT
DTSTART;TZID=America/New_York:20211116T120000
DTEND;TZID=America/New_York:20211116T130000
DTSTAMP:20260421T201914
CREATED:20211115T161417Z
LAST-MODIFIED:20211115T161417Z
UID:57817-1637064000-1637067600@www.wbasny.org
SUMMARY:A  Bridge to Justice: "The Life of Franklin H. Williams"
DESCRIPTION:Queens Chapter \n \nA Bridge to Justice – The Life of Franklin H Williams
URL:https://www.wbasny.org/event/a-bridge-to-justice-the-life-of-franklin-h-williams/
END:VEVENT
BEGIN:VEVENT
DTSTART;TZID=America/New_York:20211116T123000
DTEND;TZID=America/New_York:20211116T133000
DTSTAMP:20260421T201914
CREATED:20211102T144449Z
LAST-MODIFIED:20211102T144449Z
UID:57645-1637065800-1637069400@www.wbasny.org
SUMMARY:Lunch with Honorable Hyun Chin Kim
DESCRIPTION:Orange and Sullivan Chapter \n \nLunch with Honorable Hyun Chin Kim
URL:https://www.wbasny.org/event/lunch-with-honorable-hyun-chin-kim/
END:VEVENT
BEGIN:VEVENT
DTSTART;TZID=America/New_York:20211116T130000
DTEND;TZID=America/New_York:20211116T140000
DTSTAMP:20260421T201914
CREATED:20211011T181729Z
LAST-MODIFIED:20211102T143902Z
UID:57370-1637067600-1637071200@www.wbasny.org
SUMMARY:CLE-What Judges Expect You to Know About Distribution of Retirement Assets
DESCRIPTION:Staten Island Chapter \nCLE Staten Island
URL:https://www.wbasny.org/event/cle-what-judges-expect-you-to-know-about-distribution-of-retirement-assets/
END:VEVENT
BEGIN:VEVENT
DTSTART;TZID=America/New_York:20211116T180000
DTEND;TZID=America/New_York:20211116T200000
DTSTAMP:20260421T201914
CREATED:20211027T211525Z
LAST-MODIFIED:20211027T211525Z
UID:57597-1637085600-1637092800@www.wbasny.org
SUMMARY:Microaggressions in the Law
DESCRIPTION:Brooklyn Chapter \n \nMicroaggressions in the Law
URL:https://www.wbasny.org/event/microaggressions-in-the-law/
END:VEVENT
BEGIN:VEVENT
DTSTART;TZID=America/New_York:20211117T130000
DTEND;TZID=America/New_York:20211117T143000
DTSTAMP:20260421T201914
CREATED:20211022T160227Z
LAST-MODIFIED:20211022T160227Z
UID:57460-1637154000-1637159400@www.wbasny.org
SUMMARY:CLE-Courtroom Basics
DESCRIPTION:Brooklyn Chapter \nRSVP Courtroom Basics
URL:https://www.wbasny.org/event/cle-courtroom-basics/
END:VEVENT
BEGIN:VEVENT
DTSTART;TZID=America/New_York:20211118T170000
DTEND;TZID=America/New_York:20211118T183000
DTSTAMP:20260421T201914
CREATED:20211115T153905Z
LAST-MODIFIED:20211115T153905Z
UID:57812-1637254800-1637260200@www.wbasny.org
SUMMARY:Brooklyn Legal Services Diversity Open House
DESCRIPTION:Brooklyn Chapter \n \nBrooklyn Legal Services Diversity Open House
URL:https://www.wbasny.org/event/brooklyn-legal-services-diversity-open-house/
END:VEVENT
BEGIN:VEVENT
DTSTART;TZID=America/New_York:20211118T173000
DTEND;TZID=America/New_York:20211118T183000
DTSTAMP:20260421T201914
CREATED:20210930T185313Z
LAST-MODIFIED:20210930T185313Z
UID:57264-1637256600-1637260200@www.wbasny.org
SUMMARY:Book Club
DESCRIPTION:Orange & Sullivan Chapter \nBook Club 2
URL:https://www.wbasny.org/event/book-club-8/
END:VEVENT
BEGIN:VEVENT
DTSTART;TZID=America/New_York:20211118T183000
DTEND;TZID=America/New_York:20211118T200000
DTSTAMP:20260421T201914
CREATED:20211115T213201Z
LAST-MODIFIED:20211115T213201Z
UID:57835-1637260200-1637265600@www.wbasny.org
SUMMARY:Strategies for Managing Third Party Stress During Covid-19
DESCRIPTION:Queens Chapter \n \nStrategies for Managing Third Party Stress During Covid-19
URL:https://www.wbasny.org/event/strategies-for-managing-third-party-stress-during-covid-19/
END:VEVENT
BEGIN:VEVENT
DTSTART;TZID=America/New_York:20211119T090000
DTEND;TZID=America/New_York:20211119T130000
DTSTAMP:20260421T201914
CREATED:20211025T155609Z
LAST-MODIFIED:20211025T181344Z
UID:57521-1637312400-1637326800@www.wbasny.org
SUMMARY:U.S Supreme Court Review and Preview
DESCRIPTION:Western New York Chapter \n \nU.S Supreme Court Review and Preview
URL:https://www.wbasny.org/event/u-s-supreme-court-review-and-preview/
ORGANIZER;CN="Western New York Women's Bar Association":MAILTO:wbasnywny@gmail.com
END:VEVENT
BEGIN:VEVENT
DTSTART;TZID=America/New_York:20211120T163000
DTEND;TZID=America/New_York:20211120T183000
DTSTAMP:20260421T201914
CREATED:20211011T193846Z
LAST-MODIFIED:20211117T210001Z
UID:57388-1637425800-1637433000@www.wbasny.org
SUMMARY:Networking Without a Babysitter
DESCRIPTION:Western NY Chapter \n  \nNetworking Without a Babysitter
URL:https://www.wbasny.org/event/networking-without-a-babysitter/
ORGANIZER;CN="Western New York Women's Bar Association":MAILTO:wbasnywny@gmail.com
END:VEVENT
END:VCALENDAR