BEGIN:VCALENDAR
VERSION:2.0
PRODID:-//wbasny - ECPv6.15.20//NONSGML v1.0//EN
CALSCALE:GREGORIAN
METHOD:PUBLISH
X-ORIGINAL-URL:https://www.wbasny.org
X-WR-CALDESC:Events for wbasny
REFRESH-INTERVAL;VALUE=DURATION:PT1H
X-Robots-Tag:noindex
X-PUBLISHED-TTL:PT1H
BEGIN:VTIMEZONE
TZID:America/New_York
BEGIN:DAYLIGHT
TZOFFSETFROM:-0500
TZOFFSETTO:-0400
TZNAME:EDT
DTSTART:20200308T070000
END:DAYLIGHT
BEGIN:STANDARD
TZOFFSETFROM:-0400
TZOFFSETTO:-0500
TZNAME:EST
DTSTART:20201101T060000
END:STANDARD
BEGIN:DAYLIGHT
TZOFFSETFROM:-0500
TZOFFSETTO:-0400
TZNAME:EDT
DTSTART:20210314T070000
END:DAYLIGHT
BEGIN:STANDARD
TZOFFSETFROM:-0400
TZOFFSETTO:-0500
TZNAME:EST
DTSTART:20211107T060000
END:STANDARD
BEGIN:DAYLIGHT
TZOFFSETFROM:-0500
TZOFFSETTO:-0400
TZNAME:EDT
DTSTART:20220313T070000
END:DAYLIGHT
BEGIN:STANDARD
TZOFFSETFROM:-0400
TZOFFSETTO:-0500
TZNAME:EST
DTSTART:20221106T060000
END:STANDARD
BEGIN:DAYLIGHT
TZOFFSETFROM:-0500
TZOFFSETTO:-0400
TZNAME:EDT
DTSTART:20230312T070000
END:DAYLIGHT
BEGIN:STANDARD
TZOFFSETFROM:-0400
TZOFFSETTO:-0500
TZNAME:EST
DTSTART:20231105T060000
END:STANDARD
END:VTIMEZONE
BEGIN:VEVENT
DTSTART;TZID=America/New_York:20211210T120000
DTEND;TZID=America/New_York:20211210T133000
DTSTAMP:20260421T201935
CREATED:20211108T204042Z
LAST-MODIFIED:20211108T204042Z
UID:57716-1639137600-1639143000@www.wbasny.org
SUMMARY:NYS Permanent Judicial Commission on Justice for Children: Older Youths in the Courts
DESCRIPTION:Western New York Chapter \n \nOlder Youth in the Courts
URL:https://www.wbasny.org/event/nys-permanent-judicial-commission-on-justice-for-children-older-youths-in-the-courts/
ORGANIZER;CN="Western New York Women's Bar Association":MAILTO:wbasnywny@gmail.com
END:VEVENT
BEGIN:VEVENT
DTSTART;TZID=America/New_York:20211210T173000
DTEND;TZID=America/New_York:20211210T190000
DTSTAMP:20260421T201935
CREATED:20211129T155655Z
LAST-MODIFIED:20211129T155655Z
UID:58221-1639157400-1639162800@www.wbasny.org
SUMMARY:WBAOSC Annual Holiday Party
DESCRIPTION:Orange and Sullivan Chapter \n \nWBAOSC Annual Holiday Party
URL:https://www.wbasny.org/event/wbaosc-annual-holiday-party/
END:VEVENT
BEGIN:VEVENT
DTSTART;TZID=America/New_York:20211211T093000
DTEND;TZID=America/New_York:20211211T113000
DTSTAMP:20260421T201935
CREATED:20211206T205436Z
LAST-MODIFIED:20211206T205436Z
UID:58328-1639215000-1639222200@www.wbasny.org
SUMMARY:CLE- How to Become a Judge
DESCRIPTION:CLE- How to Become a Judge
URL:https://www.wbasny.org/event/cle-how-to-become-a-judge/
END:VEVENT
BEGIN:VEVENT
DTSTART;TZID=America/New_York:20211213T123000
DTEND;TZID=America/New_York:20211213T140000
DTSTAMP:20260421T201935
CREATED:20211201T153642Z
LAST-MODIFIED:20211201T153642Z
UID:58269-1639398600-1639404000@www.wbasny.org
SUMMARY:Women's Health Discussion with Carol Caico\, Ph.D.\, NP
DESCRIPTION:Nassau Chapter \n \nWomen’s Health Discussion with Carol Caico\, Ph.D.\, NP
URL:https://www.wbasny.org/event/womens-health-discussion-with-carol-caico-ph-d-np/
END:VEVENT
BEGIN:VEVENT
DTSTART;TZID=America/New_York:20211214T080000
DTEND;TZID=America/New_York:20211214T090000
DTSTAMP:20260421T201935
CREATED:20211213T223414Z
LAST-MODIFIED:20211213T223414Z
UID:58400-1639468800-1639472400@www.wbasny.org
SUMMARY:Breakfast at the Bar
DESCRIPTION:Central New York Chapter \n \nBreakfast at the Bar
URL:https://www.wbasny.org/event/breakfast-at-the-bar/
END:VEVENT
BEGIN:VEVENT
DTSTART;TZID=America/New_York:20211214T130000
DTEND;TZID=America/New_York:20211214T140000
DTSTAMP:20260421T201935
CREATED:20211202T152206Z
LAST-MODIFIED:20211202T152206Z
UID:58296-1639486800-1639490400@www.wbasny.org
SUMMARY:CLE-The Basics of Statutory Hearings and Notices of Claim
DESCRIPTION:Staten Island Chapter \n \nCLE- The Basics of Statutory Hearings and Notices of Claim
URL:https://www.wbasny.org/event/cle-the-basics-of-statutory-hearings-and-notices-of-claim/
END:VEVENT
BEGIN:VEVENT
DTSTART;TZID=America/New_York:20211214T170000
DTEND;TZID=America/New_York:20211214T193000
DTSTAMP:20260421T201935
CREATED:20211209T162503Z
LAST-MODIFIED:20211209T162503Z
UID:58355-1639501200-1639510200@www.wbasny.org
SUMMARY:DVSJ Panel and Documentary Screening of And So I Stayed
DESCRIPTION:Queens Chapter \nDVSJ Panel and Documentary Screening of And So I Stayed
URL:https://www.wbasny.org/event/dvsj-panel-and-documentary-screening-of-and-so-i-stayed/
END:VEVENT
BEGIN:VEVENT
DTSTART;TZID=America/New_York:20211214T173000
DTEND;TZID=America/New_York:20211214T200000
DTSTAMP:20260421T201935
CREATED:20211112T204105Z
LAST-MODIFIED:20211118T151934Z
UID:57798-1639503000-1639512000@www.wbasny.org
SUMMARY:Brooklyn Women's Bar Association Holiday Celebration
DESCRIPTION:Brooklyn Chapter \n \nBrooklyn Women’s Bar Association Holiday Celebration
URL:https://www.wbasny.org/event/brooklyn-womens-bar-association-holiday-celebration/
END:VEVENT
BEGIN:VEVENT
DTSTART;TZID=America/New_York:20211214T173000
DTEND;TZID=America/New_York:20211214T200000
DTSTAMP:20260421T201935
CREATED:20211116T155256Z
LAST-MODIFIED:20211116T155256Z
UID:57854-1639503000-1639512000@www.wbasny.org
SUMMARY:Greater Rochester Association's Annual Holiday Party
DESCRIPTION:Rochester Chapter \n \nGreater Rochester Association’s Annual Holiday Party
URL:https://www.wbasny.org/event/greater-rochester-associations-annual-holiday-party/
END:VEVENT
BEGIN:VEVENT
DTSTART;TZID=America/New_York:20211215T173000
DTEND;TZID=America/New_York:20211215T193000
DTSTAMP:20260421T201935
CREATED:20211109T203305Z
LAST-MODIFIED:20211109T203305Z
UID:57750-1639589400-1639596600@www.wbasny.org
SUMMARY:Annual Holiday Cocktail Party and Fundraiser Benefit for The Safe Center LI
DESCRIPTION:Nassau Chapter \n \nAnnual Holiday Cocktail Party and Fundraiser Benefit for The Safe Center LI
URL:https://www.wbasny.org/event/annual-holiday-cocktail-party-and-fundraiser-benefit-for-the-safe-center-li/
END:VEVENT
BEGIN:VEVENT
DTSTART;TZID=America/New_York:20211215T180000
DTEND;TZID=America/New_York:20211215T193000
DTSTAMP:20260421T201935
CREATED:20211109T202928Z
LAST-MODIFIED:20211115T154609Z
UID:57747-1639591200-1639596600@www.wbasny.org
SUMMARY:Mid-Hudson Women's Bar Association Annual Holiday Dinner
DESCRIPTION:Mid-Hudson Chapter \n \nMid-Hudson Womens Bar Association’s Annual Holiday Dinner
URL:https://www.wbasny.org/event/mid-hudson-womens-bar-association-annual-holiday-dinner/
END:VEVENT
BEGIN:VEVENT
DTSTART;TZID=America/New_York:20211216T130000
DTEND;TZID=America/New_York:20211216T140000
DTSTAMP:20260421T201935
CREATED:20211206T203123Z
LAST-MODIFIED:20211206T203123Z
UID:58325-1639659600-1639663200@www.wbasny.org
SUMMARY:Guardianship Judges Roundtable
DESCRIPTION:Guardianship Judges Roundtable
URL:https://www.wbasny.org/event/guardianship-judges-roundtable/
END:VEVENT
BEGIN:VEVENT
DTSTART;TZID=America/New_York:20211216T173000
DTEND;TZID=America/New_York:20211216T213000
DTSTAMP:20260421T201935
CREATED:20211116T161831Z
LAST-MODIFIED:20211116T215937Z
UID:57857-1639675800-1639690200@www.wbasny.org
SUMMARY:Queens County Women's Bar Joint Holiday Party
DESCRIPTION:Queens Chapter \n \nQueens County Womens Bar Joint Holiday Party
URL:https://www.wbasny.org/event/queens-county-womens-bar-joint-holiday-party/
END:VEVENT
BEGIN:VEVENT
DTSTART;TZID=America/New_York:20211216T180000
DTEND;TZID=America/New_York:20211216T190000
DTSTAMP:20260421T201935
CREATED:20211115T212610Z
LAST-MODIFIED:20211213T175355Z
UID:57828-1639677600-1639681200@www.wbasny.org
SUMMARY:CLE- Who Gets the Dog?
DESCRIPTION:New York Chapter \n \nCLE- Who Gets the Dog
URL:https://www.wbasny.org/event/pet-custody-battles-who-gets-the-dog/
END:VEVENT
BEGIN:VEVENT
DTSTART;TZID=America/New_York:20211220T170000
DTEND;TZID=America/New_York:20211220T173000
DTSTAMP:20260421T201935
CREATED:20211203T221139Z
LAST-MODIFIED:20211203T221139Z
UID:58306-1640019600-1640021400@www.wbasny.org
SUMMARY:Veterans' Holiday Wish List
DESCRIPTION:Queens Chapter \n \nVeterans’ Holiday Wish List
URL:https://www.wbasny.org/event/veterans-holiday-wish-list/
END:VEVENT
BEGIN:VEVENT
DTSTART;VALUE=DATE:20220104
DTEND;VALUE=DATE:20220105
DTSTAMP:20260421T201935
CREATED:20211217T184537Z
LAST-MODIFIED:20211217T184537Z
UID:58475-1641254400-1641340799@www.wbasny.org
SUMMARY:WBASNY Officer Nomination Deadline
DESCRIPTION:Queens Chapter \n \nWBASNY Officer Nomination Deadline
URL:https://www.wbasny.org/event/wbasny-officer-nomination-deadline/
END:VEVENT
BEGIN:VEVENT
DTSTART;TZID=America/New_York:20220106T130000
DTEND;TZID=America/New_York:20220106T140000
DTSTAMP:20260421T201935
CREATED:20211227T211717Z
LAST-MODIFIED:20211227T211717Z
UID:58580-1641474000-1641477600@www.wbasny.org
SUMMARY:Capitalizing on Legal Analytics as a Competitive Advantage in New York State Trial Courts
DESCRIPTION:New York Chapter \n \nCapitalizing on Legal Analytics as a Competitive Advantage in New York State Trial Courts
URL:https://www.wbasny.org/event/capitalizing-on-legal-analytics-as-a-competitive-advantage-in-new-york-state-trial-courts/
END:VEVENT
BEGIN:VEVENT
DTSTART;TZID=America/New_York:20220106T173000
DTEND;TZID=America/New_York:20220106T183000
DTSTAMP:20260421T201935
CREATED:20211214T154709Z
LAST-MODIFIED:20211214T154709Z
UID:58404-1641490200-1641493800@www.wbasny.org
SUMMARY:Diversity Committee Meeting
DESCRIPTION:Greater Rochester Chapter \n \nDiversity Committee Meeting
URL:https://www.wbasny.org/event/diversity-committee-meeting-4/
END:VEVENT
BEGIN:VEVENT
DTSTART;TZID=America/New_York:20220110T180000
DTEND;TZID=America/New_York:20220110T190000
DTSTAMP:20260421T201935
CREATED:20211227T212958Z
LAST-MODIFIED:20211227T212958Z
UID:58583-1641837600-1641841200@www.wbasny.org
SUMMARY:Criminal Law Committee Meeting
DESCRIPTION:New York Chapter \n \nCriminal Law Committee Meeting
URL:https://www.wbasny.org/event/criminal-law-committee-meeting/
END:VEVENT
BEGIN:VEVENT
DTSTART;TZID=America/New_York:20220111T120000
DTEND;TZID=America/New_York:20220111T130000
DTSTAMP:20260421T201935
CREATED:20211213T151619Z
LAST-MODIFIED:20211213T151842Z
UID:58382-1641902400-1641906000@www.wbasny.org
SUMMARY:Working Parents Committee Meeting
DESCRIPTION:Western New York Chapter \n \nWorking Parents Committee Meeting
URL:https://www.wbasny.org/event/working-parents-committee-meeting-5/
ORGANIZER;CN="Western New York Women's Bar Association":MAILTO:wbasnywny@gmail.com
END:VEVENT
BEGIN:VEVENT
DTSTART;TZID=America/New_York:20220111T130000
DTEND;TZID=America/New_York:20220111T140000
DTSTAMP:20260421T201935
CREATED:20211227T213236Z
LAST-MODIFIED:20211227T213236Z
UID:58587-1641906000-1641909600@www.wbasny.org
SUMMARY:CLE- The Requirements of Proper Courtroom Decorum in Person or Remote
DESCRIPTION:CLE- The Requirements of Proper Courtroom Decorum in Person or Remote
URL:https://www.wbasny.org/event/cle-the-requirements-of-proper-courtroom-decorum-in-person-or-remote/
END:VEVENT
BEGIN:VEVENT
DTSTART;TZID=America/New_York:20220111T150000
DTEND;TZID=America/New_York:20220111T163000
DTSTAMP:20260421T201935
CREATED:20220104T153258Z
LAST-MODIFIED:20220104T153258Z
UID:58624-1641913200-1641918600@www.wbasny.org
SUMMARY:Criminal Justice Responses to Asian Women Caught in the Cross-Hairs of Exploitation and Human Trafficking
DESCRIPTION:Queens Chapter \n \nCriminal Justice Responses to Asian Women Caught in the Cross-Hairs of Exploitation and Human Trafficking
URL:https://www.wbasny.org/event/criminal-justice-responses-to-asian-women-caught-in-the-cross-hairs-of-exploitation-and-human-trafficking/
END:VEVENT
BEGIN:VEVENT
DTSTART;TZID=America/New_York:20220113T123000
DTEND;TZID=America/New_York:20220113T140000
DTSTAMP:20260421T201935
CREATED:20211115T215118Z
LAST-MODIFIED:20211115T215118Z
UID:57843-1642077000-1642082400@www.wbasny.org
SUMMARY:Transition-Aged Youth in Foster Care
DESCRIPTION:Western New York Chapter \n \nTransition-Aged Youth in Foster Care \n 
URL:https://www.wbasny.org/event/transition-aged-youth-in-foster-care/
ORGANIZER;CN="Western New York Women's Bar Association":MAILTO:wbasnywny@gmail.com
END:VEVENT
BEGIN:VEVENT
DTSTART;TZID=America/New_York:20220113T130000
DTEND;TZID=America/New_York:20220113T140000
DTSTAMP:20260421T201935
CREATED:20211221T151200Z
LAST-MODIFIED:20211221T151200Z
UID:58493-1642078800-1642082400@www.wbasny.org
SUMMARY:Lunch with Honorable Donald Leo
DESCRIPTION:Brooklyn Chapter \n \nLunch with Honorable Donald Leo
URL:https://www.wbasny.org/event/lunch-with-honorable-donald-leo/
END:VEVENT
BEGIN:VEVENT
DTSTART;TZID=America/New_York:20220113T130000
DTEND;TZID=America/New_York:20220113T170000
DTSTAMP:20260421T201935
CREATED:20220110T163334Z
LAST-MODIFIED:20220110T163443Z
UID:58676-1642078800-1642093200@www.wbasny.org
SUMMARY:Lunchtime Open Mic- Supportive Decision-Making in Guardianship
DESCRIPTION:Lunchtime Open Mic- Supportive Decision-Making in Guardianship
URL:https://www.wbasny.org/event/lunchtime-open-mic-supportive-decision-making-in-guardianship/
END:VEVENT
BEGIN:VEVENT
DTSTART;TZID=America/New_York:20220113T170000
DTEND;TZID=America/New_York:20220113T200000
DTSTAMP:20260421T201935
CREATED:20210615T194808Z
LAST-MODIFIED:20210615T194808Z
UID:55815-1642093200-1642104000@www.wbasny.org
SUMMARY:Officers Meeting
DESCRIPTION:
URL:https://www.wbasny.org/event/officers-meeting-11/
LOCATION:TBD
ORGANIZER;CN="WBASNY":MAILTO:events@wbasny.org
END:VEVENT
BEGIN:VEVENT
DTSTART;TZID=America/New_York:20220117T130000
DTEND;TZID=America/New_York:20220117T140000
DTSTAMP:20260421T201935
CREATED:20220114T213533Z
LAST-MODIFIED:20220114T213533Z
UID:58828-1642424400-1642428000@www.wbasny.org
SUMMARY:Free Event Celebrating the Last Five Years of the Life of Dr. Martin Luther King Jr.
DESCRIPTION:Queens Chapter \n \nFree Event Celebrating the Last Five Years of the Life of Dr. Martin Luther King Jr.
URL:https://www.wbasny.org/event/free-event-celebrating-the-last-five-years-of-the-life-of-dr-martin-luther-king-jr/
END:VEVENT
BEGIN:VEVENT
DTSTART;TZID=America/New_York:20220118T190000
DTEND;TZID=America/New_York:20220118T200000
DTSTAMP:20260421T201935
CREATED:20220110T154118Z
LAST-MODIFIED:20220111T182139Z
UID:58650-1642532400-1642536000@www.wbasny.org
SUMMARY:Best Municipal and Cross Sector Practices for Human Trafficking Awareness and Prevention
DESCRIPTION:Queens Chapter \n \nBest Municpal and Cross Sector Practices for Human Trafficking Awareness and Prevention
URL:https://www.wbasny.org/event/best-municipal-and-cross-sector-practices-for-human-trafficking-awareness-and-prevention/
END:VEVENT
BEGIN:VEVENT
DTSTART;TZID=America/New_York:20220118T193000
DTEND;TZID=America/New_York:20220118T203000
DTSTAMP:20260421T201935
CREATED:20211214T155327Z
LAST-MODIFIED:20211214T155327Z
UID:58407-1642534200-1642537800@www.wbasny.org
SUMMARY:Books and Bottles Club - Whisper Network by Chandler Baker
DESCRIPTION:Greater Rochester Chapter \n \nBooks and Bottles Club – Whisper Network by Chandler Baker
URL:https://www.wbasny.org/event/books-and-bottles-club-whisper-network-by-chandler-baker/
END:VEVENT
BEGIN:VEVENT
DTSTART;TZID=America/New_York:20220119T080000
DTEND;TZID=America/New_York:20220119T170000
DTSTAMP:20260421T201935
CREATED:20220111T151142Z
LAST-MODIFIED:20220111T153010Z
UID:58689-1642579200-1642611600@www.wbasny.org
SUMMARY:What You Should Know About the Public Service Loan Forgiveness Program
DESCRIPTION:Brooklyn Chapter \n \nWhat You Should Know About the Public Service Loan Forgiveness Program
URL:https://www.wbasny.org/event/what-you-should-know-about-the-public-service-loan-forgiveness-program/
END:VEVENT
END:VCALENDAR