BEGIN:VCALENDAR
VERSION:2.0
PRODID:-//wbasny - ECPv6.15.20//NONSGML v1.0//EN
CALSCALE:GREGORIAN
METHOD:PUBLISH
X-ORIGINAL-URL:https://www.wbasny.org
X-WR-CALDESC:Events for wbasny
REFRESH-INTERVAL;VALUE=DURATION:PT1H
X-Robots-Tag:noindex
X-PUBLISHED-TTL:PT1H
BEGIN:VTIMEZONE
TZID:America/New_York
BEGIN:DAYLIGHT
TZOFFSETFROM:-0500
TZOFFSETTO:-0400
TZNAME:EDT
DTSTART:20220313T070000
END:DAYLIGHT
BEGIN:STANDARD
TZOFFSETFROM:-0400
TZOFFSETTO:-0500
TZNAME:EST
DTSTART:20221106T060000
END:STANDARD
BEGIN:DAYLIGHT
TZOFFSETFROM:-0500
TZOFFSETTO:-0400
TZNAME:EDT
DTSTART:20230312T070000
END:DAYLIGHT
BEGIN:STANDARD
TZOFFSETFROM:-0400
TZOFFSETTO:-0500
TZNAME:EST
DTSTART:20231105T060000
END:STANDARD
BEGIN:DAYLIGHT
TZOFFSETFROM:-0500
TZOFFSETTO:-0400
TZNAME:EDT
DTSTART:20240310T070000
END:DAYLIGHT
BEGIN:STANDARD
TZOFFSETFROM:-0400
TZOFFSETTO:-0500
TZNAME:EST
DTSTART:20241103T060000
END:STANDARD
END:VTIMEZONE
BEGIN:VEVENT
DTSTART;TZID=America/New_York:20230214T080000
DTEND;TZID=America/New_York:20230214T093000
DTSTAMP:20260420T204033
CREATED:20230209T161128Z
LAST-MODIFIED:20230209T161128Z
UID:64958-1676361600-1676367000@www.wbasny.org
SUMMARY:Breakfast at the Bar
DESCRIPTION:
URL:https://www.wbasny.org/event/breakfast-at-the-bar-5/
END:VEVENT
BEGIN:VEVENT
DTSTART;TZID=America/New_York:20230215T130000
DTEND;TZID=America/New_York:20230215T140000
DTSTAMP:20260420T204033
CREATED:20230131T182519Z
LAST-MODIFIED:20230131T182519Z
UID:64846-1676466000-1676469600@www.wbasny.org
SUMMARY:CLE- Privacy Law
DESCRIPTION:SAVE THE DATE! \n\nJOIN US FOR A VIRTUAL CLE ON PRIVACY LAW. \n\nWEDNESDAY\, FEBRUARY 15\, 2023  \n1PM  \n\nMORE DETAILS TO FOLLOW
URL:https://www.wbasny.org/event/cle-privacy-law/
END:VEVENT
BEGIN:VEVENT
DTSTART;TZID=America/New_York:20230215T130000
DTEND;TZID=America/New_York:20230215T140000
DTSTAMP:20260420T204033
CREATED:20230202T181518Z
LAST-MODIFIED:20230202T182031Z
UID:64881-1676466000-1676469600@www.wbasny.org
SUMMARY:Lunch with Hon. Peter P. Sweeney
DESCRIPTION:RSVP HERE
URL:https://www.wbasny.org/event/lunch-with-hon-peter-p-sweeney/
END:VEVENT
BEGIN:VEVENT
DTSTART;TZID=America/New_York:20230215T183000
DTEND;TZID=America/New_York:20230215T193000
DTSTAMP:20260420T204033
CREATED:20230206T212604Z
LAST-MODIFIED:20230206T212604Z
UID:64919-1676485800-1676489400@www.wbasny.org
SUMMARY:CLE-The Ethical Issues of Pro Bono Practice
DESCRIPTION:Pro Bono Committee presents a CLE Program: \nThe Ethical Issues of Pro Bono Practice \nSpeakers:\nMarijo Adimey\, Esq.\nTaris Rodney\, Esq.\nKarla George\, Esq. \nModerator: Alea K. Roberts\, Esq.\n \n\n\n\nDate:\nFebruary 15\, 2023\n\n\nTime:\n6:30PM\n\n\nLocation\nZoom Webinar- invitation to follow upon RSVP\n\n\nCLE:\n1 Ethics credit\n\n\nCost:\nFree – NYWBA and WBASNY Members**\n$25 – Non-members\n\n\nRSVP\nBefore February 10\, 2023 to: probono@nywba.org\n\n\nInfo:\nIf you have any questions\, please contact\nprobono@nywba.org\n\n\n\n\nRSVP BEFORE February 10\, 2023\n \n*CLE Credits:  1 Ethics. The New York Women’s Bar Association is an accredited CLE provider. Approval of CLE credit is pending in accordance with the requirements of the New York State CLE Board for the above-listed credit hours for experienced attorneys (those admitted to the New York Bar for more than 2 years) and as transitional credit hours for newly admitted attorneys. Please be advised that\, in accordance with the New York State CLE Board Regulations and Guidance\, while newly admitted attorneys are encouraged to participate in diversity programs\, only experienced attorneys may earn credit in the Diversity\, Inclusion and Elimination of Bias category of CLE credit. \n** Free NYWBA and WBASNY members\, $25\, non-member: Full and partial scholarships based on financial need are available. For info on the guidelines and to apply\, contact CLE Co Chair Alea Roberts at probono@nywba.org or 212-943-1090. All requests are confidential. \n 
URL:https://www.wbasny.org/event/cle-the-ethical-issues-of-pro-bono-practice/
END:VEVENT
BEGIN:VEVENT
DTSTART;TZID=America/New_York:20230216T183000
DTEND;TZID=America/New_York:20230216T193000
DTSTAMP:20260420T204033
CREATED:20230111T161243Z
LAST-MODIFIED:20230131T182800Z
UID:64618-1676572200-1676575800@www.wbasny.org
SUMMARY:Staten Island Women's Bare Association Annual Wine and Wellness Event
DESCRIPTION:SAVE THE DATE! \nWomen’s Health and Wellness \n\n\nTHURSDAY\, FEBRUARY 16\, 2023 \n6:30 PM \n\nIN HONOR OF THE AMERICAN HEART ASSOCIATION’S \nGO RED FOR WOMEN \n\n\nVINO DIVINO SCHOOL OF WINE \n\n42 Industrial Loop \nStaten Island\, NY 10309 \n\nRSVP by February 13\, 2023 \n\nCOST \nSIWBA MEMBERS $40 \nNON MEMBERS $50 \n\n\n***LIGHT DINNER\, DESSERT AND WINE TASTING*** \n\nTHE SIWBA IS COLLECTING AND PLANNING TO DONATE BOOKS TO A LOCAL LIBRARY AND/OR A SHELTER FOR READ ACROSS AMERICA (MARCH 2-6). PLEASE BRING ANY BOOKS YOU WOULD LIKE TO DONATE! \n  \n\n\n\n\n\n\n\nRSVP HERE
URL:https://www.wbasny.org/event/annual-wine-and-wellness-event/
END:VEVENT
BEGIN:VEVENT
DTSTART;TZID=America/New_York:20230216T183000
DTEND;TZID=America/New_York:20230216T193000
DTSTAMP:20260420T204033
CREATED:20230206T211034Z
LAST-MODIFIED:20230206T211034Z
UID:64907-1676572200-1676575800@www.wbasny.org
SUMMARY:CLE-Using Foil as an Effective Discovery Tool
DESCRIPTION:Thursday\, February 16\, 2023 6:30 pm \nChapter: Suffolk \nName of event: Using Foil as an effective Discovery Tool \nDescription of event: An in-depth review of the principles of The Freedom of Information Law (“FOIL”)\, and a guide to using FOIL as an effective discovery tool during the litigation process. \nHow will the event be held: Virtual \nHost(s): Suffolk County Women’s Bar Association \nCost of event: Free MCLE Credits: 2.0 Skills \nRegistration email / link: https://us06web.zoom.us/meeting/register/tZckcemorDwuH9EE3OAE_0fcjYCnh2VJaTIm
URL:https://www.wbasny.org/event/cle-using-foil-as-an-effective-discovery-tool/
END:VEVENT
BEGIN:VEVENT
DTSTART;TZID=America/New_York:20230216T190000
DTEND;TZID=America/New_York:20230216T200000
DTSTAMP:20260420T204033
CREATED:20230207T205928Z
LAST-MODIFIED:20230207T205928Z
UID:64921-1676574000-1676577600@www.wbasny.org
SUMMARY:University at Buffalo Distinguished Speaker Series
DESCRIPTION:Details and Registration
URL:https://www.wbasny.org/event/university-at-buffalo-distinguished-speaker-series/
ORGANIZER;CN="Western New York Women's Bar Association":MAILTO:wbasnywny@gmail.com
END:VEVENT
BEGIN:VEVENT
DTSTART;TZID=America/New_York:20230217T120000
DTEND;TZID=America/New_York:20230217T133000
DTSTAMP:20260420T204033
CREATED:20230203T205116Z
LAST-MODIFIED:20230203T205116Z
UID:64891-1676635200-1676640600@www.wbasny.org
SUMMARY:CLE-Election Law
DESCRIPTION:Virtual CLE on election Law \nWe have a CLE program planned for February 17\, 2023 in the area of Election Law\, which will be geared toward anyone interested in running for office or representing those who do. It will be a virtual program\, and presented by Election Lawyer Sarah LK. Steiner\, Esq.\, and our very own Terry Raskyn\, also well-versed in Election Law. \n2/17/23 at 12:00 pm to 1:30 pm \n$10 for WBASNY member\, $40 for nonmembers \nhttps://www.eventbrite.com/e/introduction-to-election-law-tickets-513576650587
URL:https://www.wbasny.org/event/cle-election-law/
END:VEVENT
BEGIN:VEVENT
DTSTART;TZID=America/New_York:20230222T183000
DTEND;TZID=America/New_York:20230222T193000
DTSTAMP:20260420T204033
CREATED:20230123T155803Z
LAST-MODIFIED:20230221T223637Z
UID:64780-1677090600-1677094200@www.wbasny.org
SUMMARY:Heart Healthy Month: Kickbox with QCWBA (POSTPONED)
DESCRIPTION:Heart Healthy Month: Kickbox with QCWBA \nFebruary 22\, 2023\, 6:30PM \nHybrid event to raise awareness for heart health. Join us for a hybrid kickboxing class that is good for all fitness levels! Bring your most comfortable clothes and sneakers to our in person venue or to your computer/tablet screen! \n90-35 148th Street\, Jamaica\, New York 11435 \nQCWBA Members: $20; Non-members: $40 \nHeart Healthy Month: Kickbox with QCWBA! New Date!
URL:https://www.wbasny.org/event/heart-healthy-month-kickbox-with-qcwba/
END:VEVENT
BEGIN:VEVENT
DTSTART;TZID=America/New_York:20230223T173000
DTEND;TZID=America/New_York:20230223T183000
DTSTAMP:20260420T204033
CREATED:20230213T224443Z
LAST-MODIFIED:20230213T224515Z
UID:64974-1677173400-1677177000@www.wbasny.org
SUMMARY:Cannabis: Past\, Present & Future
DESCRIPTION:RSVP to Cannabis – Past\, Present & Future
URL:https://www.wbasny.org/event/cannabis-past-present-future/
END:VEVENT
BEGIN:VEVENT
DTSTART;TZID=America/New_York:20230224T120000
DTEND;TZID=America/New_York:20230224T130000
DTSTAMP:20260420T204033
CREATED:20230214T152348Z
LAST-MODIFIED:20230214T152405Z
UID:64983-1677240000-1677243600@www.wbasny.org
SUMMARY:CLE-Journey to Citizenship
DESCRIPTION:Register
URL:https://www.wbasny.org/event/cle-journey-to-citizenship/
ORGANIZER;CN="Western New York Women's Bar Association":MAILTO:wbasnywny@gmail.com
END:VEVENT
BEGIN:VEVENT
DTSTART;TZID=America/New_York:20230224T120000
DTEND;TZID=America/New_York:20230224T130000
DTSTAMP:20260420T204033
CREATED:20230221T175825Z
LAST-MODIFIED:20230221T175825Z
UID:65187-1677240000-1677243600@www.wbasny.org
SUMMARY:Virtual Lunch with a Financial Planner
DESCRIPTION:Virtual lunch with a financial planner \nFeb. 24\, 2023 \nWe have a local investment advisor and financial planner available for our virtual noon meeting on Friday\, Feb. 24\, 2023! She will touch on the various components of general financial planning\, including an overview of long-term care planning and insurance needs. She will highlight retirement planning\, generally the largest component of financial planning. She will try to answer your specific questions\, without having to leave your own office! (or living room) \nMolly O’Neill is an Investment Advisor Representative working at Cornell Pochily Investment Advisors\, Inc. in Ithaca\, NY and has taken exams to become a Certified Financial Planner (CFP®). CFP professionals must pass the comprehensive CFP Certification Examination\, pass CFP Board’s Fitness Standards for Candidates and Registrants\, agree to abide by CFP Board’s Code of Ethics and Professional Responsibility and Rules of Conduct which put clients’ interests first and comply with the Financial Planning Practice Standards. \nFree to WBASNY and FLWBA members \nContact : Deborah Miller deborahwolfmiller@gmail.com
URL:https://www.wbasny.org/event/virtual-lunch-with-a-financial-planner/
END:VEVENT
BEGIN:VEVENT
DTSTART;TZID=America/New_York:20230225T133000
DTEND;TZID=America/New_York:20230225T143000
DTSTAMP:20260420T204033
CREATED:20230124T220514Z
LAST-MODIFIED:20230124T220514Z
UID:64807-1677331800-1677335400@www.wbasny.org
SUMMARY:The Aquarium of Niagara
DESCRIPTION:WBASNY WNY’s Working Parents Committee &\nGeographic Outreach Committee \ninvite you to \nThe Aquarium of Niagara \nFebruary 25\, 1:30 pm \nThis child-friendly networking event will be free for members and includes admission to the aquarium\, VIP seating at the sea lion show\, an ambassador animal encounter\, and most importantly\, pizza and cake. \nPlease RSVP to Kara Eyre
URL:https://www.wbasny.org/event/the-aquarium-of-niagara/
ORGANIZER;CN="Western New York Women's Bar Association":MAILTO:wbasnywny@gmail.com
END:VEVENT
BEGIN:VEVENT
DTSTART;TZID=America/New_York:20230228T120000
DTEND;TZID=America/New_York:20230228T140000
DTSTAMP:20260420T204033
CREATED:20230214T152731Z
LAST-MODIFIED:20230228T151805Z
UID:64987-1677585600-1677592800@www.wbasny.org
SUMMARY:A Conversation with The Descendants of Plessy v. Ferguson (POSTPONED)
DESCRIPTION:REGISTER HERE
URL:https://www.wbasny.org/event/a-conversation-with-the-descendants-of-plessy-v-ferguson/
ORGANIZER;CN="Western New York Women's Bar Association":MAILTO:wbasnywny@gmail.com
END:VEVENT
BEGIN:VEVENT
DTSTART;TZID=America/New_York:20230228T173000
DTEND;TZID=America/New_York:20230228T183000
DTSTAMP:20260420T204033
CREATED:20230217T205435Z
LAST-MODIFIED:20230217T205435Z
UID:65056-1677605400-1677609000@www.wbasny.org
SUMMARY:Celebration of Judicial Excellence: Recognizing African-American Trailblazers of the Queens Judiciary
DESCRIPTION:Queens County Bar Association – Black History Month: Celebration of Judicial Excellence (qcba.org)
URL:https://www.wbasny.org/event/celebration-of-judicial-excellence-recognizing-african-american-trailblazers-of-the-queens-judiciary/
END:VEVENT
BEGIN:VEVENT
DTSTART;TZID=America/New_York:20230228T180000
DTEND;TZID=America/New_York:20230228T190000
DTSTAMP:20260420T204033
CREATED:20230221T150948Z
LAST-MODIFIED:20230221T150948Z
UID:65142-1677607200-1677610800@www.wbasny.org
SUMMARY:Empower Yourself with Financial Literacy
DESCRIPTION:Empower Yourself with Financial Literacy \nJoin Gretchen Meyer\, CFP® of Gretchen Meyer Financial for an evening of networking and a free financial workshop where we’ll talk about financial issues unique to women and strategies to help you build financial confidence. You’ll leave with tools to define your dreams\, rethink your expenses and protect and invest in yourself – and your future. \nFebruary 28th/ 6 pm \nFree to Members/ $10 to nonmembers \nMembers: administrator@cdwba.org/ Nonmembers: https://www.cdwba.org/event/financial-literacy-webinar/
URL:https://www.wbasny.org/event/empower-yourself-with-financial-literacy/
END:VEVENT
BEGIN:VEVENT
DTSTART;TZID=America/New_York:20230228T180000
DTEND;TZID=America/New_York:20230228T190000
DTSTAMP:20260420T204033
CREATED:20230222T152629Z
LAST-MODIFIED:20230222T152629Z
UID:65195-1677607200-1677610800@www.wbasny.org
SUMMARY:An Evening with Hon. Trini E. Ross '92\, U.S. Attorney for the Western District of New York
DESCRIPTION:RSVP adiem@buffalo.edu
URL:https://www.wbasny.org/event/an-evening-with-hon-trini-e-ross-92-u-s-attorney-for-the-western-district-of-new-york/
ORGANIZER;CN="Western New York Women's Bar Association":MAILTO:wbasnywny@gmail.com
END:VEVENT
BEGIN:VEVENT
DTSTART;TZID=America/New_York:20230301T080000
DTEND;TZID=America/New_York:20230331T170000
DTSTAMP:20260420T204033
CREATED:20230223T163120Z
LAST-MODIFIED:20230316T171154Z
UID:65218-1677657600-1680282000@www.wbasny.org
SUMMARY:Prom Pop Up Donation Drive (Bronx Chapter)
DESCRIPTION:Prom Pop Up Donation Drive \nMarch 1 – March 31\, 2023 \nPlease donate gently worn or new gowns\, cocktail dresses\, shoes\, bags and accessories \nDrop off to Savina Playter\, 206 East 163rd Street\, Bronx NY 10451
URL:https://www.wbasny.org/event/prom-pop-up-donation-drive/
END:VEVENT
BEGIN:VEVENT
DTSTART;TZID=America/New_York:20230301T120000
DTEND;TZID=America/New_York:20230301T130000
DTSTAMP:20260420T204033
CREATED:20230209T161322Z
LAST-MODIFIED:20230209T161402Z
UID:64961-1677672000-1677675600@www.wbasny.org
SUMMARY:Gender Identity & Expression: Creating Inclusive Spaces
DESCRIPTION:Save the date – RSVP information will follow.
URL:https://www.wbasny.org/event/gender-identity-expression-creating-inclusive-spaces/
END:VEVENT
BEGIN:VEVENT
DTSTART;TZID=America/New_York:20230301T120000
DTEND;TZID=America/New_York:20230301T140000
DTSTAMP:20260420T204033
CREATED:20230209T210945Z
LAST-MODIFIED:20230209T210945Z
UID:64965-1677672000-1677679200@www.wbasny.org
SUMMARY:CLE- Black History Month Attica is All of Us
DESCRIPTION:Join the MCBA\, GRAWA and RBBA at this important program\, showcasing how “justice for all” can be accomplished in our own backyard. \nAs a Federal Court Law Clerk in Buffalo\, Ellen Yacknin discovered a dormant complaint that the Court was about to dismiss. Her actions and subsequent involvement in the ensuing civil rights litigation helped to achieve the largest prisoners’ rights settlement in U. S. history. \nhttps://mcba.org/?pg=events&evAction=showDetail&eid=262343&evSubAction=listAll \n  \nMarch 1\, 2023 – 12:15pm -1:55pm \nhttps://grawa.memberclicks.net/assets/CLE-Flyers/Attica/Attica%203.1.2023%20%28FINAL%29.pdf
URL:https://www.wbasny.org/event/cle-black-history-month-attica-is-all-of-us/
END:VEVENT
BEGIN:VEVENT
DTSTART;TZID=America/New_York:20230302T100000
DTEND;TZID=America/New_York:20230302T150000
DTSTAMP:20260420T204033
CREATED:20230223T163703Z
LAST-MODIFIED:20230223T163703Z
UID:65222-1677751200-1677769200@www.wbasny.org
SUMMARY:Free Mammogram ScanVan
DESCRIPTION:FREE MAMMOGRAM SCANVAN \nMarch 2\, 2023\, 10 am – 3 p.m. \nWomen who are eligible can make an appointment for a free mammogram at the ScanVan \nIn front of Bronx County Criminal Court\, 215 E 161st street\, Bronx \nappointment line 646-415-7932
URL:https://www.wbasny.org/event/free-mammogram-scanvan/
END:VEVENT
BEGIN:VEVENT
DTSTART;TZID=America/New_York:20230302T173000
DTEND;TZID=America/New_York:20230302T193000
DTSTAMP:20260420T204033
CREATED:20221220T160613Z
LAST-MODIFIED:20230116T204001Z
UID:64530-1677778200-1677785400@www.wbasny.org
SUMMARY:Bring-A-Buddy Event
DESCRIPTION:Save the Date! \nThe WBASNY WNY Membership Committee presents a \nBring-A-Buddy Event \n 5:30-7:30 p.m. \nTappo Pizza\, 166 Chandler Street \nBring a new friend to this WBASNY event while enjoying refreshments and mingling with old friends!\nWBASNY Swag will also be available!
URL:https://www.wbasny.org/event/bring-a-buddy-event/
ORGANIZER;CN="Western New York Women's Bar Association":MAILTO:wbasnywny@gmail.com
END:VEVENT
BEGIN:VEVENT
DTSTART;TZID=America/New_York:20230302T180000
DTEND;TZID=America/New_York:20230302T210000
DTSTAMP:20260420T204033
CREATED:20230206T211331Z
LAST-MODIFIED:20230206T211331Z
UID:64909-1677780000-1677790800@www.wbasny.org
SUMMARY:Celebrating 100 Years of Women's Right to Vote
DESCRIPTION:Thursday\, March 2\, 2023 6:00 pm – 9:00 pm \nChapter: Suffolk \nName of event: Celebrating 100 Years of Women’s Right to Vote \nDescription of event: In a unique collaboration\, the Suffolk County Women’s Bar Association\, Suffolk County Bar Association\, Touro Law\, Hofstra Law\, Amistad LI Black Bar Association\, Suffolk County Columbian Lawyers\, LI Hispanic Bar Association\, Brehon Society of Suffolk County and the Suffolk County Criminal Bar Association\, are excited to announce an event honoring Women’s History and distinguished achievements in the legal profession. \nHow will the event be held: In-person \nHost(s): Suffolk County Women’s Bar Association \nLocation (if in person): HYATT Regency of Long Island\, 1717 Motor Pkwy\, Hauppauge\, NY 11788 \nCost of event: $100 per person\, includes dinner (cash bar); $950 for a table of ten; Law Student discounted rate: $75.00 \nRegistration email / link: lora@touchdownabstract.com \nContact Name: Lora Rosenthal \nRSVP Date: February 10\, 2023
URL:https://www.wbasny.org/event/celebrating-100-years-of-womens-right-to-vote/
END:VEVENT
BEGIN:VEVENT
DTSTART;TZID=America/New_York:20230302T183000
DTEND;TZID=America/New_York:20230302T200000
DTSTAMP:20260420T204033
CREATED:20230209T211132Z
LAST-MODIFIED:20230209T211132Z
UID:64967-1677781800-1677787200@www.wbasny.org
SUMMARY:GRAWA Books & Bottles - "Carrie Soto is Back" By Taylor Jenkins Reid
DESCRIPTION:Please join us for an in-person discussion of “Carrie Soto is Back” by Taylor Jenkins Reid. We will be meeting at Heroes Brewing Company. There is no cost to attend and food and beverages will be available for purchase. Please RSVP to kristin at kwarner@bsk.com at your earliest convenience so they have an accurate head count. \n  \nMarch 2\, 2023 6:30pm-8:00pm
URL:https://www.wbasny.org/event/grawa-books-bottles-carrie-soto-is-back-by-taylor-jenkins-reid/
END:VEVENT
BEGIN:VEVENT
DTSTART;TZID=America/New_York:20230303T093000
DTEND;TZID=America/New_York:20230303T163000
DTSTAMP:20260420T204033
CREATED:20230116T203804Z
LAST-MODIFIED:20230116T203804Z
UID:64691-1677835800-1677861000@www.wbasny.org
SUMMARY:Lawyers and Friends Ski Day
DESCRIPTION:Lawyers and Friends Ski Day \nMar 3\, 2023\, 9:30 am – 4:20 pm \nHolimont\, 6921 Route 242\, PO Box 279\, Ellicottville\, NY 14731
URL:https://www.wbasny.org/event/lawyers-and-friends-ski-day/
ORGANIZER;CN="Western New York Women's Bar Association":MAILTO:wbasnywny@gmail.com
END:VEVENT
BEGIN:VEVENT
DTSTART;TZID=America/New_York:20230306T170000
DTEND;TZID=America/New_York:20230306T200000
DTSTAMP:20260420T204033
CREATED:20220826T151421Z
LAST-MODIFIED:20220826T151421Z
UID:61884-1678122000-1678132800@www.wbasny.org
SUMMARY:Officers Meeting and Dinner
DESCRIPTION:Officers Meeting and Dinner
URL:https://www.wbasny.org/event/officers-meeting-and-dinner-4/
ORGANIZER;CN="WBASNY":MAILTO:events@wbasny.org
END:VEVENT
BEGIN:VEVENT
DTSTART;TZID=America/New_York:20230307T130000
DTEND;TZID=America/New_York:20230307T140000
DTSTAMP:20260420T204033
CREATED:20230223T163440Z
LAST-MODIFIED:20230223T163440Z
UID:65220-1678194000-1678197600@www.wbasny.org
SUMMARY:CLE-Review of Model Rules of Professional Conduct 5.1 and 5.5
DESCRIPTION:Review of Model Rules of Professional Conduct 5.1 and 5.5 \nMarch 7\, 2023 1:00 – 2:00 p.m. \nFREE Ethics CLE. Registration required \nREGISTER HERE \nRSVP by : Monday\, March 6\, 2023\, 12:00 p.m.
URL:https://www.wbasny.org/event/cle-review-of-model-rules-of-professional-conduct-5-1-and-5-5/
END:VEVENT
BEGIN:VEVENT
DTSTART;TZID=America/New_York:20230307T130000
DTEND;TZID=America/New_York:20230307T140000
DTSTAMP:20260420T204033
CREATED:20230224T154559Z
LAST-MODIFIED:20230224T154614Z
UID:65289-1678194000-1678197600@www.wbasny.org
SUMMARY:Lunch with Hon. Jenny Rivera
DESCRIPTION:  \n \n\n\n\nRSVP to Lunch with a Judge
URL:https://www.wbasny.org/event/lunch-with-hon-jenny-rivera/
END:VEVENT
BEGIN:VEVENT
DTSTART;TZID=America/New_York:20230308T130000
DTEND;TZID=America/New_York:20230308T140000
DTSTAMP:20260420T204033
CREATED:20230210T204347Z
LAST-MODIFIED:20230210T204347Z
UID:64971-1678280400-1678284000@www.wbasny.org
SUMMARY:CLE-The ABC's of Estates (4 Part Series)
DESCRIPTION:QCBA CLE:  THE ABCs of Estates\, 4 part Series\nMarch 08\, 2023 at 1:00 PM\nRegister Here
URL:https://www.wbasny.org/event/cle-the-abcs-of-estates-4-part-series/
END:VEVENT
BEGIN:VEVENT
DTSTART;TZID=America/New_York:20230308T130000
DTEND;TZID=America/New_York:20230308T140000
DTSTAMP:20260420T204033
CREATED:20230221T154209Z
LAST-MODIFIED:20230221T154209Z
UID:65145-1678280400-1678284000@www.wbasny.org
SUMMARY:Mediation: The Science behind the WOO WOO!
DESCRIPTION:WBASNY Wellness Committee presents\nMeditation: The Science behind the WOO WOO! \nMarch 8\, 2023\n1:00 – 2:00 pm \nDiscover the health benefits of meditation\, finding a style that\nis right for you\, and sample the practice of meditating. \nThis is a free\, virtual program.\n \nABOUT THE INSTRUCTOR \n  \n \nDiana C. Gianturco is a well-known per diem attorney in Queens County who is pursuing her passion for helping people as a motivational speaker and mindset coach. She increased her studies of meditation\, learning different methods and the science behind the practice. She will be sharing what she has learned about the biological impact of meditation on the heart\, brain and body and will discuss different styles of meditation so you can find one that fits your personal lifestyle. \nREGISTER HERE
URL:https://www.wbasny.org/event/mediation-the-science-behind-the-woo-woo/
ORGANIZER;CN="WBASNY":MAILTO:events@wbasny.org
END:VEVENT
END:VCALENDAR