BEGIN:VCALENDAR
VERSION:2.0
PRODID:-//wbasny - ECPv6.15.20//NONSGML v1.0//EN
CALSCALE:GREGORIAN
METHOD:PUBLISH
X-WR-CALNAME:wbasny
X-ORIGINAL-URL:https://www.wbasny.org
X-WR-CALDESC:Events for wbasny
REFRESH-INTERVAL;VALUE=DURATION:PT1H
X-Robots-Tag:noindex
X-PUBLISHED-TTL:PT1H
BEGIN:VTIMEZONE
TZID:America/New_York
BEGIN:DAYLIGHT
TZOFFSETFROM:-0500
TZOFFSETTO:-0400
TZNAME:EDT
DTSTART:20220313T070000
END:DAYLIGHT
BEGIN:STANDARD
TZOFFSETFROM:-0400
TZOFFSETTO:-0500
TZNAME:EST
DTSTART:20221106T060000
END:STANDARD
BEGIN:DAYLIGHT
TZOFFSETFROM:-0500
TZOFFSETTO:-0400
TZNAME:EDT
DTSTART:20230312T070000
END:DAYLIGHT
BEGIN:STANDARD
TZOFFSETFROM:-0400
TZOFFSETTO:-0500
TZNAME:EST
DTSTART:20231105T060000
END:STANDARD
BEGIN:DAYLIGHT
TZOFFSETFROM:-0500
TZOFFSETTO:-0400
TZNAME:EDT
DTSTART:20240310T070000
END:DAYLIGHT
BEGIN:STANDARD
TZOFFSETFROM:-0400
TZOFFSETTO:-0500
TZNAME:EST
DTSTART:20241103T060000
END:STANDARD
END:VTIMEZONE
BEGIN:VEVENT
DTSTART;TZID=America/New_York:20230524T170000
DTEND;TZID=America/New_York:20230524T190000
DTSTAMP:20260420T212948
CREATED:20230426T145437Z
LAST-MODIFIED:20230426T145437Z
UID:66610-1684947600-1684954800@www.wbasny.org
SUMMARY:Have Gavel Will Travel (Western New York)
DESCRIPTION:Bar Association of Erie County\nJoin the Justices of the Appellate Division\, Fourth Department\, for a cocktail party honoring Justice Erin M. Peradotto.\nOrganized by the Bar Association of Erie County\, the Appellate Division\, Fourth Department\, Minority Bar Association of WNY\, WBASNY\, WNY\, the UB Law Alumni Association\, and the UB School of Law.\nSponsored by Counsel Press\, Hoover & Durland LLP\nRegister today at: https://eriebar.org/events/have-gavel-will-travel-reception/
URL:https://www.wbasny.org/event/have-gavel-will-travel-western-new-york/
ORGANIZER;CN="Western New York Women's Bar Association":MAILTO:wbasnywny@gmail.com
END:VEVENT
BEGIN:VEVENT
DTSTART;TZID=America/New_York:20230524T130000
DTEND;TZID=America/New_York:20230524T140000
DTSTAMP:20260420T212948
CREATED:20230503T152137Z
LAST-MODIFIED:20230503T152137Z
UID:66713-1684933200-1684936800@www.wbasny.org
SUMMARY:CLE-Security Deposits: What Attorneys Should Know to Protect Their Clients' Rights
DESCRIPTION:RSVP to Security Deposits CLE
URL:https://www.wbasny.org/event/cle-security-deposits-what-attorneys-should-know-to-protect-their-clients-rights-2/
END:VEVENT
BEGIN:VEVENT
DTSTART;TZID=America/New_York:20230524T123000
DTEND;TZID=America/New_York:20230524T133000
DTSTAMP:20260420T212948
CREATED:20230510T154132Z
LAST-MODIFIED:20230510T154132Z
UID:66787-1684931400-1684935000@www.wbasny.org
SUMMARY:CLE-Restorative Mediation
DESCRIPTION:WHAT: “Restorative Mediation”\nWHEN: Wednesday\, May 24\, 2023\, 12:30 pm – 1:30 pm\nWHERE: Virtual\nCOST: Free \nRSVP: Click here to register by May 23 \nPresenters:  Hon. James L. Hyer\, J.S.C. (Westchester Supreme Court); Hon. Debra A. Martin\, A.S.C.J. (Court of Claims); Duke Fisher (Mediator\, Trainer\, Instructor at Albany Law School)
URL:https://www.wbasny.org/event/cle-restorative-mediation/
END:VEVENT
BEGIN:VEVENT
DTSTART;TZID=America/New_York:20230524T120000
DTEND;TZID=America/New_York:20230524T130000
DTSTAMP:20260420T212948
CREATED:20230501T154910Z
LAST-MODIFIED:20230501T154910Z
UID:66674-1684929600-1684933200@www.wbasny.org
SUMMARY:CLE-Appellate Practice in the First Department (New York Chapter)
DESCRIPTION:The CLE Committee presest a CLE Program \nAppellate Practice in the First Department \nSpeakers:\nHon. Tanya Kennedy and Hon. Julio Rodriguez \nModerator:\nHon. Judith J. Gische\n \nMay 24\, 2023\, 12:00 p.m.\, by Zoom \nClick here for more info and to RSVP.
URL:https://www.wbasny.org/event/cle-appellate-practice-in-the-first-department-new-york-chapter/
END:VEVENT
BEGIN:VEVENT
DTSTART;TZID=America/New_York:20230523T130000
DTEND;TZID=America/New_York:20230523T140000
DTSTAMP:20260420T212948
CREATED:20230517T204816Z
LAST-MODIFIED:20230517T204816Z
UID:66836-1684846800-1684850400@www.wbasny.org
SUMMARY:CLE-Women in the Courts: Charging Forward
DESCRIPTION:Equal Opportunity \nin the Profession Committee \npresents \n\n\nWomen in the Courts: \nCharging Forward \n\n\nMay 23\, 2023 \n\n1:00 – 2:00 pm \n\nThe panel will include a facilitated discussion on the presence and impact of women in the courts\, updates the speakers have to offer\, as well as ideas for how WBASNY members can take action to improve the presence and impact of women in courts. The main topics that will be touched upon are i) Challenges Facing Female Judges and Court Personnel\, ii) Challenges Facing Female Litigators in the Courtroom\, iii) Challenges Facing Female Litigants\, iv) Looking Ahead\, Advice for female attorneys navigating the Courts\, the role of mentors and sponsors in forwarding progress for women in the profession and the role of judges and local gender fairness committees regarding advancing women in the courts. \n  \n  \n1.0 CLE Credits \n(1.0 Ethics & Professionalism)\n(Transitional / Non-Transitional) \n  \nCost:\nFree to Members \nNon-Members – $40\n \n  \n \n  \nProgram Facilitator: \nHinckley Allen’s Women Forum (sponsor)
URL:https://www.wbasny.org/event/cle-women-in-the-courts-charging-forward/
ORGANIZER;CN="WBASNY":MAILTO:events@wbasny.org
END:VEVENT
BEGIN:VEVENT
DTSTART;TZID=America/New_York:20230523T120000
DTEND;TZID=America/New_York:20230523T130000
DTSTAMP:20260420T212948
CREATED:20230303T180915Z
LAST-MODIFIED:20230316T171819Z
UID:65755-1684843200-1684846800@www.wbasny.org
SUMMARY:Lunch with Hon. Jacqueline Ricciani\, Hon. Meagan Galligan and Support Magistrate Hannah Prall (Orange and Sullivan)
DESCRIPTION:Lunch with Judge Jacqueline Ricciani\,  \nJudge Meagan Galligan\, and  \nSupport Magistrate Hannah Prall \nMay 23\, Albella’s\, Monticello
URL:https://www.wbasny.org/event/lunch-with-hon-jacqueline-ricciani-hon-meagan-galligan-and-support-magistrate-hannah-prall/
END:VEVENT
BEGIN:VEVENT
DTSTART;TZID=America/New_York:20230522T173000
DTEND;TZID=America/New_York:20230522T200000
DTSTAMP:20260420T212948
CREATED:20230503T151854Z
LAST-MODIFIED:20230503T151854Z
UID:66710-1684776600-1684785600@www.wbasny.org
SUMMARY:Brooklyn Heights Historic Scavenger Hunt
DESCRIPTION:RSVP to BWBA Scavenger Hunt
URL:https://www.wbasny.org/event/brooklyn-heights-historic-scavenger-hunt/
END:VEVENT
BEGIN:VEVENT
DTSTART;TZID=America/New_York:20230518T170000
DTEND;TZID=America/New_York:20230518T180000
DTSTAMP:20260420T212948
CREATED:20230216T204019Z
LAST-MODIFIED:20230412T172612Z
UID:65016-1684429200-1684432800@www.wbasny.org
SUMMARY:BWBA Annual Gala (Brooklyn)
DESCRIPTION:Brooklyn Chapter \n \n \n\n\n\n\nJoin us for the Brooklyn Women’s Bar Association 2023 Gala\, Thursday\, May 18\, 2022\, 6:00 pm at The Liberty Warehouse. Visit the “BWBA GALA 2023” page to Register: HERE. \nGala Journal Advertisements and Sponsorships Deadline is 5/5
URL:https://www.wbasny.org/event/bwba-annual-gala/
END:VEVENT
BEGIN:VEVENT
DTSTART;TZID=America/New_York:20230518T120000
DTEND;TZID=America/New_York:20230518T130000
DTSTAMP:20260420T212948
CREATED:20230510T194015Z
LAST-MODIFIED:20230510T194015Z
UID:66792-1684411200-1684414800@www.wbasny.org
SUMMARY:Mid-York Women's Bar Association Lunch Social
DESCRIPTION:
URL:https://www.wbasny.org/event/mid-york-womens-bar-association-lunch-social/
END:VEVENT
BEGIN:VEVENT
DTSTART;TZID=America/New_York:20230517T180000
DTEND;TZID=America/New_York:20230517T190000
DTSTAMP:20260420T212948
CREATED:20230501T154754Z
LAST-MODIFIED:20230501T154754Z
UID:66671-1684346400-1684350000@www.wbasny.org
SUMMARY:"Equity in Action" Speaker Series (New York Chapter)
DESCRIPTION:
URL:https://www.wbasny.org/event/equity-in-action-speaker-series-new-york-chapter/
END:VEVENT
BEGIN:VEVENT
DTSTART;TZID=America/New_York:20230517T130000
DTEND;TZID=America/New_York:20230517T140000
DTSTAMP:20260420T212948
CREATED:20230503T151624Z
LAST-MODIFIED:20230503T151656Z
UID:66706-1684328400-1684332000@www.wbasny.org
SUMMARY:Lunch with Hon. Amanda E. White (Brooklyn Chapter)
DESCRIPTION:RSVP to Lunch with a Judge
URL:https://www.wbasny.org/event/lunch-with-hon-amanda-e-white-brooklyn-chapter/
END:VEVENT
BEGIN:VEVENT
DTSTART;TZID=America/New_York:20230517T123000
DTEND;TZID=America/New_York:20230517T133000
DTSTAMP:20260420T212948
CREATED:20230323T144308Z
LAST-MODIFIED:20230323T144308Z
UID:66175-1684326600-1684330200@www.wbasny.org
SUMMARY:Free CLE-ADA Accommodation Requests (Orange and Sullivan)
DESCRIPTION:
URL:https://www.wbasny.org/event/free-cle-ada-accommodation-requests-orange-and-sullivan/
END:VEVENT
BEGIN:VEVENT
DTSTART;TZID=America/New_York:20230517T120000
DTEND;TZID=America/New_York:20230517T130000
DTSTAMP:20260420T212948
CREATED:20230208T161543Z
LAST-MODIFIED:20230316T172122Z
UID:64942-1684324800-1684328400@www.wbasny.org
SUMMARY:Lunch with Hon. Mark Masler (Del-Chen-O)
DESCRIPTION:Hon. Mark Masler – May 17\, 2023 at Noon \nJoin Microsoft Teams Meeting \n+1 347-378-4143  United States\, New York City (Toll) \n(833) 262-7886  United States (Toll-free) \nConference ID: 626 730 959#
URL:https://www.wbasny.org/event/lunch-with-hon-mark-masler/
END:VEVENT
BEGIN:VEVENT
DTSTART;TZID=America/New_York:20230516T173000
DTEND;TZID=America/New_York:20230516T200000
DTSTAMP:20260420T212948
CREATED:20230421T140745Z
LAST-MODIFIED:20230421T140745Z
UID:66548-1684258200-1684267200@www.wbasny.org
SUMMARY:CLE-Diversity\, Contemporary Practice and Your Mental Health
DESCRIPTION:May 16 @ 5:30 pm – 8:00 pm\nCLE: Diversity\, Contemporary Practice and Your Mental Health\nBourbon Street\, 40-12 Bell Boulevard\, Bayside\, NY\nQCWBA\, WBASNY and Network of Bar Leaders Members: $40 / Non-members: $65
URL:https://www.wbasny.org/event/cle-diversity-contemporary-practice-and-your-mental-health/
END:VEVENT
BEGIN:VEVENT
DTSTART;TZID=America/New_York:20230516T173000
DTEND;TZID=America/New_York:20230516T183000
DTSTAMP:20260420T212948
CREATED:20230503T151358Z
LAST-MODIFIED:20230503T151358Z
UID:66702-1684258200-1684261800@www.wbasny.org
SUMMARY:CLE-Diversity\, Contemporary Practice\, and Your Mental Health
DESCRIPTION:
URL:https://www.wbasny.org/event/cle-diversity-contemporary-practice-and-your-mental-health-2/
END:VEVENT
BEGIN:VEVENT
DTSTART;TZID=America/New_York:20230515T130000
DTEND;TZID=America/New_York:20230515T140000
DTSTAMP:20260420T212948
CREATED:20230410T155554Z
LAST-MODIFIED:20230410T155554Z
UID:66400-1684155600-1684159200@www.wbasny.org
SUMMARY:CLE-Commercial Real Estate Roundtable: Issues in Part 52 Practice
DESCRIPTION:NYWBA Civil Courts Committees present a CLE Program: \nCommercial Real Estate Roundtable:\nIssues in Part 52 Practice \nPresenters:\nChristina M. Browne\, Esq.\nAnthony Graniere\, Esq.\nMelissa Ephron-Mandel\, Esq.\nBansari Sheth\, Esq. \nModerators:\nHon. James Clynes and Hon. Ilana Marcus\n \nMay 15\, 2023\, 1:00 p.m.\, by Zoom \nClick here for more info and to RSVP.
URL:https://www.wbasny.org/event/cle-commercial-real-estate-roundtable-issues-in-part-52-practice/
END:VEVENT
BEGIN:VEVENT
DTSTART;TZID=America/New_York:20230512T093000
DTEND;TZID=America/New_York:20230512T123000
DTSTAMP:20260420T212948
CREATED:20230510T154022Z
LAST-MODIFIED:20230510T154022Z
UID:66785-1683883800-1683894600@www.wbasny.org
SUMMARY:CLE-RCBA CPLR Update
DESCRIPTION:WHAT: RCBA CPLR Update\, 3 professional practice CLE credits \nWHEN: Friday\, May 12\, 2023\, 9:30 am – 12:30 pm \nWHERE: Virtual \nCOST: $75.00 for RCBA Members via credit card only \n          $105.00 for RCBA Non-Members via credit card only\n$20.00 for Paralegals via credit card only \nRSVP: Click here to register no later than 5:00 pm Thursday May 11
URL:https://www.wbasny.org/event/cle-rcba-cplr-update/
END:VEVENT
BEGIN:VEVENT
DTSTART;TZID=America/New_York:20230511T080000
DTEND;TZID=America/New_York:20230511T170000
DTSTAMP:20260420T212948
CREATED:20230303T180757Z
LAST-MODIFIED:20230316T172204Z
UID:65753-1683792000-1683824400@www.wbasny.org
SUMMARY:Lunch with Hon. David Squirrell (Orange and Sullivan)
DESCRIPTION:Lunch with Judge David Squirrell \nMay 11\, Delancey’s\, Goshen
URL:https://www.wbasny.org/event/lunch-with-hon-david-squirrell/
END:VEVENT
BEGIN:VEVENT
DTSTART;TZID=America/New_York:20230511T080000
DTEND;TZID=America/New_York:20230511T110000
DTSTAMP:20260420T212948
CREATED:20230504T150228Z
LAST-MODIFIED:20230504T150228Z
UID:66730-1683792000-1683802800@www.wbasny.org
SUMMARY:CLE- 7 Deadly Sins of Professional Advisors: Are They Trying to Drive Me Nuts?
DESCRIPTION:7 Deadly Sins of Professional Advisors: Are They Trying to Drive Me Nuts? \n  \nAs professional advisors are more involved with high net worth comprehensive planning\, many are directly or indirectly involved with charitable planning. Attendees for this interactive session will learn about seven key common planning mistakes and weaknesses.  \n  \nSpeaker: Bryan Clontz\, PhD\, CFP\, CLU \n  \nModerator: Maureen Crush\, Esq. \n  \nThursday\, May 11\, 2023 \nPowelton Club\, 29 Old Balmville Road\, Newburgh\, New York  \nRegistration & Breakfast 8:00 a.m – 8:30 a.m.; Seminar 8:30 am. – 11:00 a.m.  \nFees: $50 Members of Hudson Valley Estate Planning Council and WBASNY Members \n$75 All Others \nCredits: Attorneys: 2.0 CLE credit in Professional Practice*  \n  \nATTENDEES SHOULD REGISTER by May 8\, 2023 \nWBASNY Members: email Megan Matthews to register at  \n$50 rate: megan@cfosny.org \nAll Others: register by using the below information:  \ncommunityfoundationshv.org/events or call 845 452-3077  \n  \n  \n*Credits are pending approval. The Women’s Bar Association of the State of New York has been certified by the NY State Continuing Education Board as an Accredited Provider of Continuing Legal Education in the State of New York. This program is transitional and advanced and appropriate for experienced and newly admitted attorneys. Full and partial scholarships based on financial need are available. Full scholarships for this program are available for attorneys at non-profit organizations that provide direct legal services for victims of domestic violence. For information on the guidelines\, and to apply\, please contact Maureen Crush at (845) 615-9010 or maureen@cvlawgroup.com. All requests are confidential. The cost of this CLE program (excluding food) will be waived for up to ten (10) attorneys employed by a non-profit organization in New York State that provides direct legal services to victims of domestic violence. Please contact Maureen Crush (845) 615-9010 for more information and how to register.       
URL:https://www.wbasny.org/event/cle-7-deadly-sins-of-professional-advisors-are-they-trying-to-drive-me-nuts/
END:VEVENT
BEGIN:VEVENT
DTSTART;TZID=America/New_York:20230510T180000
DTEND;TZID=America/New_York:20230510T190000
DTSTAMP:20260420T212948
CREATED:20230509T154903Z
LAST-MODIFIED:20230509T154903Z
UID:66769-1683741600-1683745200@www.wbasny.org
SUMMARY:Missing Persons on Long Island (Suffolk Chapter)
DESCRIPTION:Download Document to Register
URL:https://www.wbasny.org/event/missing-persons-on-long-island-suffolk-chapter/
END:VEVENT
BEGIN:VEVENT
DTSTART;TZID=America/New_York:20230509T180000
DTEND;TZID=America/New_York:20230509T210000
DTSTAMP:20260420T212948
CREATED:20230501T154537Z
LAST-MODIFIED:20230501T154537Z
UID:66668-1683655200-1683666000@www.wbasny.org
SUMMARY:Family Kind Auction (New York Chapter)
DESCRIPTION:Join a lively cocktail event and awards presentation bringing together the region’s most distinguished matrimonial and family law professionals — including lawyers\, mediators\, judges\, financial services professionals\, mental health providers\, educators\, and more — as well as families who believe in FamilyKind’s work to center the needs of children and reduce conflict. \nMay 9\, 2023\n6:00 to 9:00 PM \nARTE CAFE\n106 W 73rd Street\, NYC \n2023 Honorees \nHon. Matthew F. Cooper (Ret.)\nBarry Berkman\, Esq.\nVivian Rivera Drohan\, Esq. \nClick here for more info.
URL:https://www.wbasny.org/event/family-kind-auction-new-york-chapter/
END:VEVENT
BEGIN:VEVENT
DTSTART;TZID=America/New_York:20230509T173000
DTEND;TZID=America/New_York:20230509T183000
DTSTAMP:20260420T212948
CREATED:20230501T154153Z
LAST-MODIFIED:20230501T154214Z
UID:66664-1683653400-1683657000@www.wbasny.org
SUMMARY:New York County Lawyers Association Annual Dinner
DESCRIPTION:Click here for more info.
URL:https://www.wbasny.org/event/new-york-county-lawyers-association-annual-dinner/
END:VEVENT
BEGIN:VEVENT
DTSTART;TZID=America/New_York:20230509T173000
DTEND;TZID=America/New_York:20230509T183000
DTSTAMP:20260420T212948
CREATED:20230424T145535Z
LAST-MODIFIED:20230424T145535Z
UID:66584-1683653400-1683657000@www.wbasny.org
SUMMARY:RCWBA May Mixer
DESCRIPTION:May 9\, 2023 – 5:30 p.m. \nRCWBA May Mixer \nEvening of good conversations\, drinks and food with colleagues. \nO’Grady’s Castle\, 285 Blue Hill Road\, Pearl River\, New York 10965 \n Register : sto@mzw-law.com \nRSVP by: May 2\, 2023
URL:https://www.wbasny.org/event/rcwba-may-mixer/
END:VEVENT
BEGIN:VEVENT
DTSTART;TZID=America/New_York:20230509T170000
DTEND;TZID=America/New_York:20230509T180000
DTSTAMP:20260420T212948
CREATED:20230314T144008Z
LAST-MODIFIED:20230314T144008Z
UID:65943-1683651600-1683655200@www.wbasny.org
SUMMARY:CLE-Misuse of a Power of Attorney
DESCRIPTION:Trusts & Estates and Elder Law & Disabilities Committees present a CLE Program: \nMisuse of a Power of Attorney \nSpeakers:\nRegina Kiperman\, Esq.\, Bret Cahn\, Esq. and Brian Corrigan\, Esq. \nModerator: Antonia J. Martinez\, Esq. \nMay 9\, 2023\, 5:00 p.m.\, by Zoom \nClick here for more info and to RSVP
URL:https://www.wbasny.org/event/cle-misuse-of-a-power-of-attorney/
END:VEVENT
BEGIN:VEVENT
DTSTART;TZID=America/New_York:20230509T080000
DTEND;TZID=America/New_York:20230509T093000
DTSTAMP:20260420T212948
CREATED:20230504T140307Z
LAST-MODIFIED:20230504T140307Z
UID:66724-1683619200-1683624600@www.wbasny.org
SUMMARY:Breakfast at the Bar (Central New York)
DESCRIPTION:
URL:https://www.wbasny.org/event/breakfast-at-the-bar-central-new-york-2/
END:VEVENT
BEGIN:VEVENT
DTSTART;TZID=America/New_York:20230508T170000
DTEND;TZID=America/New_York:20230508T200000
DTSTAMP:20260420T212948
CREATED:20220826T152210Z
LAST-MODIFIED:20230316T172301Z
UID:61891-1683565200-1683576000@www.wbasny.org
SUMMARY:Officers Meeting and Dinner (WBASNY)
DESCRIPTION:Officers Meeting and Dinner
URL:https://www.wbasny.org/event/officers-meeting-and-dinner-5/
ORGANIZER;CN="WBASNY":MAILTO:events@wbasny.org
END:VEVENT
BEGIN:VEVENT
DTSTART;TZID=America/New_York:20230508T170000
DTEND;TZID=America/New_York:20230508T180000
DTSTAMP:20260420T212948
CREATED:20230417T171154Z
LAST-MODIFIED:20230417T171154Z
UID:66490-1683565200-1683568800@www.wbasny.org
SUMMARY:Animal Law Committee Meeting (New York)
DESCRIPTION:Animal Law Committee Meeting by Zoom\nMay 8\, 2023 at 5:15 p.m. \nRSVP AnimalLaw@nywba.org \nThe Animal Law Committee of the New York Chapter of the Women’s Bar Association is delighted to announce a very special speaker for our upcoming April 10\, 2023 (virtual) meeting. \nNew York State Assemblymember Linda B. Rosenthal\, who represents the 67th Assembly District (West Side of Manhattan)\, has been at the forefront in sponsoring and actively supporting a panoply of legislation touching on a variety of issues that are near and dear to the hearts and minds of animal welfare activists and animal lovers throughout the state.  Through many of her successful legislative priorities\, Assemblymember Rosenthal has created a “paw-print” for a much more humane New York\, most recently by co-sponsoring and maintaining a leadership role to help achieve passage and signing of the bill banning the sale of dogs\, cats and rabbits in New York pet stores\, thereby facilitating an end to the horrific and cruel “puppy mill” trade. \nPlease join us as Assemblymember Rosenthal shares with our group news of some recent legislative accomplishments\, as well as her visions and plans for the future. \nCommittee members and non-committee members alike are all welcome to attend\, and all are encouraged to submit questions in advance.
URL:https://www.wbasny.org/event/animal-law-committee-meeting-new-york/
END:VEVENT
BEGIN:VEVENT
DTSTART;TZID=America/New_York:20230508T080000
DTEND;TZID=America/New_York:20230511T170000
DTSTAMP:20260420T212948
CREATED:20230505T202222Z
LAST-MODIFIED:20230505T202222Z
UID:66745-1683532800-1683824400@www.wbasny.org
SUMMARY:WBASNY Lobby Week
DESCRIPTION:WBASNY Lobby Week \nMay 8-11\, 2023 \nWBASNY members meet with New York State Legislators on key pieces of legislation and WBASNY’s Legislative Priorities for the year. \nWBASNY’s Position Statements can be found here: https://www.wbasny.org/legislation/ \nThis year’s lobby week will be conducted virtually.\nFor more information please contact legislation@wbasny.org. \nRegister Here – legislation@wbasny.org
URL:https://www.wbasny.org/event/wbasny-lobby-week-2/
ORGANIZER;CN="WBASNY":MAILTO:events@wbasny.org
END:VEVENT
BEGIN:VEVENT
DTSTART;TZID=America/New_York:20230508T080000
DTEND;TZID=America/New_York:20230508T170000
DTSTAMP:20260420T212948
CREATED:20230317T151535Z
LAST-MODIFIED:20230317T151535Z
UID:66081-1683532800-1683565200@www.wbasny.org
SUMMARY:RCWBA Annual Dinner
DESCRIPTION:What: RCWBA Annual Dinner\nWhen: Thursday\, June 8\nWhere: Terrace on the Hudson\nAdditional details to follow
URL:https://www.wbasny.org/event/rcwba-annual-dinner-2/
END:VEVENT
BEGIN:VEVENT
DTSTART;TZID=America/New_York:20230504T180000
DTEND;TZID=America/New_York:20230504T203000
DTSTAMP:20260420T212948
CREATED:20230307T172253Z
LAST-MODIFIED:20230316T172401Z
UID:65808-1683223200-1683232200@www.wbasny.org
SUMMARY:Lawyers for Learning Bowling (Western)
DESCRIPTION:  \nE-mail Rich Capote\nor visit WWW.LAWYERSFORLEARNING.ORG
URL:https://www.wbasny.org/event/lawyers-for-learning-bowling/
ORGANIZER;CN="Western New York Women's Bar Association":MAILTO:wbasnywny@gmail.com
END:VEVENT
END:VCALENDAR