BEGIN:VCALENDAR
VERSION:2.0
PRODID:-//wbasny - ECPv6.15.20//NONSGML v1.0//EN
CALSCALE:GREGORIAN
METHOD:PUBLISH
X-WR-CALNAME:wbasny
X-ORIGINAL-URL:https://www.wbasny.org
X-WR-CALDESC:Events for wbasny
REFRESH-INTERVAL;VALUE=DURATION:PT1H
X-Robots-Tag:noindex
X-PUBLISHED-TTL:PT1H
BEGIN:VTIMEZONE
TZID:America/New_York
BEGIN:DAYLIGHT
TZOFFSETFROM:-0500
TZOFFSETTO:-0400
TZNAME:EDT
DTSTART:20200308T070000
END:DAYLIGHT
BEGIN:STANDARD
TZOFFSETFROM:-0400
TZOFFSETTO:-0500
TZNAME:EST
DTSTART:20201101T060000
END:STANDARD
BEGIN:DAYLIGHT
TZOFFSETFROM:-0500
TZOFFSETTO:-0400
TZNAME:EDT
DTSTART:20210314T070000
END:DAYLIGHT
BEGIN:STANDARD
TZOFFSETFROM:-0400
TZOFFSETTO:-0500
TZNAME:EST
DTSTART:20211107T060000
END:STANDARD
BEGIN:DAYLIGHT
TZOFFSETFROM:-0500
TZOFFSETTO:-0400
TZNAME:EDT
DTSTART:20220313T070000
END:DAYLIGHT
BEGIN:STANDARD
TZOFFSETFROM:-0400
TZOFFSETTO:-0500
TZNAME:EST
DTSTART:20221106T060000
END:STANDARD
END:VTIMEZONE
BEGIN:VEVENT
DTSTART;TZID=America/New_York:20211103T180000
DTEND;TZID=America/New_York:20211103T200000
DTSTAMP:20260422T183336
CREATED:20211028T150628Z
LAST-MODIFIED:20211028T150628Z
UID:57610-1635962400-1635969600@www.wbasny.org
SUMMARY:The Brandeis Association Annual Dinner
DESCRIPTION:Queens Chapter \n \nThe Brandeis Association Annual Installation Dinner
URL:https://www.wbasny.org/event/the-brandeis-association-annual-dinner/
END:VEVENT
BEGIN:VEVENT
DTSTART;TZID=America/New_York:20211103T180000
DTEND;TZID=America/New_York:20211103T200000
DTSTAMP:20260422T183336
CREATED:20211025T195304Z
LAST-MODIFIED:20211025T195304Z
UID:57543-1635962400-1635969600@www.wbasny.org
SUMMARY:CLE-Representing the Special Needs Client in Family Court
DESCRIPTION:New York Chapter \n \nRepresenting the Special Needs Client in Family Court
URL:https://www.wbasny.org/event/cle-representing-the-special-needs-client-in-family-court/
END:VEVENT
BEGIN:VEVENT
DTSTART;TZID=America/New_York:20211103T180000
DTEND;TZID=America/New_York:20211103T190000
DTSTAMP:20260422T183336
CREATED:20211020T172511Z
LAST-MODIFIED:20211020T172511Z
UID:57434-1635962400-1635966000@www.wbasny.org
SUMMARY:Board and Brush Event
DESCRIPTION:Orange & Sullivan Chapter \nBoard and Brush Event
URL:https://www.wbasny.org/event/board-and-brush-event/
END:VEVENT
BEGIN:VEVENT
DTSTART;TZID=America/New_York:20211103T120000
DTEND;TZID=America/New_York:20211103T133000
DTSTAMP:20260422T183336
CREATED:20211007T205437Z
LAST-MODIFIED:20211007T205437Z
UID:57354-1635940800-1635946200@www.wbasny.org
SUMMARY:Presumptive ADR Update
DESCRIPTION:New York Chapter \nThe NYWBA ADR Committee and Family and Divorce Mediation
URL:https://www.wbasny.org/event/presumptive-adr-update/
END:VEVENT
BEGIN:VEVENT
DTSTART;TZID=America/New_York:20211101T180000
DTEND;TZID=America/New_York:20211101T190000
DTSTAMP:20260422T183336
CREATED:20211025T194100Z
LAST-MODIFIED:20211025T194247Z
UID:57539-1635789600-1635793200@www.wbasny.org
SUMMARY:CLE-Employment Law: Finding Regulations
DESCRIPTION:Queens Chapter \n \nEmployment Law Regulations
URL:https://www.wbasny.org/event/cle-employment-law-finding-regulations/
END:VEVENT
BEGIN:VEVENT
DTSTART;TZID=America/New_York:20211101T130000
DTEND;TZID=America/New_York:20211101T140000
DTSTAMP:20260422T183336
CREATED:20211022T144706Z
LAST-MODIFIED:20211022T144831Z
UID:57456-1635771600-1635775200@www.wbasny.org
SUMMARY:Lunch With Hon. Carl J. Landicino
DESCRIPTION:Brooklyn Chapter \nRSVP LUNCH WITH A JUDGE \n 
URL:https://www.wbasny.org/event/lunch-with-hon-carl-j-landicino/
END:VEVENT
BEGIN:VEVENT
DTSTART;TZID=America/New_York:20211029T120000
DTEND;TZID=America/New_York:20211029T140000
DTSTAMP:20260422T183336
CREATED:20211001T164345Z
LAST-MODIFIED:20211001T164345Z
UID:57276-1635508800-1635516000@www.wbasny.org
SUMMARY:Upstate New Yorker Belva Ann Lockwood
DESCRIPTION:Finger Lakes Chapter \nUpstate New Yorker Belva Ann Lockwood
URL:https://www.wbasny.org/event/upstate-new-yorker-belva-ann-lockwood/
END:VEVENT
BEGIN:VEVENT
DTSTART;TZID=America/New_York:20211029T100000
DTEND;TZID=America/New_York:20211029T130000
DTSTAMP:20260422T183336
CREATED:20211022T180005Z
LAST-MODIFIED:20211022T180005Z
UID:57494-1635501600-1635512400@www.wbasny.org
SUMMARY:Systemic Racism and Its Impact on Mental Health Webinar
DESCRIPTION:Queens Chapter \n \nSystemic Racism and Its Impact on Mental Health
URL:https://www.wbasny.org/event/systemic-racism-and-its-impact-on-mental-health-webinar/
END:VEVENT
BEGIN:VEVENT
DTSTART;TZID=America/New_York:20211028T173000
DTEND;TZID=America/New_York:20211028T203000
DTSTAMP:20260422T183336
CREATED:20211022T162513Z
LAST-MODIFIED:20211022T162513Z
UID:57463-1635442200-1635453000@www.wbasny.org
SUMMARY:CLE-Domestic Violence Intervention & Treatment Program
DESCRIPTION:Suffolk County Chapter \n \nDomestic Violence Intervention & Treatment Programs
URL:https://www.wbasny.org/event/cle-domestic-violence-intervention-treatment-program/
END:VEVENT
BEGIN:VEVENT
DTSTART;TZID=America/New_York:20211028T170000
DTEND;TZID=America/New_York:20211028T190000
DTSTAMP:20260422T183336
CREATED:20211025T154808Z
LAST-MODIFIED:20211025T205216Z
UID:57515-1635440400-1635447600@www.wbasny.org
SUMMARY:Eugene M. Fahey Retirement Celebration
DESCRIPTION:Western New York Chapter \n \nEugene M. Fahey Retirement Celebration
URL:https://www.wbasny.org/event/eugene-m-fahey-retirement-celebration/
ORGANIZER;CN="Western New York Women's Bar Association":MAILTO:wbasnywny@gmail.com
END:VEVENT
BEGIN:VEVENT
DTSTART;TZID=America/New_York:20211028T170000
DTEND;TZID=America/New_York:20211028T190000
DTSTAMP:20260422T183336
CREATED:20210914T171327Z
LAST-MODIFIED:20210914T171327Z
UID:57114-1635440400-1635447600@www.wbasny.org
SUMMARY:Retirement Celebration Judge Fahey
DESCRIPTION:Western NY Chapter \nEugene M. Fahey
URL:https://www.wbasny.org/event/retirement-celebration-judge-fahey/
ORGANIZER;CN="Western New York Women's Bar Association":MAILTO:wbasnywny@gmail.com
END:VEVENT
BEGIN:VEVENT
DTSTART;TZID=America/New_York:20211028T130000
DTEND;TZID=America/New_York:20211028T140000
DTSTAMP:20260422T183336
CREATED:20211011T180718Z
LAST-MODIFIED:20211011T180718Z
UID:57367-1635426000-1635429600@www.wbasny.org
SUMMARY:CLE-Special Immigrant Juvenile Status: A Family Court Overview
DESCRIPTION:Staten Island Chapter \nStaten Island CLE \n 
URL:https://www.wbasny.org/event/cle-special-immigrant-juvenile-status-a-family-court-overview/
END:VEVENT
BEGIN:VEVENT
DTSTART;TZID=America/New_York:20211027T120000
DTEND;TZID=America/New_York:20211027T133000
DTSTAMP:20260422T183336
CREATED:20211014T163852Z
LAST-MODIFIED:20211014T163852Z
UID:57423-1635336000-1635341400@www.wbasny.org
SUMMARY:Sullivan County Court Judge Honorable James R. Farrell
DESCRIPTION:Orange and Sullivan Chapter \nSullivan County Court Judge
URL:https://www.wbasny.org/event/sullivan-county-court-judge-honorable-james-r-farrell/
END:VEVENT
BEGIN:VEVENT
DTSTART;TZID=America/New_York:20211026T180000
DTEND;TZID=America/New_York:20211026T190000
DTSTAMP:20260422T183336
CREATED:20211020T172025Z
LAST-MODIFIED:20211020T172025Z
UID:57431-1635271200-1635274800@www.wbasny.org
SUMMARY:A Check-in with the Courts: An Evening with Court Attorneys
DESCRIPTION:New York Chapter \nA Check in with the Courts An Evening with Court Attorneys
URL:https://www.wbasny.org/event/a-check-in-with-the-courts-an-evening-with-court-attorneys/
END:VEVENT
BEGIN:VEVENT
DTSTART;TZID=America/New_York:20211026T180000
DTEND;TZID=America/New_York:20211026T190000
DTSTAMP:20260422T183336
CREATED:20211011T192029Z
LAST-MODIFIED:20211011T192029Z
UID:57379-1635271200-1635274800@www.wbasny.org
SUMMARY:Breast Cancer Alert
DESCRIPTION:New York Chapter \nNew York Womens Bar
URL:https://www.wbasny.org/event/breast-cancer-alert/
END:VEVENT
BEGIN:VEVENT
DTSTART;TZID=America/New_York:20211025T173000
DTEND;TZID=America/New_York:20211025T193000
DTSTAMP:20260422T183336
CREATED:20210928T160014Z
LAST-MODIFIED:20211025T200439Z
UID:57237-1635183000-1635190200@www.wbasny.org
SUMMARY:Annual Membership Cocktail Party
DESCRIPTION:Nassau Chapter \nOUR ANNUAL MEMBERSHIP COCKTAIL PARTY
URL:https://www.wbasny.org/event/our-annual-membership-cocktail-party/
END:VEVENT
BEGIN:VEVENT
DTSTART;TZID=America/New_York:20211022T083000
DTEND;TZID=America/New_York:20211022T183000
DTSTAMP:20260422T183336
CREATED:20210825T154148Z
LAST-MODIFIED:20210825T154148Z
UID:56893-1634891400-1634927400@www.wbasny.org
SUMMARY:The Traumatic Impact of the Dissolution of the Family: An Interdisciplinary Approach
DESCRIPTION:New York Chapter \n\n\n\nNYWBA/ICP Conference\n\n\n\nThe New York Women’s Bar Association and  \nThe Institute for Contemporary Psychotherapy \npresent \nThe Traumatic Impact of the Dissolution of the Family: An Interdisciplinary Approach \nThe mission of this conference is to empower mental health professionals\, judges and lawyers with the knowledge and skills to mitigate against the psychological traumatic effects of family dissolution. \nOctober 22\, 2021\, 8:45 a.m. – 6:10 p.m.\, Via Zoom \nFor more info and to register\, click here.
URL:https://www.wbasny.org/event/the-traumatic-impact-of-the-dissolution-of-the-family-an-interdisciplinary-approach/
END:VEVENT
BEGIN:VEVENT
DTSTART;TZID=America/New_York:20211021T180000
DTEND;TZID=America/New_York:20211021T200000
DTSTAMP:20260422T183336
CREATED:20211011T191708Z
LAST-MODIFIED:20211011T191708Z
UID:57376-1634839200-1634846400@www.wbasny.org
SUMMARY:Brooklyn Membership Party
DESCRIPTION:Brooklyn Chapter \nBrooklyn Membership Party
URL:https://www.wbasny.org/event/brooklyn-membership-party/
END:VEVENT
BEGIN:VEVENT
DTSTART;TZID=America/New_York:20211021T180000
DTEND;TZID=America/New_York:20211021T200000
DTSTAMP:20260422T183336
CREATED:20211004T171917Z
LAST-MODIFIED:20211004T171917Z
UID:57306-1634839200-1634846400@www.wbasny.org
SUMMARY:Adirondack Women’s Bar Association Fall Membership Mixer
DESCRIPTION:Adirondack Chapter \n2021 AWBA Fall Mixer
URL:https://www.wbasny.org/event/adirondack-womens-bar-association-fall-membership-mixer/
END:VEVENT
BEGIN:VEVENT
DTSTART;TZID=America/New_York:20211021T120000
DTEND;TZID=America/New_York:20211021T133000
DTSTAMP:20260422T183336
CREATED:20211004T171013Z
LAST-MODIFIED:20211004T171013Z
UID:57303-1634817600-1634823000@www.wbasny.org
SUMMARY:CLE-CIVIL RIGHTS IN THE SECOND CIRCUIT: RECENT DEVELOPMENTS
DESCRIPTION:Mid Hudson Chapter \nFlyer Civil Rights in the Second Circuit
URL:https://www.wbasny.org/event/cle-civil-rights-in-the-second-circuit-recent-developments/
END:VEVENT
BEGIN:VEVENT
DTSTART;TZID=America/New_York:20211020T173000
DTEND;TZID=America/New_York:20211020T183000
DTSTAMP:20260422T183336
CREATED:20210930T184955Z
LAST-MODIFIED:20210930T184955Z
UID:57261-1634751000-1634754600@www.wbasny.org
SUMMARY:Book Club
DESCRIPTION:Orange  & Sullivan Chapter \nOrange& Sullivan Book Club
URL:https://www.wbasny.org/event/book-club-7/
END:VEVENT
BEGIN:VEVENT
DTSTART;TZID=America/New_York:20211020T130000
DTEND;TZID=America/New_York:20211020T140000
DTSTAMP:20260422T183336
CREATED:20210914T174100Z
LAST-MODIFIED:20210914T174100Z
UID:57131-1634734800-1634738400@www.wbasny.org
SUMMARY:NYWBA Zoom with Judge Tanya R. Kennedy
DESCRIPTION:New York Chapter \nZoom with Judge Kennedy \n 
URL:https://www.wbasny.org/event/nywba-zoom-with-judge-tanya-r-kennedy/
END:VEVENT
BEGIN:VEVENT
DTSTART;TZID=America/New_York:20211019T180000
DTEND;TZID=America/New_York:20211019T190000
DTSTAMP:20260422T183336
CREATED:20211015T211935Z
LAST-MODIFIED:20211015T211935Z
UID:57428-1634666400-1634670000@www.wbasny.org
SUMMARY:Domestic Violence in the COVID Season: More Than a Personal Impact
DESCRIPTION:Brooklyn Chapter \nDV Program 2021
URL:https://www.wbasny.org/event/domestic-violence-in-the-covid-season-more-than-a-personal-impact/
END:VEVENT
BEGIN:VEVENT
DTSTART;TZID=America/New_York:20211019T180000
DTEND;TZID=America/New_York:20211019T190000
DTSTAMP:20260422T183336
CREATED:20210914T172952Z
LAST-MODIFIED:20210914T173822Z
UID:57123-1634666400-1634670000@www.wbasny.org
SUMMARY:NYWBA Zoom with Judge Troy Webber
DESCRIPTION:New York Chapter \nZoom with Judge Webber
URL:https://www.wbasny.org/event/57123/
END:VEVENT
BEGIN:VEVENT
DTSTART;TZID=America/New_York:20211019T173000
DTEND;TZID=America/New_York:20211019T193000
DTSTAMP:20260422T183336
CREATED:20211014T154931Z
LAST-MODIFIED:20211014T154931Z
UID:57412-1634664600-1634671800@www.wbasny.org
SUMMARY:Recent Significant Developments and Decisions our Highest NYS Appellate Courts
DESCRIPTION:Queens Chapter \nQueens CLE
URL:https://www.wbasny.org/event/recent-significant-developments-and-decisions-our-highest-nys-appellate-courts/
END:VEVENT
BEGIN:VEVENT
DTSTART;TZID=America/New_York:20211019T130000
DTEND;TZID=America/New_York:20211019T140000
DTSTAMP:20260422T183336
CREATED:20211008T185612Z
LAST-MODIFIED:20211008T185612Z
UID:57360-1634648400-1634652000@www.wbasny.org
SUMMARY:Breast Cancer Awareness Month Programming
DESCRIPTION:Queens Chapter \nBreast Cancer Awareness Month Programming
URL:https://www.wbasny.org/event/breast-cancer-awareness-month-programming/
END:VEVENT
BEGIN:VEVENT
DTSTART;TZID=America/New_York:20211018T180000
DTEND;TZID=America/New_York:20211018T190000
DTSTAMP:20260422T183336
CREATED:20210928T161121Z
LAST-MODIFIED:20210928T161121Z
UID:57243-1634580000-1634583600@www.wbasny.org
SUMMARY:CLE-Detecting Domestic Violence Issues Across Practice Areas
DESCRIPTION:New York Chapter \nNYWBA CLE Program
URL:https://www.wbasny.org/event/cle-detecting-domestic-violence-issues-across-practice-areas/
END:VEVENT
BEGIN:VEVENT
DTSTART;TZID=America/New_York:20211017T090000
DTEND;TZID=America/New_York:20211017T120000
DTSTAMP:20260422T183337
CREATED:20210930T184425Z
LAST-MODIFIED:20210930T184425Z
UID:57258-1634461200-1634472000@www.wbasny.org
SUMMARY:COME JOIN QCWBA FOR OUR ANNUAL BREAST CANCER WALK
DESCRIPTION:Queens Chapter \nCOME JOIN QCWBA FOR OUR ANNUAL BREAST CANCER WALK
URL:https://www.wbasny.org/event/come-join-qcwba-for-our-annual-breast-cancer-walk/
END:VEVENT
BEGIN:VEVENT
DTSTART;VALUE=DATE:20211017
DTEND;VALUE=DATE:20211018
DTSTAMP:20260422T183337
CREATED:20211011T180104Z
LAST-MODIFIED:20211011T180104Z
UID:57364-1634428800-1634515199@www.wbasny.org
SUMMARY:Staten Island Breast Cancer Walk
DESCRIPTION:Staten Island Chapter \n2021 Making Strides of Staten Island
URL:https://www.wbasny.org/event/staten-island-breast-cancer-walk/
END:VEVENT
BEGIN:VEVENT
DTSTART;TZID=America/New_York:20211016T110000
DTEND;TZID=America/New_York:20211016T130000
DTSTAMP:20260422T183337
CREATED:20210920T182729Z
LAST-MODIFIED:20210920T182729Z
UID:57165-1634382000-1634389200@www.wbasny.org
SUMMARY:CLE Marijuana Expungement and Vaccination Day
DESCRIPTION:Western New York Chapter \nMarijuana Expungement
URL:https://www.wbasny.org/event/cle-marijuana-expungement-and-vaccination-day/
ORGANIZER;CN="Western New York Women's Bar Association":MAILTO:wbasnywny@gmail.com
END:VEVENT
END:VCALENDAR