BEGIN:VCALENDAR
VERSION:2.0
PRODID:-//wbasny - ECPv6.15.20//NONSGML v1.0//EN
CALSCALE:GREGORIAN
METHOD:PUBLISH
X-ORIGINAL-URL:https://www.wbasny.org
X-WR-CALDESC:Events for wbasny
REFRESH-INTERVAL;VALUE=DURATION:PT1H
X-Robots-Tag:noindex
X-PUBLISHED-TTL:PT1H
BEGIN:VTIMEZONE
TZID:America/New_York
BEGIN:DAYLIGHT
TZOFFSETFROM:-0500
TZOFFSETTO:-0400
TZNAME:EDT
DTSTART:20240310T070000
END:DAYLIGHT
BEGIN:STANDARD
TZOFFSETFROM:-0400
TZOFFSETTO:-0500
TZNAME:EST
DTSTART:20241103T060000
END:STANDARD
BEGIN:DAYLIGHT
TZOFFSETFROM:-0500
TZOFFSETTO:-0400
TZNAME:EDT
DTSTART:20250309T070000
END:DAYLIGHT
BEGIN:STANDARD
TZOFFSETFROM:-0400
TZOFFSETTO:-0500
TZNAME:EST
DTSTART:20251102T060000
END:STANDARD
BEGIN:DAYLIGHT
TZOFFSETFROM:-0500
TZOFFSETTO:-0400
TZNAME:EDT
DTSTART:20260308T070000
END:DAYLIGHT
BEGIN:STANDARD
TZOFFSETFROM:-0400
TZOFFSETTO:-0500
TZNAME:EST
DTSTART:20261101T060000
END:STANDARD
END:VTIMEZONE
BEGIN:VEVENT
DTSTART;TZID=America/New_York:20251107T173000
DTEND;TZID=America/New_York:20251107T190000
DTSTAMP:20260420T203934
CREATED:20251028T164438Z
LAST-MODIFIED:20251028T164438Z
UID:93560-1762536600-1762542000@www.wbasny.org
SUMMARY:Volunteer Opportunity (Westchester Chapter)
DESCRIPTION:Event Details
URL:https://www.wbasny.org/event/volunteer-opportunity-westchester-chapter/
ORGANIZER;CN="Westchester Women's Bar Association":MAILTO:executivedirector@wwbany.org
END:VEVENT
BEGIN:VEVENT
DTSTART;TZID=America/New_York:20251110T130000
DTEND;TZID=America/New_York:20251110T140000
DTSTAMP:20260420T203934
CREATED:20251028T160656Z
LAST-MODIFIED:20251028T160656Z
UID:93551-1762779600-1762783200@www.wbasny.org
SUMMARY:CLE- Orders of Protection: All You Need to Know
DESCRIPTION:Register Here
URL:https://www.wbasny.org/event/cle-orders-of-protection-all-you-need-to-know/
ORGANIZER;CN="Westchester Women's Bar Association":MAILTO:executivedirector@wwbany.org
END:VEVENT
BEGIN:VEVENT
DTSTART;TZID=America/New_York:20251111T180000
DTEND;TZID=America/New_York:20251111T190000
DTSTAMP:20260420T203934
CREATED:20251021T203218Z
LAST-MODIFIED:20251021T203218Z
UID:93462-1762884000-1762887600@www.wbasny.org
SUMMARY:AABANY Co-Sponsors: Annual Pre-Holiday Multi-Association Gathering (New York Chapter)
DESCRIPTION:November 11\, 2025 6:00 pm \nAABANY Co-Sponsors: Annual Pre-Holiday Multi-Association Gathering \nAABANY is excited to share that it will be sponsoring its 3rd Annual Pre-Holiday Multi-Association Gathering on Tuesday\, November 11 at 6:00 p.m. There will be a Potluck Dinner and CLE Program* on Wellness Resources. The New York City Bar Association will be hosting\, and they are located at 42 W 44th Street\, New York\, NY 10036.\nRecognizing that the holidays can be challenging for many\, the CLE Program will provide information on various resources\, such as the Lawyers Assistance Program. Co-sponsoring organizations to the event will bring in a popular/cultural food selection (or two!) to the potluck. \nBecause the event is happening on Veteran’s Day this year\, we are excited to include in the CLE programming a Fireside Chat on attorney wellness\, featuring Amos Kim\, Co-Chair of AABANY’s Military and Veteran Affairs Committee\, and Austin Cheng\, a fellow veteran and attorney who is the Chief Executive Officer at Gramercy Surgery Center. \nIn-Person \n42 West 44th Street\, New York\, NY 10036 \nCost of event : $30.00 \nAABANY Co-Sponsors: Annual Pre-Holiday Multi-Association Gathering
URL:https://www.wbasny.org/event/aabany-co-sponsors-annual-pre-holiday-multi-association-gathering-new-york-chapter/
END:VEVENT
BEGIN:VEVENT
DTSTART;TZID=America/New_York:20251112T080000
DTEND;TZID=America/New_York:20251112T170000
DTSTAMP:20260420T203934
CREATED:20250929T151415Z
LAST-MODIFIED:20250929T151415Z
UID:92273-1762934400-1762966800@www.wbasny.org
SUMMARY:Judicial Reception (Orange and Sullivan Chapter)
DESCRIPTION:
URL:https://www.wbasny.org/event/judicial-reception-orange-and-sullivan-chapter/
END:VEVENT
BEGIN:VEVENT
DTSTART;TZID=America/New_York:20251112T120000
DTEND;TZID=America/New_York:20251112T130000
DTSTAMP:20260420T203934
CREATED:20251017T174611Z
LAST-MODIFIED:20251017T174611Z
UID:93373-1762948800-1762952400@www.wbasny.org
SUMMARY:Lunch at the Bar (Central New York Chapter)
DESCRIPTION:
URL:https://www.wbasny.org/event/lunch-at-the-bar-central-new-york-chapter-2/
END:VEVENT
BEGIN:VEVENT
DTSTART;TZID=America/New_York:20251112T130000
DTEND;TZID=America/New_York:20251112T140000
DTSTAMP:20260420T203934
CREATED:20251024T153248Z
LAST-MODIFIED:20251024T153248Z
UID:93490-1762952400-1762956000@www.wbasny.org
SUMMARY:CLE- Grief and Gavel: Navigating Personal Loss as a Legal Professional
DESCRIPTION:WBASNY Wellness Committee\npresents \nGrief and Gavel: Navigating Personal Loss as a Legal Professional \nNovember 12\, 2025\n1:00 – 2:00 pm \n \nTracey Brant \nTracey Brant is a certified coach and professional Ombuds with deep experience guiding individuals through transition\, conflict\, and healing. She has worked closely with the Grief Recovery Institute and maintains a longstanding\, personal passion for the ways loss shapes our lives. Her philosophy—“Loss is always in the room. Grief waits to be invited.” —frames her approach to both coaching and Ombuds work. In her presentation\, Grief and Gavel: Navigating Personal Loss as a Legal Professional\, she weaves together loss and “grief-relief-recovery-resilience” to open a space for conversation. Tracey’s commitment for this time is to help legal professionals understand\, honor\, and move through life and loss with integrity and resilience. \nKimberly Duguay\, Esq. / Lisa M. Licata\, Esq.\nCo-Chairs\, WBASNY Wellness Committee \nREGISTER HERE
URL:https://www.wbasny.org/event/cle-grief-and-gavel-navigating-personal-loss-as-a-legal-professional/
ORGANIZER;CN="WBASNY":MAILTO:events@wbasny.org
END:VEVENT
BEGIN:VEVENT
DTSTART;TZID=America/New_York:20251112T150000
DTEND;TZID=America/New_York:20251112T160000
DTSTAMP:20260420T203934
CREATED:20251031T165345Z
LAST-MODIFIED:20251031T165345Z
UID:93662-1762959600-1762963200@www.wbasny.org
SUMMARY:Key Consideration in Handling 42 U.S.C. Section 1983 Action in both State and Federal Court (Capital District Chapter)
DESCRIPTION:November 12 at 3:00 p.m. – Key Consideration in Handling 42 U.S.C. Section 1983 Action in both State and Federal Court \nClick here to register
URL:https://www.wbasny.org/event/key-consideration-in-handling-42-u-s-c-section-1983-action-in-both-state-and-federal-court-capital-district-chapter/
END:VEVENT
BEGIN:VEVENT
DTSTART;TZID=America/New_York:20251112T173000
DTEND;TZID=America/New_York:20251112T193000
DTSTAMP:20260420T203934
CREATED:20251023T202319Z
LAST-MODIFIED:20251023T202319Z
UID:93481-1762968600-1762975800@www.wbasny.org
SUMMARY:CLE- Developing Leadership: Women Leaders in the Legal Profession
DESCRIPTION:WBASNY Leadership Committee and Albany Law School’s Women’s Leadership Initiative present \n\nDeveloping Leadership: Women Leaders in the Legal Profession \n\nInspiring Perspectives of Women Judges and\nAttorneys about the Path to Leadership\, What it Means to be a Leader\, and the Impact of Leadership \n\nNovember 12\, 2025 \n\n5:30 – 7:30 pm \n(followed by light hors d’oeuvres and refreshments) \n\nAlbany Law School\n80 New Scotland Avenue\, Room 200\nAlbany\, NY 12208 \n\nSponsored by: \n \n \n \n \nThis program will address the ethical standards and obligations of lawyers in supervisory and other leadership roles\, and the positive impact that leadership positions can have on law students and attorneys of all ages. The program will also include a candid discussion of each of the panelists’ path to their leadership position and the profound influence that various mentors\, legal positions and bar associations have had on their careers. \n\nModerator: Andreanna Diliberto\, Esq.\, Chair\, WBASNY Leadership Committee\n \nPanelists: Hon. Leslie Stein (retired Court of Appeals Judge)\, Hon. Lisa Fisher (Third Department Appellate Judge)\, Hon. Linda Blom Johnson (Rensselaer City Court Judge)\, Rebekah Nellis Kennedy\, Esq. (WBASNY President-Elect)\, and Amanda Rieben\, Esq. (WBASNY Vice-President) \n\n1.0 CLE Credits  \n(1.0 Ethics and Professionalism)\n(Transitional / Non-Transitional) \n\nCost:\nFree to Members\, Law Students and\nAlbany Law School Faculty \nNon-Members – $30\nRegistration deadline – November 10th \nWBASNY CLE Program – Leadership – Intellistack \nWBASNY is certified by the New York State Continuing Legal Education Board as an Accredited Provider of continuing legal education in the State of New York. Program approval is pending for a maximum of 1.0 transitional/non-transitional credit hours.​ \n\nFinancial hardship scholarship:  Full and partial scholarships for these programs based on financial need are available. A written request must be forwarded to the WBASNY President\, Post Office Box 936\, New York\, NY 10024-0546. All requests are confidential.
URL:https://www.wbasny.org/event/cle-developing-leadership-women-leaders-in-the-legal-profession/
ORGANIZER;CN="WBASNY":MAILTO:events@wbasny.org
END:VEVENT
BEGIN:VEVENT
DTSTART;TZID=America/New_York:20251113T120000
DTEND;TZID=America/New_York:20251113T133000
DTSTAMP:20260420T203934
CREATED:20251024T155026Z
LAST-MODIFIED:20251024T155115Z
UID:93494-1763035200-1763040600@www.wbasny.org
SUMMARY:CLE- From Remembrance to Action: Building Trans-Affirming Courts
DESCRIPTION:From Remembrance to Action: Building Trans-Affirming Courts\nDate & Time\nNov 13\, 2025 12:15 PM in Eastern Time (US and Canada)\n\n\nDescription\nJoin us for a conversation on the experiences of transgender and gender-diverse people in the New York State court system. Together\, we will explore: * Transgender Day of Remembrance and the courts: ensuring safety\, dignity\, and visibility. * Navigating the system: name/gender marker changes\, privacy\, and recent reforms. * Workplace inclusion: challenges\, best practices\, and affirming policies. * Community partnerships: supporting trans individuals through Legal Aid and advocacy groups. * Practical guidance: creating affirming environments for staff and judges. * Addressing discrimination: supporting LGBTQIA+ colleagues and promoting equity.
URL:https://www.wbasny.org/event/from-remembrance-to-action-building-trans-affirming-courts-central-new-york-chapter/
END:VEVENT
BEGIN:VEVENT
DTSTART;TZID=America/New_York:20251113T130000
DTEND;TZID=America/New_York:20251113T140000
DTSTAMP:20260420T203934
CREATED:20251028T144644Z
LAST-MODIFIED:20251028T144644Z
UID:93546-1763038800-1763042400@www.wbasny.org
SUMMARY:CLE- Lawyers and Gatekeepers: Attorney AML Responsibilities
DESCRIPTION:Lawyers at Gatekeepers: Attorney AML Responsibilities \n\nNovember 13 2025 \n\n1:00 – 2:00 pm \n\nIn today’s financial climate\, lawyers may have additional due diligence requirements under unexpected regulations such as the bank secrecy act.  The program will overview a number of such situations and provide practical understanding and actionable procedures to reduce professional risk. \n  \n \nVivian Rivera Drohan\, Esq. \n1.0 CLE Credits  \n(1.0 Professional Practice)\n(Transitional / Non-Transitional) \n\nCost:\nFree to Members \nNon-Members – $40 \nWebinar Registration – Zoom
URL:https://www.wbasny.org/event/cle-lawyers-and-gatekeepers-attorney-aml-responsibilities/
ORGANIZER;CN="WBASNY":MAILTO:events@wbasny.org
END:VEVENT
BEGIN:VEVENT
DTSTART;TZID=America/New_York:20251113T180000
DTEND;TZID=America/New_York:20251113T190000
DTSTAMP:20260420T203934
CREATED:20251028T161325Z
LAST-MODIFIED:20251028T161325Z
UID:93554-1763056800-1763060400@www.wbasny.org
SUMMARY:CLE- Pelvic Health Across the Lifespan: What Every Woman Should Know
DESCRIPTION:Register Here
URL:https://www.wbasny.org/event/cle-pelvic-health-across-the-lifespan-what-every-woman-should-know/
ORGANIZER;CN="Westchester Women's Bar Association":MAILTO:executivedirector@wwbany.org
END:VEVENT
BEGIN:VEVENT
DTSTART;TZID=America/New_York:20251114T100000
DTEND;TZID=America/New_York:20251114T140000
DTSTAMP:20260420T203934
CREATED:20251031T155237Z
LAST-MODIFIED:20251031T155237Z
UID:93657-1763114400-1763128800@www.wbasny.org
SUMMARY:Native American Heritage Month (Central New York Chapter)
DESCRIPTION:TO VIEW LIVESTREAM ON THE DATE OF EVENT: CLICK HERE
URL:https://www.wbasny.org/event/native-american-heritage-month-central-new-york-chapter/
END:VEVENT
BEGIN:VEVENT
DTSTART;TZID=America/New_York:20251117T130000
DTEND;TZID=America/New_York:20251117T140000
DTSTAMP:20260420T203934
CREATED:20251110T203533Z
LAST-MODIFIED:20251110T203533Z
UID:94170-1763384400-1763388000@www.wbasny.org
SUMMARY:Lunch with Hon. Chambers (Brooklyn Chapter)
DESCRIPTION:REGISTER HERE
URL:https://www.wbasny.org/event/lunch-with-hon-chambers-brooklyn-chapter-2/
END:VEVENT
BEGIN:VEVENT
DTSTART;TZID=America/New_York:20251118T130000
DTEND;TZID=America/New_York:20251118T140000
DTSTAMP:20260420T203934
CREATED:20251021T202650Z
LAST-MODIFIED:20251021T202650Z
UID:93460-1763470800-1763474400@www.wbasny.org
SUMMARY:CLE- Top Tips for Guardians
DESCRIPTION:November 18\, 2025 1:00 pm \nTop Tips for Guardians | CLE Program \nSponsored by the Guardianship Diversity Initiative and the NYWBA \nVirtual \nNYWBA Webinar: Top Tips for Guardians | CLE Program
URL:https://www.wbasny.org/event/cle-top-tips-for-guardians/
END:VEVENT
BEGIN:VEVENT
DTSTART;TZID=America/New_York:20251118T173000
DTEND;TZID=America/New_York:20251118T190000
DTSTAMP:20260420T203934
CREATED:20250926T172741Z
LAST-MODIFIED:20250926T172741Z
UID:92267-1763487000-1763492400@www.wbasny.org
SUMMARY:Celebrating Attorney Emeritus Volunteers and Host Organizations (Capital District Chapter)
DESCRIPTION:
URL:https://www.wbasny.org/event/celebrating-attorney-emeritus-volunteers-and-host-organizations-capital-district-chapter/
END:VEVENT
BEGIN:VEVENT
DTSTART;TZID=America/New_York:20251119T080000
DTEND;TZID=America/New_York:20251119T170000
DTSTAMP:20260420T203934
CREATED:20250902T153814Z
LAST-MODIFIED:20250902T153814Z
UID:90585-1763539200-1763571600@www.wbasny.org
SUMMARY:Voices for Justice: Perspectives from Formerly Incarcerated Law Students and they Juvenile and Criminal Justice System
DESCRIPTION:
URL:https://www.wbasny.org/event/voices-for-justice-perspectives-from-formerly-incarcerated-law-students-and-they-juvenile-and-criminal-justice-system/
END:VEVENT
BEGIN:VEVENT
DTSTART;TZID=America/New_York:20251119T100000
DTEND;TZID=America/New_York:20251119T120000
DTSTAMP:20260420T203934
CREATED:20250731T145729Z
LAST-MODIFIED:20250731T145729Z
UID:88842-1763546400-1763553600@www.wbasny.org
SUMMARY:CLE- Family Court E-Filing Training
DESCRIPTION:WHAT: Family Court E-Filing Training. The Family Courts of the 9th JD will be transitioning to e-Filing for certain cases in Fall 2025. OCA is providing training.  NYSCEF Resource Center staff will guide you through the fundamentals of Family Court E-Filing\, review court rules and provide helpful tips to file successfully. \nWHEN: August 20\, September 10\, October 22\, November 19\, December 17\, 2025 from 10 am – 12 pm \nWHERE: Virtual via Microsoft Teams\, pre-registration required HERE \nCOST: Free\, and attorneys can receive 2 free CLE credits
URL:https://www.wbasny.org/event/cle-family-court-e-filing-training-4/
END:VEVENT
BEGIN:VEVENT
DTSTART;TZID=America/New_York:20251119T103000
DTEND;TZID=America/New_York:20251119T113000
DTSTAMP:20260420T203934
CREATED:20251024T202948Z
LAST-MODIFIED:20251024T202948Z
UID:93504-1763548200-1763551800@www.wbasny.org
SUMMARY:Incoming Hadassah Suffolk President Heidi Sorkin Installation (Suffolk Chapter)
DESCRIPTION:
URL:https://www.wbasny.org/event/incoming-hadassah-suffolk-president-heidi-sorkin-installation-suffolk-chapter/
END:VEVENT
BEGIN:VEVENT
DTSTART;TZID=America/New_York:20251121T140000
DTEND;TZID=America/New_York:20251121T160000
DTSTAMP:20260420T203934
CREATED:20251020T162453Z
LAST-MODIFIED:20251020T162453Z
UID:93379-1763733600-1763740800@www.wbasny.org
SUMMARY:National Adoption Day with stories\, smiles and steps forward (Orange and Sullivan Chapters)
DESCRIPTION:
URL:https://www.wbasny.org/event/national-adoption-day-with-stories-smiles-and-steps-forward-orange-and-sullivan-chapters/
END:VEVENT
BEGIN:VEVENT
DTSTART;TZID=America/New_York:20251121T150000
DTEND;TZID=America/New_York:20251121T170000
DTSTAMP:20260420T203934
CREATED:20251020T163424Z
LAST-MODIFIED:20251020T163424Z
UID:93382-1763737200-1763744400@www.wbasny.org
SUMMARY:National Adoption Day Celebration (Orange and Sullivan Chapters)
DESCRIPTION:
URL:https://www.wbasny.org/event/national-adoption-day-celebration-orange-and-sullivan-chapters/
END:VEVENT
BEGIN:VEVENT
DTSTART;TZID=America/New_York:20251122T100000
DTEND;TZID=America/New_York:20251122T150000
DTSTAMP:20260420T203934
CREATED:20250829T210244Z
LAST-MODIFIED:20250929T164329Z
UID:90472-1763805600-1763823600@www.wbasny.org
SUMMARY:Board of Directors Meeting (WBASNY)
DESCRIPTION:Board of Directors Meeting \nAlbany Law School \nAlbany\, NY
URL:https://www.wbasny.org/event/board-of-directors-meeting-wbasny/
ORGANIZER;CN="WBASNY":MAILTO:events@wbasny.org
END:VEVENT
BEGIN:VEVENT
DTSTART;TZID=America/New_York:20251201T010000
DTEND;TZID=America/New_York:20251201T140000
DTSTAMP:20260420T203934
CREATED:20251201T222608Z
LAST-MODIFIED:20251201T222608Z
UID:95808-1764550800-1764597600@www.wbasny.org
SUMMARY:NYWBA Animal Law Committee Meeting
DESCRIPTION:December 1\, 2025 1:00 pm – 2:00 pm \nNYWBA Animal Law Committee Meeting \nZoom link will be circulated amongst the committee members in advance of the meeting. \nIf you have questions\, please contact animallaw@nywba.org \nVirtual \nNYWBA Animal Law Committee Meeting
URL:https://www.wbasny.org/event/nywba-animal-law-committee-meeting/
END:VEVENT
BEGIN:VEVENT
DTSTART;TZID=America/New_York:20251201T173000
DTEND;TZID=America/New_York:20251201T200000
DTSTAMP:20260420T203934
CREATED:20251016T193725Z
LAST-MODIFIED:20251016T193725Z
UID:93365-1764610200-1764619200@www.wbasny.org
SUMMARY:Holiday Celebration (Brooklyn Chapter)
DESCRIPTION:
URL:https://www.wbasny.org/event/holiday-celebration-brooklyn-chapter-3/
END:VEVENT
BEGIN:VEVENT
DTSTART;TZID=America/New_York:20251201T180000
DTEND;TZID=America/New_York:20251201T190000
DTSTAMP:20260420T203934
CREATED:20251028T165226Z
LAST-MODIFIED:20251028T165226Z
UID:93563-1764612000-1764615600@www.wbasny.org
SUMMARY:Judge Lisa M. Smith Book Club (Westchester Chapter)
DESCRIPTION:
URL:https://www.wbasny.org/event/judge-lisa-m-smith-book-club-westchester-chapter-2/
ORGANIZER;CN="Westchester Women's Bar Association":MAILTO:executivedirector@wwbany.org
END:VEVENT
BEGIN:VEVENT
DTSTART;TZID=America/New_York:20251201T180000
DTEND;TZID=America/New_York:20251201T190000
DTSTAMP:20260420T203934
CREATED:20251121T180921Z
LAST-MODIFIED:20251121T180921Z
UID:95205-1764612000-1764615600@www.wbasny.org
SUMMARY:CLE- Revictimizing the Victim: The Child Sex Crimes Victims Protection Act
DESCRIPTION:Sex Trafficking Committee presents \n\nRevictimizing the Victim: The Child Sex Crimes Victims Protection Act \n\nDecember 1\, 2025 \n\n6:00 – 7:00 pm \n\nSurvivors of human trafficking in New York and across the United States are too often criminalized for actions directly tied to their victimization. Cases such as those of Sara Kruzan\, Pieper Lewis\, Chrystul Kizer and Cyntoia Brown illustrate this recurring problem: child sex trafficking survivors receiving severe sentences for actions taken against their abusers. This 90-minute CLE will provide critical legal and contextual grounding for understanding why reform is necessary. The discussion will focus on proposed statutory reforms – most notably the Child Sex Crime Victims Protection Act – as well as additional legislative initiatives in New York State aimed at ensuring trafficking survivors are treated as victims rather than offenders\, and at preventing trafficking through more effective protections. \n \nHon. Fernando Camacho \n \nRoss Kramer\, Esq. \n \nSara Kruzan \n \nYasmin Vafa \n  \n1.0 CLE Credits  \n(1.0 Professional Practice)\n(Transitional / Non-Transitional) \n\nCost:\nFree to Members \nNon-Members – $40 \nREGISTER HERE \nWBASNY is certified by the New York State Continuing Legal Education Board as an Accredited Provider of continuing legal education in the State of New York. Program approval is pending for a maximum of 1.0 transitional/non-transitional credit hours.​ \n\nFinancial hardship scholarship:  Full and partial scholarships for these programs based on financial need are available. A written request must be forwarded to the WBASNY President\, Post Office Box 936\, New York\, NY 10024-0546. All requests are confidential.
URL:https://www.wbasny.org/event/cle-revictimizing-the-victim-the-child-sex-crimes-victims-protection-act/
ORGANIZER;CN="WBASNY":MAILTO:events@wbasny.org
END:VEVENT
BEGIN:VEVENT
DTSTART;TZID=America/New_York:20251201T183000
DTEND;TZID=America/New_York:20251201T203000
DTSTAMP:20260420T203934
CREATED:20251201T172331Z
LAST-MODIFIED:20251201T172331Z
UID:95698-1764613800-1764621000@www.wbasny.org
SUMMARY:CLE- A Crash Course in the CPLR
DESCRIPTION:Monday\, December 1\, 2025 6:30 PM – 8:15 PM \nName of event: A Crash Course in the CPLR CLE \nDescription of event: This session will review the structure of the CPLR\, with a special focus on pleadings\, motion practice\, and their practical use and application in the courtroom. Additionally\, this session will also include a research segment that will help you find the relevant rules and filing documents for your case. \nHow will the event be held: Virtual \nRegistration link: https://qcwba.org/cle-a-crash-course-in-the-cplr/
URL:https://www.wbasny.org/event/cle-a-crash-course-in-the-cplr/
END:VEVENT
BEGIN:VEVENT
DTSTART;TZID=America/New_York:20251202T180000
DTEND;TZID=America/New_York:20251202T200000
DTSTAMP:20260420T203934
CREATED:20251201T171407Z
LAST-MODIFIED:20251201T171407Z
UID:95685-1764698400-1764705600@www.wbasny.org
SUMMARY:Solo and Small Firm Practice Committee Holiday Drinks (New York Chapter)
DESCRIPTION:Tuesday\, December 2\, 2025 6:00 PM – 8:00 PM \nName of event: Solo and Small Firm Practice Committee Holiday Drinks \nHow will the event be held: In Person \nLocation of event: The King Cole\, 2 East 55th Street\, New York NY \nRegistration email: ssf@nywba.org
URL:https://www.wbasny.org/event/solo-and-small-firm-practice-committee-holiday-drinks-new-york-chapter/
END:VEVENT
BEGIN:VEVENT
DTSTART;TZID=America/New_York:20251202T183000
DTEND;TZID=America/New_York:20251202T200000
DTSTAMP:20260420T203934
CREATED:20251201T173352Z
LAST-MODIFIED:20251201T173352Z
UID:95706-1764700200-1764705600@www.wbasny.org
SUMMARY:Annual Judicial Gala (Staten Island Chapter)
DESCRIPTION:Tuesday\, December 2\, 2025 6:30 PM – 8:00 PM \nName of event: Annual Judicial Gala \nHow will the event be held: In-Person \nLocation of event: Grand Oaks Country Club\, 200 Huguenot Avenue\, Staten Island\, NY 10312 \nRegistration email: SIWBAboardofdirectors@gmail.com 
URL:https://www.wbasny.org/event/annual-judicial-gala-staten-island-chapter/
END:VEVENT
BEGIN:VEVENT
DTSTART;TZID=America/New_York:20251203T120000
DTEND;TZID=America/New_York:20251203T153000
DTSTAMP:20260420T203934
CREATED:20251201T171539Z
LAST-MODIFIED:20251201T171539Z
UID:95688-1764763200-1764775800@www.wbasny.org
SUMMARY:Champions for Children Gala (New York Chapter)
DESCRIPTION:Wednesday\, December 3\, 2025 12:00 PM – 3:30 PM \nName of event: Champions for Children Gala \nHow will the event be held: In Person \nLocation of event: Bryant Park Grill\, 25 West 40th Street\, New York NY
URL:https://www.wbasny.org/event/champions-for-children-gala-new-york-chapter/
END:VEVENT
BEGIN:VEVENT
DTSTART;TZID=America/New_York:20251203T140000
DTEND;TZID=America/New_York:20251203T160000
DTSTAMP:20260420T203934
CREATED:20251201T172947Z
LAST-MODIFIED:20251201T172947Z
UID:95702-1764770400-1764777600@www.wbasny.org
SUMMARY:Hanukkah Holiday Basket Assembly at the Brighton Food Cupboard (Rochester Chapter)
DESCRIPTION:Wednesday\, December 3\, 2025 2:00 PM – 4:00 PM \nName of event: Hanukkah Holiday Basket Assembly at the Brighton Food Cupboard \nDescription of event: Join GRAWA in spreading holiday warmth and cheer! In partnership with the Women’s Philanthropy Group at the Jewish Federation of Greater Rochester\, we’re coming together to assemble Hanukkah holiday baskets for families in need. This special volunteer opportunity is a wonderful way to give back to our community and celebrate the spirit of the season. Spots are limited — only 10 volunteers can participate. Afterward\, keep the celebration going and connect with colleagues at the MCBA Bench & Bar Holiday Party! We hope you’ll join us for this meaningful afternoon of service and celebration. \nHow will the event be held: In-Person \nLocation of event: Brighton Food Cupboard\, Door A (Temple B’rith Kodesh\, 2131 Elmwood Ave\, Rochester\, NY 14618
URL:https://www.wbasny.org/event/hanukkah-holiday-basket-assembly-at-the-brighton-food-cupboard-rochester-chapter/
END:VEVENT
END:VCALENDAR