BEGIN:VCALENDAR
VERSION:2.0
PRODID:-//wbasny - ECPv6.15.20//NONSGML v1.0//EN
CALSCALE:GREGORIAN
METHOD:PUBLISH
X-WR-CALNAME:wbasny
X-ORIGINAL-URL:https://www.wbasny.org
X-WR-CALDESC:Events for wbasny
REFRESH-INTERVAL;VALUE=DURATION:PT1H
X-Robots-Tag:noindex
X-PUBLISHED-TTL:PT1H
BEGIN:VTIMEZONE
TZID:America/New_York
BEGIN:DAYLIGHT
TZOFFSETFROM:-0500
TZOFFSETTO:-0400
TZNAME:EDT
DTSTART:20240310T070000
END:DAYLIGHT
BEGIN:STANDARD
TZOFFSETFROM:-0400
TZOFFSETTO:-0500
TZNAME:EST
DTSTART:20241103T060000
END:STANDARD
BEGIN:DAYLIGHT
TZOFFSETFROM:-0500
TZOFFSETTO:-0400
TZNAME:EDT
DTSTART:20250309T070000
END:DAYLIGHT
BEGIN:STANDARD
TZOFFSETFROM:-0400
TZOFFSETTO:-0500
TZNAME:EST
DTSTART:20251102T060000
END:STANDARD
BEGIN:DAYLIGHT
TZOFFSETFROM:-0500
TZOFFSETTO:-0400
TZNAME:EDT
DTSTART:20260308T070000
END:DAYLIGHT
BEGIN:STANDARD
TZOFFSETFROM:-0400
TZOFFSETTO:-0500
TZNAME:EST
DTSTART:20261101T060000
END:STANDARD
END:VTIMEZONE
BEGIN:VEVENT
DTSTART;TZID=America/New_York:20251201T180000
DTEND;TZID=America/New_York:20251201T190000
DTSTAMP:20260420T103538
CREATED:20251121T180921Z
LAST-MODIFIED:20251121T180921Z
UID:95205-1764612000-1764615600@www.wbasny.org
SUMMARY:CLE- Revictimizing the Victim: The Child Sex Crimes Victims Protection Act
DESCRIPTION:Sex Trafficking Committee presents \n\nRevictimizing the Victim: The Child Sex Crimes Victims Protection Act \n\nDecember 1\, 2025 \n\n6:00 – 7:00 pm \n\nSurvivors of human trafficking in New York and across the United States are too often criminalized for actions directly tied to their victimization. Cases such as those of Sara Kruzan\, Pieper Lewis\, Chrystul Kizer and Cyntoia Brown illustrate this recurring problem: child sex trafficking survivors receiving severe sentences for actions taken against their abusers. This 90-minute CLE will provide critical legal and contextual grounding for understanding why reform is necessary. The discussion will focus on proposed statutory reforms – most notably the Child Sex Crime Victims Protection Act – as well as additional legislative initiatives in New York State aimed at ensuring trafficking survivors are treated as victims rather than offenders\, and at preventing trafficking through more effective protections. \n \nHon. Fernando Camacho \n \nRoss Kramer\, Esq. \n \nSara Kruzan \n \nYasmin Vafa \n  \n1.0 CLE Credits  \n(1.0 Professional Practice)\n(Transitional / Non-Transitional) \n\nCost:\nFree to Members \nNon-Members – $40 \nREGISTER HERE \nWBASNY is certified by the New York State Continuing Legal Education Board as an Accredited Provider of continuing legal education in the State of New York. Program approval is pending for a maximum of 1.0 transitional/non-transitional credit hours.​ \n\nFinancial hardship scholarship:  Full and partial scholarships for these programs based on financial need are available. A written request must be forwarded to the WBASNY President\, Post Office Box 936\, New York\, NY 10024-0546. All requests are confidential.
URL:https://www.wbasny.org/event/cle-revictimizing-the-victim-the-child-sex-crimes-victims-protection-act/
ORGANIZER;CN="WBASNY":MAILTO:events@wbasny.org
END:VEVENT
BEGIN:VEVENT
DTSTART;TZID=America/New_York:20251201T183000
DTEND;TZID=America/New_York:20251201T203000
DTSTAMP:20260420T103538
CREATED:20251201T172331Z
LAST-MODIFIED:20251201T172331Z
UID:95698-1764613800-1764621000@www.wbasny.org
SUMMARY:CLE- A Crash Course in the CPLR
DESCRIPTION:Monday\, December 1\, 2025 6:30 PM – 8:15 PM \nName of event: A Crash Course in the CPLR CLE \nDescription of event: This session will review the structure of the CPLR\, with a special focus on pleadings\, motion practice\, and their practical use and application in the courtroom. Additionally\, this session will also include a research segment that will help you find the relevant rules and filing documents for your case. \nHow will the event be held: Virtual \nRegistration link: https://qcwba.org/cle-a-crash-course-in-the-cplr/
URL:https://www.wbasny.org/event/cle-a-crash-course-in-the-cplr/
END:VEVENT
BEGIN:VEVENT
DTSTART;TZID=America/New_York:20251202T180000
DTEND;TZID=America/New_York:20251202T200000
DTSTAMP:20260420T103538
CREATED:20251201T171407Z
LAST-MODIFIED:20251201T171407Z
UID:95685-1764698400-1764705600@www.wbasny.org
SUMMARY:Solo and Small Firm Practice Committee Holiday Drinks (New York Chapter)
DESCRIPTION:Tuesday\, December 2\, 2025 6:00 PM – 8:00 PM \nName of event: Solo and Small Firm Practice Committee Holiday Drinks \nHow will the event be held: In Person \nLocation of event: The King Cole\, 2 East 55th Street\, New York NY \nRegistration email: ssf@nywba.org
URL:https://www.wbasny.org/event/solo-and-small-firm-practice-committee-holiday-drinks-new-york-chapter/
END:VEVENT
BEGIN:VEVENT
DTSTART;TZID=America/New_York:20251202T183000
DTEND;TZID=America/New_York:20251202T200000
DTSTAMP:20260420T103538
CREATED:20251201T173352Z
LAST-MODIFIED:20251201T173352Z
UID:95706-1764700200-1764705600@www.wbasny.org
SUMMARY:Annual Judicial Gala (Staten Island Chapter)
DESCRIPTION:Tuesday\, December 2\, 2025 6:30 PM – 8:00 PM \nName of event: Annual Judicial Gala \nHow will the event be held: In-Person \nLocation of event: Grand Oaks Country Club\, 200 Huguenot Avenue\, Staten Island\, NY 10312 \nRegistration email: SIWBAboardofdirectors@gmail.com 
URL:https://www.wbasny.org/event/annual-judicial-gala-staten-island-chapter/
END:VEVENT
BEGIN:VEVENT
DTSTART;TZID=America/New_York:20251203T120000
DTEND;TZID=America/New_York:20251203T153000
DTSTAMP:20260420T103538
CREATED:20251201T171539Z
LAST-MODIFIED:20251201T171539Z
UID:95688-1764763200-1764775800@www.wbasny.org
SUMMARY:Champions for Children Gala (New York Chapter)
DESCRIPTION:Wednesday\, December 3\, 2025 12:00 PM – 3:30 PM \nName of event: Champions for Children Gala \nHow will the event be held: In Person \nLocation of event: Bryant Park Grill\, 25 West 40th Street\, New York NY
URL:https://www.wbasny.org/event/champions-for-children-gala-new-york-chapter/
END:VEVENT
BEGIN:VEVENT
DTSTART;TZID=America/New_York:20251203T140000
DTEND;TZID=America/New_York:20251203T160000
DTSTAMP:20260420T103538
CREATED:20251201T172947Z
LAST-MODIFIED:20251201T172947Z
UID:95702-1764770400-1764777600@www.wbasny.org
SUMMARY:Hanukkah Holiday Basket Assembly at the Brighton Food Cupboard (Rochester Chapter)
DESCRIPTION:Wednesday\, December 3\, 2025 2:00 PM – 4:00 PM \nName of event: Hanukkah Holiday Basket Assembly at the Brighton Food Cupboard \nDescription of event: Join GRAWA in spreading holiday warmth and cheer! In partnership with the Women’s Philanthropy Group at the Jewish Federation of Greater Rochester\, we’re coming together to assemble Hanukkah holiday baskets for families in need. This special volunteer opportunity is a wonderful way to give back to our community and celebrate the spirit of the season. Spots are limited — only 10 volunteers can participate. Afterward\, keep the celebration going and connect with colleagues at the MCBA Bench & Bar Holiday Party! We hope you’ll join us for this meaningful afternoon of service and celebration. \nHow will the event be held: In-Person \nLocation of event: Brighton Food Cupboard\, Door A (Temple B’rith Kodesh\, 2131 Elmwood Ave\, Rochester\, NY 14618
URL:https://www.wbasny.org/event/hanukkah-holiday-basket-assembly-at-the-brighton-food-cupboard-rochester-chapter/
END:VEVENT
BEGIN:VEVENT
DTSTART;TZID=America/New_York:20251203T173000
DTEND;TZID=America/New_York:20251203T200000
DTSTAMP:20260420T103538
CREATED:20251201T173714Z
LAST-MODIFIED:20251201T173714Z
UID:95711-1764783000-1764792000@www.wbasny.org
SUMMARY:2025 Holiday Party (Western New York Chapter)
DESCRIPTION:Wednesday\, December 3\, 2025 5:30 PM – 8:00 PM \nName of event: 2025 Holiday Party \nHow will the event be held: In-Person \nCost of event: Members-$30/Non Members-$40 \nLocation of event: Wine on Hertel\, 1370 Hertel Avenue\, Buffalo\, NY 14216 \nRegistration link: https://www.wbasnywny.org/event-registrations/p/tickets-holiday-party
URL:https://www.wbasny.org/event/2025-holiday-party-western-new-york-chapter/
ORGANIZER;CN="Western New York Women's Bar Association":MAILTO:wbasnywny@gmail.com
END:VEVENT
BEGIN:VEVENT
DTSTART;TZID=America/New_York:20251203T180000
DTEND;TZID=America/New_York:20251203T193000
DTSTAMP:20260420T103538
CREATED:20251121T171739Z
LAST-MODIFIED:20251121T171739Z
UID:95202-1764784800-1764790200@www.wbasny.org
SUMMARY:CLE- AI in our Schools: Codes\, Conduct\, Consequences and Cutting Edge Issues
DESCRIPTION:Register Here!
URL:https://www.wbasny.org/event/cle-ai-in-our-schools-codes-conduct-consequences-and-cutting-edge-issues/
ORGANIZER;CN="Westchester Women's Bar Association":MAILTO:executivedirector@wwbany.org
END:VEVENT
BEGIN:VEVENT
DTSTART;TZID=America/New_York:20251204T123000
DTEND;TZID=America/New_York:20251204T143000
DTSTAMP:20260420T103538
CREATED:20251201T222217Z
LAST-MODIFIED:20251201T222217Z
UID:95804-1764851400-1764858600@www.wbasny.org
SUMMARY:Puerto Rican Heritage Month – History of Puerto Rican Lawyers and Judges in New York Lunchtime Program (New York Chapter)
DESCRIPTION:December 4\, 2025 12:45 pm – 2:15 pm \nNew York City \nPuerto Rican Heritage Month – History of Puerto Rican Lawyers and Judges in New York Lunchtime Program \nCelebrate Puerto Rican Heritage \nIn-Person \nSupreme Court Room 300\, 60 Centre Street\, NYC \nPuerto Rican Heritage Month – History of Puerto Rican Lawyers and Judges in New York Lunchtime Program
URL:https://www.wbasny.org/event/puerto-rican-heritage-month-history-of-puerto-rican-lawyers-and-judges-in-new-york-lunchtime-program-new-york-chapter/
END:VEVENT
BEGIN:VEVENT
DTSTART;TZID=America/New_York:20251204T130000
DTEND;TZID=America/New_York:20251204T140000
DTSTAMP:20260420T103538
CREATED:20251120T204734Z
LAST-MODIFIED:20251120T204734Z
UID:95134-1764853200-1764856800@www.wbasny.org
SUMMARY:CLE- Privacy Law in Practice: Essential Knowledge for New York Attorneys
DESCRIPTION:Technology Committee presents \n\nPrivacy Law in Practice: Essential Knowledge for\nNew York Attorneys \n\nDecember 4 2025 \n\n1:00 – 2:00 pm \n\nGain practical understanding of today’s rapidly evolving privacy landscape. This one-hour CLE covers key state\, federal\, and global privacy laws including the New York Privacy Act and new protections for minors and offers real-world guidance on managing data risks\, compliance obligations\, and emerging regulatory trends that every New York attorney should know. \n \nLaila S. Varcie\, Esq. \n1.0 CLE Credits  \n(0.5 Cybersecurity\, Privacy\, and Data Protection – Ethics / 0.5 Cybersecurity\, Privacy\, and Data Protection – General)\n(Transitional / Non-Transitional) \n\nCost:\nFree to Members \nNon-Members – $40 \nREGISTER HERE
URL:https://www.wbasny.org/event/cle-privacy-law-in-practice-essential-knowledge-for-new-york-attorneys/
ORGANIZER;CN="WBASNY":MAILTO:events@wbasny.org
END:VEVENT
BEGIN:VEVENT
DTSTART;TZID=America/New_York:20251204T173000
DTEND;TZID=America/New_York:20251204T193000
DTSTAMP:20260420T103538
CREATED:20251201T171707Z
LAST-MODIFIED:20251201T171707Z
UID:95690-1764869400-1764876600@www.wbasny.org
SUMMARY:Animal Law Committee Annual Holiday Mixer (New York Chapter)
DESCRIPTION:Thursday\, December 4\, 2025 5:30 PM – 7:30 PM \nName of event: Animal Law Committee Annual Holiday Mixer \nHow will the event be held: In Person \nLocation of event: Third Kingdom\, 21 East 7th Street Entrance\, New York NY 10003 \nRegistration link: https://docs.google.com/forms/d/e/1FAIpQLSe-xSdr55JPJhowfF1ff-AUv0eSmDvbReNadVw_lppWlGdkdA/viewform
URL:https://www.wbasny.org/event/animal-law-committee-annual-holiday-mixer-new-york-chapter/
END:VEVENT
BEGIN:VEVENT
DTSTART;TZID=America/New_York:20251205T120000
DTEND;TZID=America/New_York:20251205T133000
DTSTAMP:20260420T103538
CREATED:20251201T170819Z
LAST-MODIFIED:20251201T170819Z
UID:95678-1764936000-1764941400@www.wbasny.org
SUMMARY:Finger Lakes Women's Bar Lunch Meeting
DESCRIPTION:Friday\, December 5\, 2025 12:00 PM – 1:30 PM \nName of event: Finger Lakes Women’s Bar Lunch Meeting \nDescription of event: Lunch meeting with guest speaker Susann Mann\, author\, diplomat and life coach. \nHow will the event be held: In-Person \nLocation of event: Tompkins County Library\, 101 East Green Street\, Ithaca\, NY 14850 \nRegistration email: animallaw@nywba.org
URL:https://www.wbasny.org/event/finger-lakes-womens-bar-lunch-meeting/
END:VEVENT
BEGIN:VEVENT
DTSTART;TZID=America/New_York:20251208T173000
DTEND;TZID=America/New_York:20251208T200000
DTSTAMP:20260420T103538
CREATED:20251201T171124Z
LAST-MODIFIED:20251201T171124Z
UID:95680-1765215000-1765224000@www.wbasny.org
SUMMARY:Holiday Party (Mid Hudson Chapter)
DESCRIPTION:Monday\, December 8\, 2025 5:30 PM – 8:00 PM \nName of event: Holiday Party \nHow will the event be held: In-Person \nLocation of event: 1915 Wine Cellar\, 40 Cannon Street\, Poughkeepsie\, NY 12601 \nRegistration link: https://www.eventbrite.com/e/annual-mhwba-holiday-event-tickets-1975355351030?utm-campaign=social&utm-content=attendeeshare&utm-medium=discovery&utm-term=listing&utm-source=wsa&aff=ebdsshwebmobile
URL:https://www.wbasny.org/event/holiday-party-mid-hudson-chapter/
END:VEVENT
BEGIN:VEVENT
DTSTART;TZID=America/New_York:20251208T180000
DTEND;TZID=America/New_York:20251208T210000
DTSTAMP:20260420T103538
CREATED:20251201T171240Z
LAST-MODIFIED:20251201T171240Z
UID:95682-1765216800-1765227600@www.wbasny.org
SUMMARY:2025 Holiday Party and Mittens Drive Fundraiser (Nassau Chapter)
DESCRIPTION:Monday\, December 8\, 2025 6:00 PM – 9:00 PM \nName of event: 2025 Holiday Party and Mittens Drive Fundraiser \nDescription of event: Join the NCWBA at City Cellar Wine Bar & Grill on December 8\, 2025\, from 6:00 p.m. to 9:00 p.m. for a night of festive fun for a great cause. Put on your holiday attire and bring an unwrapped gift to donate to a less fortunate child. Let’s spread warmth and cheer this holiday season together! Don’t miss out on this opportunity to mingle\, enjoy delicious food and drinks\, and support a worthy cause. See you there! \nHow will the event be held: In-Person \nLocation of event: 1080 Corporate Drive\, Westbury NY 11590 \nRegistration link: https://www.eventbrite.com/e/ncwba-annual-holiday-cocktail-party-mittens-drive-fundraiser-tickets-1742831870039?aff=oddtdtcreator
URL:https://www.wbasny.org/event/2025-holiday-party-and-mittens-drive-fundraiser-nassau-chapter/
END:VEVENT
BEGIN:VEVENT
DTSTART;TZID=America/New_York:20251209T173000
DTEND;TZID=America/New_York:20251209T183000
DTSTAMP:20260420T103538
CREATED:20251113T223607Z
LAST-MODIFIED:20251113T224344Z
UID:94559-1765301400-1765305000@www.wbasny.org
SUMMARY:Holiday Sparkle & Shine Soiree (Suffolk Chapter)
DESCRIPTION:RSVP Now! \nSponsor  \nDirections 
URL:https://www.wbasny.org/event/holiday-sparkle-shine-soiree-suffolk-chapter/
END:VEVENT
BEGIN:VEVENT
DTSTART;TZID=America/New_York:20251209T173000
DTEND;TZID=America/New_York:20251209T193000
DTSTAMP:20260420T103538
CREATED:20251201T171825Z
LAST-MODIFIED:20251201T171825Z
UID:95692-1765301400-1765308600@www.wbasny.org
SUMMARY:Holiday Meet and Greet with Wine Tasting (New York Chapter)
DESCRIPTION:Tuesday\, December 9\, 2025 5:30 PM – 7:30 PM \nName of event: Holiday Meet and Greet with Wine Tasting \nHow will the event be held: In Person \nLocation of event: Holland & Knight\, 787 Seventh Avenue\, 31st Floor\, New York NY \nRegistration link: https://docs.google.com/forms/d/e/1FAIpQLScMpXzv0CUuou6ceYndICQK7BUsWgextxm2Fo2W91jN451paQ/viewform
URL:https://www.wbasny.org/event/holiday-meet-and-greet-with-wine-tasting-new-york-chapter/
END:VEVENT
BEGIN:VEVENT
DTSTART;TZID=America/New_York:20251209T173000
DTEND;TZID=America/New_York:20251209T203000
DTSTAMP:20260420T103538
CREATED:20251201T173056Z
LAST-MODIFIED:20251201T173056Z
UID:95704-1765301400-1765312200@www.wbasny.org
SUMMARY:Holiday Party (Rochester Chapter)
DESCRIPTION:Tuesday\, December 9\, 2025 5:30 PM – 8:30 PM \nName of event: Holiday Party \nHow will the event be held: In-Person \nCost of event: $25 \nLocation of event: ARTISANworks\, 565 Blossom Road #L\, Rochester NY 14610 \nRegistration link: https://grawa.memberclicks.net/holiday2025#/
URL:https://www.wbasny.org/event/holiday-party-rochester-chapter/
END:VEVENT
BEGIN:VEVENT
DTSTART;TZID=America/New_York:20251209T180000
DTEND;TZID=America/New_York:20251209T200000
DTSTAMP:20260420T103538
CREATED:20251111T180531Z
LAST-MODIFIED:20251124T222016Z
UID:94270-1765303200-1765310400@www.wbasny.org
SUMMARY:Holiday Party (Capital District Chapter)
DESCRIPTION:Join us December 9th | 6:00pm to 8:00pm\n\n\n\n  \n\n\n\nTHE DESMOND HOTEL \nMR. D’S TAVERN \n660 Albany Shaker Rd.\, Albany\, NY  \n  \n*cash bar*\n\n\n\n  \n\n\n\nWear your most festive attire! \n  \nWe will be holding a food drive benefiting the Regional Food Bank. Please bring non-perishable items for donation. For a complete list of items\, or to make a monetary donation\, click here.\n\n\n\n  \n\n\n\nKindly RSVP by: Friday\, December 5th\n\n\n\n  \n\n\n\n\n\n\n\nRSVP HERE
URL:https://www.wbasny.org/event/winter-party-std-capital-district-chapter/
END:VEVENT
BEGIN:VEVENT
DTSTART;TZID=America/New_York:20251209T180000
DTEND;TZID=America/New_York:20251209T200000
DTSTAMP:20260420T103538
CREATED:20251114T174158Z
LAST-MODIFIED:20251114T174158Z
UID:94577-1765303200-1765310400@www.wbasny.org
SUMMARY:Holiday Food & Fund Drive (Capital District Chapter)
DESCRIPTION:
URL:https://www.wbasny.org/event/holiday-food-fund-drive-capital-district-chapter/
END:VEVENT
BEGIN:VEVENT
DTSTART;TZID=America/New_York:20251210T173000
DTEND;TZID=America/New_York:20251210T183000
DTSTAMP:20260420T103538
CREATED:20251119T163815Z
LAST-MODIFIED:20251119T163837Z
UID:94807-1765387800-1765391400@www.wbasny.org
SUMMARY:Holiday Party (Orange and Sullivan Chapters)
DESCRIPTION:[Click Here to Pay Online]
URL:https://www.wbasny.org/event/holiday-party-orange-and-sullivan-chapters-2/
END:VEVENT
BEGIN:VEVENT
DTSTART;TZID=America/New_York:20251210T180000
DTEND;TZID=America/New_York:20251210T190000
DTSTAMP:20260420T103538
CREATED:20251201T222407Z
LAST-MODIFIED:20251201T225324Z
UID:95806-1765389600-1765393200@www.wbasny.org
SUMMARY:NYWBA Board Meeting
DESCRIPTION:December 10\, 2025 6:00 pm \nNew York City \nNYWBA Board Meeting \nBoard members will be sent a calendar invite for each meeting. \nVirtual \nNYWBA Board Meeting
URL:https://www.wbasny.org/event/nywba-board-meeting/
END:VEVENT
BEGIN:VEVENT
DTSTART;TZID=America/New_York:20251210T180000
DTEND;TZID=America/New_York:20251210T200000
DTSTAMP:20260420T103538
CREATED:20250829T210353Z
LAST-MODIFIED:20251008T145206Z
UID:90474-1765389600-1765396800@www.wbasny.org
SUMMARY:Officers Meeting and Dinner (WBASNY)
DESCRIPTION:Officers Meeting and Dinner \nNew York\, NY
URL:https://www.wbasny.org/event/officers-meeting-and-dinner-wbasny-3/
ORGANIZER;CN="WBASNY":MAILTO:events@wbasny.org
END:VEVENT
BEGIN:VEVENT
DTSTART;TZID=America/New_York:20251211T110000
DTEND;TZID=America/New_York:20251211T120000
DTSTAMP:20260420T103538
CREATED:20251201T171952Z
LAST-MODIFIED:20251201T171952Z
UID:95694-1765450800-1765454400@www.wbasny.org
SUMMARY:Plan For Your Financial Future (New York Chapter)
DESCRIPTION:Thursday\, December 11\, 2025 11:00 AM – 12:00 PM \nName of event: Plan For Your Financial Future \nHow will the event be held: Virtual \nRegistration email: ssfchairs@nywba.org
URL:https://www.wbasny.org/event/plan-for-your-financial-future-new-york-chapter/
END:VEVENT
BEGIN:VEVENT
DTSTART;TZID=America/New_York:20251211T173000
DTEND;TZID=America/New_York:20251211T193000
DTSTAMP:20260420T103538
CREATED:20251201T173602Z
LAST-MODIFIED:20251201T173602Z
UID:95709-1765474200-1765481400@www.wbasny.org
SUMMARY:2025 Holiday Party (Westchester Chapter)
DESCRIPTION:Thursday\, December 11\, 2025 5:30 PM – 7:30 PM \nName of event: 2025 Holiday Party \nHow will the event be held: In-Person \nLocation of event: The Woman’s Club of White Plains\, 305 Ridgeway\, White Plains NY 10605 \nRegistration link: https://www.wwbany.org/event-6324539/Registration
URL:https://www.wbasny.org/event/2025-holiday-party-westchester-chapter/
ORGANIZER;CN="Westchester Women's Bar Association":MAILTO:executivedirector@wwbany.org
END:VEVENT
BEGIN:VEVENT
DTSTART;TZID=America/New_York:20251211T173000
DTEND;TZID=America/New_York:20251211T213000
DTSTAMP:20260420T103538
CREATED:20251201T172447Z
LAST-MODIFIED:20251201T172447Z
UID:95700-1765474200-1765488600@www.wbasny.org
SUMMARY:Holiday Party (Queens Chapter)
DESCRIPTION:Thursday\, December 11\, 2025 5:30 PM – 9:30 PM \nName of event: Holiday Party \nHow will the event be held: In-Person \nLocation of event: 249 Jericho Turnpike\, Mineola\, NY 11501 \nRegistration link: https://tinyurl.com/HP122025–
URL:https://www.wbasny.org/event/holiday-party-queens-chapter/
END:VEVENT
BEGIN:VEVENT
DTSTART;TZID=America/New_York:20251217T100000
DTEND;TZID=America/New_York:20251217T120000
DTSTAMP:20260420T103538
CREATED:20250731T145816Z
LAST-MODIFIED:20250731T145816Z
UID:88844-1765965600-1765972800@www.wbasny.org
SUMMARY:CLE-Family Court E-Filing Training
DESCRIPTION:WHAT: Family Court E-Filing Training. The Family Courts of the 9th JD will be transitioning to e-Filing for certain cases in Fall 2025. OCA is providing training.  NYSCEF Resource Center staff will guide you through the fundamentals of Family Court E-Filing\, review court rules and provide helpful tips to file successfully. \nWHEN: August 20\, September 10\, October 22\, November 19\, December 17\, 2025 from 10 am – 12 pm \nWHERE: Virtual via Microsoft Teams\, pre-registration required HERE \nCOST: Free\, and attorneys can receive 2 free CLE credits
URL:https://www.wbasny.org/event/cle-family-court-e-filing-training-5/
END:VEVENT
BEGIN:VEVENT
DTSTART;TZID=America/New_York:20251217T170000
DTEND;TZID=America/New_York:20251217T190000
DTSTAMP:20260420T103538
CREATED:20251114T190118Z
LAST-MODIFIED:20251114T190118Z
UID:94581-1765990800-1765998000@www.wbasny.org
SUMMARY:Bar Holiday Reception (Central New York Chapter)
DESCRIPTION:Come early for the lighting of the Menorah\, join us in celebrating retiring Judge Merrell\, and donate to the Diaper Bank and be eligible to win a door prize… REGISTRATION COMING SOON!
URL:https://www.wbasny.org/event/bar-holiday-reception-central-new-york-chapter/
END:VEVENT
BEGIN:VEVENT
DTSTART;TZID=America/New_York:20251217T180000
DTEND;TZID=America/New_York:20251217T193000
DTSTAMP:20260420T103538
CREATED:20251201T172206Z
LAST-MODIFIED:20251201T172206Z
UID:95696-1765994400-1765999800@www.wbasny.org
SUMMARY:A Fireside Chat with Hon. Jeffrey Sunshine J.S.C (New York Chapter)
DESCRIPTION:Wednesday\, December 17\, 2025 6:00 PM – 7:30 PM \nName of event: A Fireside Chat with Hon. Jeffrey Sunshine J.S.C \nDescription of event: Join us for an engaging evening with Hon. Jeffrey Sunshine\, moderated by Hon. Ariel D. Chesler\, JSC and Aimee L. Richter\, as we explore new and exciting developments in the courts and the law for the upcoming year. This will be an excellent opportunity to hear firsthand updates from the bench and to ask questions that have been on your mind. \nHow will the event be held: In Person \nLocation of event: LACWKRR Offices\, 99 Madison Avenue\, 8th Floor\, New York NY 10016 \nRegistration link: https://docs.google.com/forms/d/e/1FAIpQLSc3I34kcNSlHWbUudl0i6vV2ms1zNkMYLZtVsKLEKwhUMkMEQ/viewform
URL:https://www.wbasny.org/event/a-fireside-chat-with-hon-jeffrey-sunshine-j-s-c-new-york-chapter/
END:VEVENT
BEGIN:VEVENT
DTSTART;TZID=America/New_York:20251218T120000
DTEND;TZID=America/New_York:20251218T130000
DTSTAMP:20260420T103538
CREATED:20251001T142413Z
LAST-MODIFIED:20251001T142413Z
UID:92561-1766059200-1766062800@www.wbasny.org
SUMMARY:Book Club Committee (Western New York Chapter)
DESCRIPTION:Book Club Committee \nDecember 18\, 2025\n12N – 1:0 PM\nThe Salty Chef\n111 Genesee Street\, #103\nBuffalo\, NY 14203
URL:https://www.wbasny.org/event/book-club-committee-western-new-york-chapter/
ORGANIZER;CN="Western New York Women's Bar Association":MAILTO:wbasnywny@gmail.com
END:VEVENT
BEGIN:VEVENT
DTSTART;TZID=America/New_York:20251218T173000
DTEND;TZID=America/New_York:20251218T200000
DTSTAMP:20260420T103538
CREATED:20251124T190211Z
LAST-MODIFIED:20251124T190211Z
UID:95404-1766079000-1766088000@www.wbasny.org
SUMMARY:Holiday Party (Rockland Chapter)
DESCRIPTION:RSVP: You can register HERE
URL:https://www.wbasny.org/event/holiday-party-rockland-chapter-2/
END:VEVENT
END:VCALENDAR