BEGIN:VCALENDAR
VERSION:2.0
PRODID:-//wbasny - ECPv6.15.20//NONSGML v1.0//EN
CALSCALE:GREGORIAN
METHOD:PUBLISH
X-WR-CALNAME:wbasny
X-ORIGINAL-URL:https://www.wbasny.org
X-WR-CALDESC:Events for wbasny
REFRESH-INTERVAL;VALUE=DURATION:PT1H
X-Robots-Tag:noindex
X-PUBLISHED-TTL:PT1H
BEGIN:VTIMEZONE
TZID:America/New_York
BEGIN:DAYLIGHT
TZOFFSETFROM:-0500
TZOFFSETTO:-0400
TZNAME:EDT
DTSTART:20190310T070000
END:DAYLIGHT
BEGIN:STANDARD
TZOFFSETFROM:-0400
TZOFFSETTO:-0500
TZNAME:EST
DTSTART:20191103T060000
END:STANDARD
BEGIN:DAYLIGHT
TZOFFSETFROM:-0500
TZOFFSETTO:-0400
TZNAME:EDT
DTSTART:20200308T070000
END:DAYLIGHT
BEGIN:STANDARD
TZOFFSETFROM:-0400
TZOFFSETTO:-0500
TZNAME:EST
DTSTART:20201101T060000
END:STANDARD
BEGIN:DAYLIGHT
TZOFFSETFROM:-0500
TZOFFSETTO:-0400
TZNAME:EDT
DTSTART:20210314T070000
END:DAYLIGHT
BEGIN:STANDARD
TZOFFSETFROM:-0400
TZOFFSETTO:-0500
TZNAME:EST
DTSTART:20211107T060000
END:STANDARD
END:VTIMEZONE
BEGIN:VEVENT
DTSTART;TZID=America/New_York:20200814T090000
DTEND;TZID=America/New_York:20200814T100000
DTSTAMP:20260423T075026
CREATED:20200804T190535Z
LAST-MODIFIED:20200804T190535Z
UID:52011-1597395600-1597399200@www.wbasny.org
SUMMARY:Elect Women: Lessons in Running for Office
DESCRIPTION:Western New York Chapter \nIn the U.S.\, 51% of the population is female\, but women make up only 18% of the U.S. Congress. Let’s correct this historic imbalance and encourage more women to run for office! Join Katie Burd from Women Elect for a discussion on the process of running for elected office and the importance of women’s voices in politics. \nRegister for Elect Women
URL:https://www.wbasny.org/event/elect-women-lessons-in-running-for-office/
ORGANIZER;CN="Western New York Women's Bar Association":MAILTO:wbasnywny@gmail.com
END:VEVENT
BEGIN:VEVENT
DTSTART;TZID=America/New_York:20200813T193000
DTEND;TZID=America/New_York:20200813T203000
DTSTAMP:20260423T075026
CREATED:20200804T184837Z
LAST-MODIFIED:20200804T184837Z
UID:52002-1597347000-1597350600@www.wbasny.org
SUMMARY:All Things COVID
DESCRIPTION:Orange-Sullivan Chapter \nPlease email rsvp@wbaosc.org if you plan to come or have any questions!
URL:https://www.wbasny.org/event/all-things-covid-3/
END:VEVENT
BEGIN:VEVENT
DTSTART;TZID=America/New_York:20200811T180000
DTEND;TZID=America/New_York:20200811T190000
DTSTAMP:20260423T075026
CREATED:20200713T195644Z
LAST-MODIFIED:20200810T190446Z
UID:51921-1597168800-1597172400@www.wbasny.org
SUMMARY:Cancelled - Adult Tennis Lession
DESCRIPTION:Orange-Sullivan Chapter\n \nAdult Tennis Lesson \nTuesday\, August 11th\, @ 6-7:30pm \nGoshen Sport Complex \nSocially distanced tennis lesson and playing followed by light food and beverage. \nCost TBD. \nAll social distancing and safety measures will be required at each event and outing. \nRSVP to rsvp@wbaosc.org to reserve a spot
URL:https://www.wbasny.org/event/adult-tennis-lession/
END:VEVENT
BEGIN:VEVENT
DTSTART;TZID=America/New_York:20200809T100000
DTEND;TZID=America/New_York:20200809T120000
DTSTAMP:20260423T075026
CREATED:20200713T195526Z
LAST-MODIFIED:20200803T191654Z
UID:51919-1596967200-1596974400@www.wbasny.org
SUMMARY:Family Friendly Hike
DESCRIPTION:Orange-Sullivan Chapter\n \nFamily Friendly Hike \nSunday\, August 9th\, @ 10:00 am \nA morning hike at Moonbeams Preserve \n150 acres of fields\, forest\, and wetlands located at the base of the Shawangunk Ridge and bordering the Shawangunk Kill; Moonbeams is a quiet hidden gem. \nTrail is suitable for ages and skill levels. Please wear comfortable shoes\, bring water\, sunscreen\, and bug spray (if you use it). Social distancing will be followed. Dogs are not allowed per the preserve rules. \nAll social distancing and safety measures will be required at each event and outing. \nRSVP to rsvp@wbaosc.org to reserve a spot
URL:https://www.wbasny.org/event/family-friendly-hike/
END:VEVENT
BEGIN:VEVENT
DTSTART;TZID=America/New_York:20200808T130000
DTEND;TZID=America/New_York:20200808T140000
DTSTAMP:20260423T075026
CREATED:20200723T160145Z
LAST-MODIFIED:20200723T161941Z
UID:51967-1596891600-1596895200@www.wbasny.org
SUMMARY:Virtual EqualiTea With the Presidents
DESCRIPTION:
URL:https://www.wbasny.org/event/virtual-equalitea-with-the-presidents/
ORGANIZER;CN="WBASNY":MAILTO:events@wbasny.org
END:VEVENT
BEGIN:VEVENT
DTSTART;TZID=America/New_York:20200807T090000
DTEND;TZID=America/New_York:20200807T100000
DTSTAMP:20260423T075026
CREATED:20200804T185532Z
LAST-MODIFIED:20200804T185532Z
UID:52009-1596790800-1596794400@www.wbasny.org
SUMMARY:The Art of Suffrage: Struggle\, Sacrifice and Success
DESCRIPTION:Western New York Chapter \nIt took nearly 100 years of persistence and passion for women to gain the vote. Finally\, in August 1920\, the 19th Amendment was ratified\, granting women across America the right to vote. \nThis year\, we’re celebrating the centennial of this seminal achievement in women’s rights—and honoring the sacrifice of the women who fought for our rights. Join Mary Brennan-Taylor\, suffrage historian and avid collector\, for this special virtual tour of “The Art of Suffrage” exhibit at the Kenan Center. \nRegister
URL:https://www.wbasny.org/event/the-art-of-suffrage-struggle-sacrifice-and-success/
ORGANIZER;CN="Western New York Women's Bar Association":MAILTO:wbasnywny@gmail.com
END:VEVENT
BEGIN:VEVENT
DTSTART;TZID=America/New_York:20200806T190000
DTEND;TZID=America/New_York:20200806T200000
DTSTAMP:20260423T075026
CREATED:20200804T191120Z
LAST-MODIFIED:20200804T191120Z
UID:52013-1596740400-1596744000@www.wbasny.org
SUMMARY:Ordinary Injustice: How America Holds Court
DESCRIPTION:Rochester Chapter \nThe next Forum event will spotlight the book\, Ordinary Injustice: How America Holds Court\, by Amy Bach\, and feature a panel of women who can speak on the subject of injustice in the American judicial system. Participants are not required to purchase a book for this program\, however it can be an educational resource for those that would like to learn more on the topic.\nOur panelists will be: \n\nAmy Bach\, author of Ordinary Injustice\nProfessor Sarah Deer Esq\, NWHF Inductee\, Professor and renowned author\, activist and champion for the rights of indigenous women\nShani Mitchell Esq. is a lifelong public servant and has spent many years as a prosecutor in Rochester and in Atlanta\nMridula Raman Esq. joins us from Berkeley Law’s Death Penalty Clinic after five years as an Assistant Federal Public Defender in the Capital Habeas Unit of the Office of the Federal Public Defender for the District of Arizona.\n\nTO REGISTER: https://www.womenofthehall.org/shop/nwhf-forum-ordinary-injustice-how-america-holds-court-virtual-event-thursday-august-6th-700-est/
URL:https://www.wbasny.org/event/ordinary-injustice-how-america-holds-court/
END:VEVENT
BEGIN:VEVENT
DTSTART;TZID=America/New_York:20200806T130000
DTEND;TZID=America/New_York:20200806T140000
DTSTAMP:20260423T075026
CREATED:20200727T163959Z
LAST-MODIFIED:20200727T163959Z
UID:51979-1596718800-1596722400@www.wbasny.org
SUMMARY:Zoom Lunch with Hon. Jenny Rivera
DESCRIPTION:Bronx Chapter
URL:https://www.wbasny.org/event/zoom-lunch-with-hon-jenny-rivera/
END:VEVENT
BEGIN:VEVENT
DTSTART;TZID=America/New_York:20200805T130000
DTEND;TZID=America/New_York:20200805T140000
DTSTAMP:20260423T075026
CREATED:20200622T150554Z
LAST-MODIFIED:20200622T150554Z
UID:51824-1596632400-1596636000@www.wbasny.org
SUMMARY:Lunch with a Judge Series
DESCRIPTION:Brooklyn Chapter
URL:https://www.wbasny.org/event/lunch-with-a-judge-series-2/
END:VEVENT
BEGIN:VEVENT
DTSTART;TZID=America/New_York:20200731T051500
DTEND;TZID=America/New_York:20200731T181500
DTSTAMP:20260423T075026
CREATED:20200728T145831Z
LAST-MODIFIED:20200728T145831Z
UID:51995-1596172500-1596219300@www.wbasny.org
SUMMARY:Virtual Happy Hour
DESCRIPTION:Del-Chen-O Chapter \nLet’s get together for a VIRTUAL HAPPY HOUR – July 31\, 2020\, from 5:15-6:15 PM – Grab your favorite beverage and join us! After months of social distancing\, let’s take this opportunity to catch up with friends and colleagues. To join Zoom Meeting \nhttps://us02web.zoom.us/j/83887548571… \nMeeting ID: 838 8754 8571 \n\nPasscode: 751236 \nWe hope you will stop by and say hello during the hour.
URL:https://www.wbasny.org/event/virtual-happy-hour/
END:VEVENT
BEGIN:VEVENT
DTSTART;TZID=America/New_York:20200730T173000
DTEND;TZID=America/New_York:20200730T183000
DTSTAMP:20260423T075026
CREATED:20200713T200315Z
LAST-MODIFIED:20200713T200315Z
UID:51928-1596130200-1596133800@www.wbasny.org
SUMMARY:Membership Happy Hour
DESCRIPTION:Rochester Chapter
URL:https://www.wbasny.org/event/membership-happy-hour/
END:VEVENT
BEGIN:VEVENT
DTSTART;TZID=America/New_York:20200730T130000
DTEND;TZID=America/New_York:20200730T140000
DTSTAMP:20260423T075026
CREATED:20200727T163634Z
LAST-MODIFIED:20200727T163634Z
UID:51976-1596114000-1596117600@www.wbasny.org
SUMMARY:Merchants Town Hall Meeting
DESCRIPTION:Bronx Chapter
URL:https://www.wbasny.org/event/merchants-town-hall-meeting/
END:VEVENT
BEGIN:VEVENT
DTSTART;TZID=America/New_York:20200729T173000
DTEND;TZID=America/New_York:20200729T183000
DTSTAMP:20260423T075026
CREATED:20200713T194440Z
LAST-MODIFIED:20200713T194440Z
UID:51909-1596043800-1596047400@www.wbasny.org
SUMMARY:Book Club - Becoming
DESCRIPTION:Western New York Chapter
URL:https://www.wbasny.org/event/book-club-becoming/
ORGANIZER;CN="Western New York Women's Bar Association":MAILTO:wbasnywny@gmail.com
END:VEVENT
BEGIN:VEVENT
DTSTART;TZID=America/New_York:20200729T131500
DTEND;TZID=America/New_York:20200729T141500
DTSTAMP:20260423T075026
CREATED:20200622T144718Z
LAST-MODIFIED:20200622T144718Z
UID:51810-1596028500-1596032100@www.wbasny.org
SUMMARY:CLE - Implicit Bias. What is it? Do I have it? Can I get rid of it?
DESCRIPTION:Brooklyn Chapter
URL:https://www.wbasny.org/event/cle-implicit-bias-what-is-it-do-i-have-it-can-i-get-rid-of-it/
END:VEVENT
BEGIN:VEVENT
DTSTART;TZID=America/New_York:20200722T173000
DTEND;TZID=America/New_York:20200722T190000
DTSTAMP:20260423T075026
CREATED:20200713T192850Z
LAST-MODIFIED:20200713T192850Z
UID:51893-1595439000-1595444400@www.wbasny.org
SUMMARY:Officer Installation
DESCRIPTION:Western New York
URL:https://www.wbasny.org/event/officer-installation/
ORGANIZER;CN="Western New York Women's Bar Association":MAILTO:wbasnywny@gmail.com
END:VEVENT
BEGIN:VEVENT
DTSTART;TZID=America/New_York:20200722T100000
DTEND;TZID=America/New_York:20200722T110000
DTSTAMP:20260423T075026
CREATED:20200713T194059Z
LAST-MODIFIED:20200713T194228Z
UID:51905-1595412000-1595415600@www.wbasny.org
SUMMARY:Changes to the New York State Human Rights Law Provisions on Discrimination Claims
DESCRIPTION:Western New York Chapter \nEmployment Law Virtual Series \nCo-hosted by the WBASNY WNY Employment Law Committee and the BAEC Labor Law Committee\nwith the help of the WBASNY WNY Working Parents Committee \nJuly 22\, 2020\, 10 a.m. (1 CLE PP Credit)\nLisa Poch\, Chiacchia & Fleming\, LLP\nErin K. Ewell\, The Coppola Firm \nPrice per presentation: $25 BAEC/WBASNY Member; $30 Non-Member\nDiscounted price for registration for entire series\nRegister here: https://eriebar.org/continuinglegaleducation/liveseminarcalendar/
URL:https://www.wbasny.org/event/changes-to-the-new-york-state-human-rights-law-provisions-on-discrimination-claims/
ORGANIZER;CN="Western New York Women's Bar Association":MAILTO:wbasnywny@gmail.com
END:VEVENT
BEGIN:VEVENT
DTSTART;TZID=America/New_York:20200718T090000
DTEND;TZID=America/New_York:20200719T133000
DTSTAMP:20260423T075026
CREATED:20191001T151725Z
LAST-MODIFIED:20200713T192639Z
UID:48355-1595062800-1595165400@www.wbasny.org
SUMMARY:Leadership Training
DESCRIPTION:WBASNY \n 
URL:https://www.wbasny.org/event/leadership-training/
ORGANIZER;CN="WBASNY":MAILTO:events@wbasny.org
END:VEVENT
BEGIN:VEVENT
DTSTART;TZID=America/New_York:20200717T190000
DTEND;TZID=America/New_York:20200717T200000
DTSTAMP:20260423T075026
CREATED:20200622T150923Z
LAST-MODIFIED:20200622T150923Z
UID:51827-1595012400-1595016000@www.wbasny.org
SUMMARY:Designing a Bar Exam Study Schedule
DESCRIPTION:Brooklyn Chapter
URL:https://www.wbasny.org/event/designing-a-bar-exam-study-schedule/
END:VEVENT
BEGIN:VEVENT
DTSTART;TZID=America/New_York:20200715T170000
DTEND;TZID=America/New_York:20200715T190000
DTSTAMP:20260423T075026
CREATED:20200713T194754Z
LAST-MODIFIED:20200713T194858Z
UID:51912-1594832400-1594839600@www.wbasny.org
SUMMARY:Membership Meeting
DESCRIPTION:Del-Chen-O \n 
URL:https://www.wbasny.org/event/membership-meeting/
END:VEVENT
BEGIN:VEVENT
DTSTART;TZID=America/New_York:20200715T100000
DTEND;TZID=America/New_York:20200715T110000
DTSTAMP:20260423T075026
CREATED:20200713T193909Z
LAST-MODIFIED:20200713T194159Z
UID:51903-1594807200-1594810800@www.wbasny.org
SUMMARY:EEOC Updates and COVID-19 Information
DESCRIPTION:Western New York Chapter \nEmployment Law Virtual Series \nCo-hosted by the WBASNY WNY Employment Law Committee and the BAEC Labor Law Committee\nwith the help of the WBASNY WNY Working Parents Committee \nJuly 15\, 2020\, 10:00 – 11:00 am (1 CLE PP Credit)\nElizabeth Fox-Solomon\, EEOC Office of Commissioner Charlotte A. Burrows\nErin Torcello\, Bond Schoeneck & King\, PLLC \nPrice per presentation: $25 BAEC/WBASNY Member; $30 Non-Member\nDiscounted price for registration for entire series\nRegister here: https://eriebar.org/continuinglegaleducation/liveseminarcalendar/
URL:https://www.wbasny.org/event/eeoc-updates-and-covid-19-information/
ORGANIZER;CN="Western New York Women's Bar Association":MAILTO:wbasnywny@gmail.com
END:VEVENT
BEGIN:VEVENT
DTSTART;TZID=America/New_York:20200714T190000
DTEND;TZID=America/New_York:20200714T200000
DTSTAMP:20260423T075026
CREATED:20200713T193550Z
LAST-MODIFIED:20200713T193727Z
UID:51901-1594753200-1594756800@www.wbasny.org
SUMMARY:All Things COVID
DESCRIPTION:Orange-Sullivan Chapter \n 
URL:https://www.wbasny.org/event/all-things-covid-2/
END:VEVENT
BEGIN:VEVENT
DTSTART;TZID=America/New_York:20200714T130000
DTEND;TZID=America/New_York:20200714T143000
DTSTAMP:20260423T075026
CREATED:20200713T195244Z
LAST-MODIFIED:20200713T195244Z
UID:51917-1594731600-1594737000@www.wbasny.org
SUMMARY:CLE - How Legal and Financial Professionals will be Dealing with Business Valuation Issues as a Result of COVID-19
DESCRIPTION:Nassau Chapter\n \nThe virtual shutdown of the U.S. economy will impact how businesses are valued in 2020 and beyond. This seminar is designed to provide attorneys with key valuation considerations including valuation dates\, valuation methodologies and a review of relevant case law. This program will be presented by David Gralnick\, and Jeffrey F. Gibralter of Klein Liebman & Gresen\, LLC; Douglas P. Sousnowski\, William P. Allen and Paul M. Herlan of Brisbane Consulting Group\, LLC; and Deborah G. Rosenthal\, Esq. \nPlease register in advance for this webinar at the link: \nhttps://us02web.zoom.us/webinar/register/WN_AJ7dRPXZToGfC-WbSB8mQg. After registering\, you will receive a confirmation email containing information about joining the webinar.
URL:https://www.wbasny.org/event/cle-how-legal-and-financial-professionals-will-be-dealing-with-business-valuation-issues-as-a-result-of-covid-19/
END:VEVENT
BEGIN:VEVENT
DTSTART;TZID=America/New_York:20200709T120000
DTEND;TZID=America/New_York:20200709T133000
DTSTAMP:20260423T075026
CREATED:20200625T152605Z
LAST-MODIFIED:20200625T152605Z
UID:51861-1594296000-1594301400@www.wbasny.org
SUMMARY:CLE - Employee Leave in the COVID-19 Era Webinar
DESCRIPTION:Employee Leave in the COVID-19 Era Webinar \nJuly 9\, 2020\n12:00 – 1:30 pm \nWhat do employers and employees need to know about employee leave during the Covid-19 Era? This program will discuss the intersection of pre-existing and newly enacted Federal and New York State laws governing both paid and unpaid job protected leave. \nSpeakers: \nKim Berg\, Esq.\, Gould & Berg\, LLP\nLaura Wong-Pan\, Esq.\, Law Office of Laura Wong-Pan\, PLLC \n1.5 CLE Credits \n(Professional Practice)\n(Transitional) \nCost: Free to Members\nR.S.V.P. by July 8\, 2020 \nWBASNY is certified by the New York State Continuing Legal Education Board as an Accredited Provider of continuing legal education in the State of New York. Program approval is pending for a maximum of 1.5 non-transitional credit hours which can be applied toward the Professional Practice requirement.​
URL:https://www.wbasny.org/event/cle-employee-leave-in-the-covid-19-era-webinar/
ORGANIZER;CN="WBASNY":MAILTO:events@wbasny.org
END:VEVENT
BEGIN:VEVENT
DTSTART;TZID=America/New_York:20200708T170000
DTEND;TZID=America/New_York:20200708T180000
DTSTAMP:20260423T075026
CREATED:20200626T190254Z
LAST-MODIFIED:20200626T191035Z
UID:51865-1594227600-1594231200@www.wbasny.org
SUMMARY:Officer Virtual Installation Ceremony
DESCRIPTION:Adirondack Chapter \nAdirondack Women’s Bar Association\nInvites you to the\n2020-2021 Officers and Directors Virtual Installation \nJuly 8\, 2020 at 5:00 PM \nOfficers: \nPresident: Brittnay McMahon\nVice President/President Elect: Katrin (Kate) Falco\nTreasurer: Maggie Stephenson\nSecretary: Kathleen Nielson \nBoard Members: \nDamara Fredette: WBASNY Delegate\nGiovanna D’Orazio: Immediate Past President\nHon. Francine Vero: CLE Chair\nKathleen Nielson: CLE Chair\nKara Lais: Nominations Chair\nMarne Onderdonk: Awards Chair\nGiovanna D’Orazio: Membership Chair\nDamara Fredette: Legislative Chair\nAnn McGrath: Judicial Screening Chair\nDouglas Gerhardt: Director at Large\nMarne Onderdonk: Director at Large \nClick Here to Register
URL:https://www.wbasny.org/event/officer-virtual-installation-ceremony/
ORGANIZER;CN="WBASNY":MAILTO:events@wbasny.org
END:VEVENT
BEGIN:VEVENT
DTSTART;TZID=America/New_York:20200708T130000
DTEND;TZID=America/New_York:20200708T140000
DTSTAMP:20260423T075026
CREATED:20200616T183506Z
LAST-MODIFIED:20200616T183506Z
UID:51784-1594213200-1594216800@www.wbasny.org
SUMMARY:Lunch with a Judge Series
DESCRIPTION:Brooklyn Chapter
URL:https://www.wbasny.org/event/lunch-with-a-judge-series/
END:VEVENT
BEGIN:VEVENT
DTSTART;TZID=America/New_York:20200702T120000
DTEND;TZID=America/New_York:20200702T133000
DTSTAMP:20260423T075026
CREATED:20200625T151859Z
LAST-MODIFIED:20200625T152645Z
UID:51856-1593691200-1593696600@www.wbasny.org
SUMMARY:CLE - Workplace Policies and Procedures Webinar
DESCRIPTION:Workplace Policies and Procedures – Worth the Paper They Are Written On –\nUpdates in Light of COVID-19 Webinar \nJuly 2\, 2020\n12:00 – 1:30 pm \nAt a time where there is so much uncertainty\, one thing that is certain is that our lives will forever be altered by COVID-19.  This is especially true in the workplace. Many employers were understandably unprepared for the challenges they faced when the stay-at-home orders were issued.  Now that businesses are slowly re-opening and employers are considering bringing employees back to the workplace\, changes should be made to company handbooks\, policies and procedures to ensure a safe workplace for everyone and to prepare in the event of future shutdowns.  This webinar will address anticipated changes to workplaces and how employers can inform employees of such changes by updating their policies and procedures prior to bringing their employees back to work. \nSpeaker: \nCynthia A. Augello\nThe Law Offices of Cynthia A. Augello\, PC \n1.5 CLE Credits  \n(1.0 Professional Practice /\n0.5 Law Practice Management)\n(Transitional) \nCost: Free to Members\nR.S.V.P. by July 1\, 2020 \nWBASNY is certified by the New York State Continuing Legal Education Board as an Accredited Provider of continuing legal education in the State of New York. Program approval is pending for a maximum of 1.5 non-transitional credit hours.
URL:https://www.wbasny.org/event/cle-workplace-policies-and-procedures-worth-the-paper-they-are-written-on-updates-in-light-of-covid-19/
ORGANIZER;CN="WBASNY":MAILTO:events@wbasny.org
END:VEVENT
BEGIN:VEVENT
DTSTART;TZID=America/New_York:20200630T180000
DTEND;TZID=America/New_York:20200630T190000
DTSTAMP:20260423T075026
CREATED:20200616T183239Z
LAST-MODIFIED:20200616T183748Z
UID:51780-1593540000-1593543600@www.wbasny.org
SUMMARY:Mentorship Interest Meeting
DESCRIPTION:Brooklyn Chapter
URL:https://www.wbasny.org/event/mentorship-interest-meeting/
END:VEVENT
BEGIN:VEVENT
DTSTART;TZID=America/New_York:20200626T180000
DTEND;TZID=America/New_York:20200626T200000
DTSTAMP:20260423T075026
CREATED:20200622T145736Z
LAST-MODIFIED:20200622T145736Z
UID:51821-1593194400-1593201600@www.wbasny.org
SUMMARY:Zumba
DESCRIPTION:Orange-Sullivan ChapterRSVP to rsvp@wbaosc.org for the zoom.
URL:https://www.wbasny.org/event/zumba/
END:VEVENT
BEGIN:VEVENT
DTSTART;TZID=America/New_York:20200625T193000
DTEND;TZID=America/New_York:20200625T210000
DTSTAMP:20260423T075026
CREATED:20200616T183953Z
LAST-MODIFIED:20200616T183953Z
UID:51788-1593113400-1593118800@www.wbasny.org
SUMMARY:Virtual Zumba Class
DESCRIPTION:Brooklyn Chapter
URL:https://www.wbasny.org/event/virtual-zumba-class/
END:VEVENT
BEGIN:VEVENT
DTSTART;TZID=America/New_York:20200625T180000
DTEND;TZID=America/New_York:20200625T190000
DTSTAMP:20260423T075026
CREATED:20200617T191405Z
LAST-MODIFIED:20200617T191422Z
UID:51794-1593108000-1593111600@www.wbasny.org
SUMMARY:Virtual Officer Installation
DESCRIPTION:Suffolk Chapter
URL:https://www.wbasny.org/event/virtual-officer-installation/
END:VEVENT
END:VCALENDAR