BEGIN:VCALENDAR
VERSION:2.0
PRODID:-//wbasny - ECPv6.15.20//NONSGML v1.0//EN
CALSCALE:GREGORIAN
METHOD:PUBLISH
X-WR-CALNAME:wbasny
X-ORIGINAL-URL:https://www.wbasny.org
X-WR-CALDESC:Events for wbasny
REFRESH-INTERVAL;VALUE=DURATION:PT1H
X-Robots-Tag:noindex
X-PUBLISHED-TTL:PT1H
BEGIN:VTIMEZONE
TZID:America/New_York
BEGIN:DAYLIGHT
TZOFFSETFROM:-0500
TZOFFSETTO:-0400
TZNAME:EDT
DTSTART:20200308T070000
END:DAYLIGHT
BEGIN:STANDARD
TZOFFSETFROM:-0400
TZOFFSETTO:-0500
TZNAME:EST
DTSTART:20201101T060000
END:STANDARD
BEGIN:DAYLIGHT
TZOFFSETFROM:-0500
TZOFFSETTO:-0400
TZNAME:EDT
DTSTART:20210314T070000
END:DAYLIGHT
BEGIN:STANDARD
TZOFFSETFROM:-0400
TZOFFSETTO:-0500
TZNAME:EST
DTSTART:20211107T060000
END:STANDARD
BEGIN:DAYLIGHT
TZOFFSETFROM:-0500
TZOFFSETTO:-0400
TZNAME:EDT
DTSTART:20220313T070000
END:DAYLIGHT
BEGIN:STANDARD
TZOFFSETFROM:-0400
TZOFFSETTO:-0500
TZNAME:EST
DTSTART:20221106T060000
END:STANDARD
END:VTIMEZONE
BEGIN:VEVENT
DTSTART;TZID=America/New_York:20210608T130000
DTEND;TZID=America/New_York:20210608T150000
DTSTAMP:20260422T175057
CREATED:20210520T163921Z
LAST-MODIFIED:20210520T163921Z
UID:55525-1623157200-1623164400@www.wbasny.org
SUMMARY:BWBA Virtual Installation Ceremony
DESCRIPTION:Brooklyn Chapter
URL:https://www.wbasny.org/event/bwba-virtual-installation-ceremony/
END:VEVENT
BEGIN:VEVENT
DTSTART;TZID=America/New_York:20210607T080000
DTEND;TZID=America/New_York:20210607T170000
DTSTAMP:20260422T175057
CREATED:20210607T154601Z
LAST-MODIFIED:20210607T154601Z
UID:55708-1623052800-1623085200@www.wbasny.org
SUMMARY:CNYWBA Installation Ceremony
DESCRIPTION:Central New York Chapter \nPlease join us for the \n2021 Installation Ceremony welcoming the new Board of Directors for the Central New York Women’s Bar Association \n  \nThe Installation will be held on \nThursday\, June 24  \n5:30 p.m.  \nThornden Park \n  \nRefreshments will be served following the ceremony. \nPlease RSVP to cnywba@gmail.com so that we can plan accordingly. \nThere is no charge to attend.
URL:https://www.wbasny.org/event/cnywba-installation-ceremony/
END:VEVENT
BEGIN:VEVENT
DTSTART;TZID=America/New_York:20210601T183000
DTEND;TZID=America/New_York:20210601T203000
DTSTAMP:20260422T175057
CREATED:20210507T203952Z
LAST-MODIFIED:20210507T204016Z
UID:55376-1622572200-1622579400@www.wbasny.org
SUMMARY:Virtual Swearing In Ceremony
DESCRIPTION:Bronx Chapter
URL:https://www.wbasny.org/event/55376/
END:VEVENT
BEGIN:VEVENT
DTSTART;TZID=America/New_York:20210601T173000
DTEND;TZID=America/New_York:20210601T193000
DTSTAMP:20260422T175057
CREATED:20210518T215139Z
LAST-MODIFIED:20210518T215139Z
UID:55521-1622568600-1622575800@www.wbasny.org
SUMMARY:Racial Disparities in Housing: How Municipalities\, Homeowners\, Brokers and Banks Can Help
DESCRIPTION:Greater Rochester Chapter
URL:https://www.wbasny.org/event/racial-disparities-in-housing-how-municipalities-homeowners-brokers-and-banks-can-help/
END:VEVENT
BEGIN:VEVENT
DTSTART;TZID=America/New_York:20210527T120000
DTEND;TZID=America/New_York:20210527T140000
DTSTAMP:20260422T175057
CREATED:20210409T144313Z
LAST-MODIFIED:20210409T144335Z
UID:54789-1622116800-1622124000@www.wbasny.org
SUMMARY:Everything You Need to Know About Becoming a Judge\, Part 1
DESCRIPTION:Nassau County Chapter \nMay 27\, 2021 from 12:00-2:00 PM – Part 1 – NCWBA is a co-sponsor of “Everything You Need to Know About Becoming a Judge” with the Franklin H. Williams Commission\, the Nassau County Bar Association\, Amistad Long Island Island Black Bar Association\, Long Island Hispanic Bar Association\, and several other legal organizations. This is a virtual program with FREE CLE to be provided by the Nassau Academy of Law. Please see the attached flyer for more information. To register\, email academy@nassaubar.org. The Zoom link\, CLE forms and materials will be emailed to pre-registered attendees 24 hours before the program starts. \n 
URL:https://www.wbasny.org/event/everything-you-need-to-know-about-becoming-a-judge-part-1/
END:VEVENT
BEGIN:VEVENT
DTSTART;TZID=America/New_York:20210526T183000
DTEND;TZID=America/New_York:20210526T203000
DTSTAMP:20260422T175057
CREATED:20210524T164203Z
LAST-MODIFIED:20210524T164203Z
UID:55602-1622053800-1622061000@www.wbasny.org
SUMMARY:Asian Heritage Month Celebration
DESCRIPTION:Queens Chapter
URL:https://www.wbasny.org/event/asian-heritage-month-celebration/
END:VEVENT
BEGIN:VEVENT
DTSTART;TZID=America/New_York:20210525T190000
DTEND;TZID=America/New_York:20210525T200000
DTSTAMP:20260422T175057
CREATED:20210505T142010Z
LAST-MODIFIED:20210505T142024Z
UID:55302-1621969200-1621972800@www.wbasny.org
SUMMARY:JALBCA Virtual Gala
DESCRIPTION:JALBCA
URL:https://www.wbasny.org/event/jalbca-virtual-gala/
END:VEVENT
BEGIN:VEVENT
DTSTART;TZID=America/New_York:20210521T170000
DTEND;TZID=America/New_York:20210521T210000
DTSTAMP:20260422T175057
CREATED:20210517T194741Z
LAST-MODIFIED:20210518T151701Z
UID:55493-1621616400-1621630800@www.wbasny.org
SUMMARY:WBASNY Outgoing President's Reception
DESCRIPTION:WBASNY
URL:https://www.wbasny.org/event/wbasny-outgoing-presidents-reception/
ORGANIZER;CN="WBASNY":MAILTO:events@wbasny.org
END:VEVENT
BEGIN:VEVENT
DTSTART;TZID=America/New_York:20210520T180000
DTEND;TZID=America/New_York:20210520T200000
DTSTAMP:20260422T175057
CREATED:20210428T143010Z
LAST-MODIFIED:20210504T143519Z
UID:55219-1621533600-1621540800@www.wbasny.org
SUMMARY:Film screening of "Belly of the Beast"
DESCRIPTION:Queens Chapter
URL:https://www.wbasny.org/event/film-screening-of-belly-of-the-beast/
END:VEVENT
BEGIN:VEVENT
DTSTART;TZID=America/New_York:20210520T150000
DTEND;TZID=America/New_York:20210520T163000
DTSTAMP:20260422T175057
CREATED:20210428T142851Z
LAST-MODIFIED:20210510T143637Z
UID:55217-1621522800-1621528200@www.wbasny.org
SUMMARY:Navigating the Future of Racial Justice in Appellate Law
DESCRIPTION:Queens Chapter
URL:https://www.wbasny.org/event/navigating-the-future-of-racial-justice-in-appellate-law/
END:VEVENT
BEGIN:VEVENT
DTSTART;TZID=America/New_York:20210520T120000
DTEND;TZID=America/New_York:20210520T130000
DTSTAMP:20260422T175057
CREATED:20210504T144019Z
LAST-MODIFIED:20210504T144019Z
UID:55287-1621512000-1621515600@www.wbasny.org
SUMMARY:Curious About Being an Arbitrator? An Introduction to the Role
DESCRIPTION:Western New York Chapter
URL:https://www.wbasny.org/event/curious-about-being-an-arbitrator-an-introduction-to-the-role/
ORGANIZER;CN="Western New York Women's Bar Association":MAILTO:wbasnywny@gmail.com
END:VEVENT
BEGIN:VEVENT
DTSTART;TZID=America/New_York:20210520T080000
DTEND;TZID=America/New_York:20210523T170000
DTSTAMP:20260422T175057
CREATED:20200817T205348Z
LAST-MODIFIED:20200817T205348Z
UID:52182-1621497600-1621789200@www.wbasny.org
SUMMARY:Convention 2021
DESCRIPTION:WBASNY \n 
URL:https://www.wbasny.org/event/convention-2021/
ORGANIZER;CN="WBASNY":MAILTO:events@wbasny.org
END:VEVENT
BEGIN:VEVENT
DTSTART;TZID=America/New_York:20210519T180000
DTEND;TZID=America/New_York:20210519T200000
DTSTAMP:20260422T175057
CREATED:20210507T203205Z
LAST-MODIFIED:20210507T203205Z
UID:55373-1621447200-1621454400@www.wbasny.org
SUMMARY:Bronx Women Lead
DESCRIPTION:Bronx Chapter
URL:https://www.wbasny.org/event/bronx-women-lead/
END:VEVENT
BEGIN:VEVENT
DTSTART;TZID=America/New_York:20210519T170000
DTEND;TZID=America/New_York:20210519T190000
DTSTAMP:20260422T175057
CREATED:20210420T145825Z
LAST-MODIFIED:20210420T145838Z
UID:55008-1621443600-1621450800@www.wbasny.org
SUMMARY:GRAWA Sweet Success Happy Hour
DESCRIPTION:Greater Rochester Chapter
URL:https://www.wbasny.org/event/grawa-sweet-success-happy-hour/
END:VEVENT
BEGIN:VEVENT
DTSTART;TZID=America/New_York:20210519T120000
DTEND;TZID=America/New_York:20210519T130000
DTSTAMP:20260422T175057
CREATED:20210510T212655Z
LAST-MODIFIED:20210510T212752Z
UID:55414-1621425600-1621429200@www.wbasny.org
SUMMARY:Virtual CLE - Employment Law Basics
DESCRIPTION:Orange-Sullivan Chapter  \nVirtual CLE – Employment Law Basics \nA basic primer on employment law in New York with Federal law applicability. This program will enable you to assist your clients with an understanding of the basic concepts of the at-will employee doctrine and its exceptions; employee versus independent contractor status; restrictive covenant agreements in employment; and Wage & Hour Laws. \n  \nSpeaker: \nElizabeth Hunter\, Esq. \nWednesday\, May 19th – 12:00-1:00pm  \n Seminar Fees: Free to WBAOSC Members; $10 Non-Members \nCredits: Attorneys: 1.0 CLE credit in Professional Practice*  \n  \nALL ATTENDEES SHOULD RSVP by May 18\, 2021 to obtain Link \nRSVP@wbaosc.org Subject: “Employment Law” \n 
URL:https://www.wbasny.org/event/virtual-cle-employment-law-basics/
END:VEVENT
BEGIN:VEVENT
DTSTART;TZID=America/New_York:20210517T173000
DTEND;TZID=America/New_York:20210517T193000
DTSTAMP:20260422T175057
CREATED:20210427T145128Z
LAST-MODIFIED:20210427T145128Z
UID:55208-1621272600-1621279800@www.wbasny.org
SUMMARY:Spring is Here!
DESCRIPTION:Orange – Sullivan  \nSpring is here! \nJoin us on May 17th at 5:30pm in the park with local artisan\, DeAnna Sardella-Matthews who will lead us in bending grapevine to create our very own wreaths. Each participant will have an opportunity to decorate their wreaths with a variety of silk flowers and ribbons to reflect their own personal style. All materials provided. Everyone leaves with a finished wreath to welcome the season! \nWe will meet by the picnic tables in the Sally’s Dream Park section of Thomas Bull Memorial Park. Cost is $40/person. Light refreshments will be served\, and guests are also welcome to bring food and drink. Please RSVP on or before May 10th to rsvp@wbaosc.org
URL:https://www.wbasny.org/event/spring-is-here/
END:VEVENT
BEGIN:VEVENT
DTSTART;TZID=America/New_York:20210517T173000
DTEND;TZID=America/New_York:20210517T193000
DTSTAMP:20260422T175057
CREATED:20210402T145429Z
LAST-MODIFIED:20210402T145429Z
UID:54738-1621272600-1621279800@www.wbasny.org
SUMMARY:BWBA 2021 Virtual Annual Dinner
DESCRIPTION:Brooklyn Chapter
URL:https://www.wbasny.org/event/bwba-2021-virtual-annual-dinner/
END:VEVENT
BEGIN:VEVENT
DTSTART;TZID=America/New_York:20210513T180000
DTEND;TZID=America/New_York:20210513T200000
DTSTAMP:20260422T175057
CREATED:20210331T144308Z
LAST-MODIFIED:20210331T144328Z
UID:54692-1620928800-1620936000@www.wbasny.org
SUMMARY:Private Zoom Art Museum Tours: The Frick Collection
DESCRIPTION:New York Chapter
URL:https://www.wbasny.org/event/private-zoom-art-museum-tours-the-frick-collection/
END:VEVENT
BEGIN:VEVENT
DTSTART;TZID=America/New_York:20210513T180000
DTEND;TZID=America/New_York:20210513T200000
DTSTAMP:20260422T175057
CREATED:20210317T153019Z
LAST-MODIFIED:20210416T145045Z
UID:54546-1620928800-1620936000@www.wbasny.org
SUMMARY:Sweet Success Reception
DESCRIPTION:Western New York Chapter
URL:https://www.wbasny.org/event/sweet-success-reception-3/
ORGANIZER;CN="Western New York Women's Bar Association":MAILTO:wbasnywny@gmail.com
END:VEVENT
BEGIN:VEVENT
DTSTART;TZID=America/New_York:20210512T130000
DTEND;TZID=America/New_York:20210512T140000
DTSTAMP:20260422T175057
CREATED:20210510T150842Z
LAST-MODIFIED:20210510T150842Z
UID:55388-1620824400-1620828000@www.wbasny.org
SUMMARY:Lunch with Hon. Cenceria P. Edwards
DESCRIPTION:Brooklyn Chapter
URL:https://www.wbasny.org/event/lunch-with-hon-cenceria-p-edwards/
END:VEVENT
BEGIN:VEVENT
DTSTART;TZID=America/New_York:20210511T190000
DTEND;TZID=America/New_York:20210511T210000
DTSTAMP:20260422T175057
CREATED:20210510T165723Z
LAST-MODIFIED:20210510T165723Z
UID:55405-1620759600-1620766800@www.wbasny.org
SUMMARY:Zoom with the Hon. Martin Shulman
DESCRIPTION:New York Chapter
URL:https://www.wbasny.org/event/zoom-with-the-hon-martin-shulman/
END:VEVENT
BEGIN:VEVENT
DTSTART;TZID=America/New_York:20210510T173000
DTEND;TZID=America/New_York:20210510T200000
DTSTAMP:20260422T175057
CREATED:20200817T203048Z
LAST-MODIFIED:20200817T203112Z
UID:52165-1620667800-1620676800@www.wbasny.org
SUMMARY:Officers Meeting
DESCRIPTION:WBASNY \n 
URL:https://www.wbasny.org/event/officers-meeting-2/
ORGANIZER;CN="WBASNY":MAILTO:events@wbasny.org
END:VEVENT
BEGIN:VEVENT
DTSTART;TZID=America/New_York:20210510T130000
DTEND;TZID=America/New_York:20210510T140000
DTSTAMP:20260422T175057
CREATED:20210507T202728Z
LAST-MODIFIED:20210507T202728Z
UID:55370-1620651600-1620655200@www.wbasny.org
SUMMARY:BXWBA End of the Year Zoom Lunch
DESCRIPTION:Bronx Chapter
URL:https://www.wbasny.org/event/bxwba-end-of-the-year-zoom-lunch/
END:VEVENT
BEGIN:VEVENT
DTSTART;TZID=America/New_York:20210506T180000
DTEND;TZID=America/New_York:20210506T200000
DTSTAMP:20260422T175057
CREATED:20210420T145603Z
LAST-MODIFIED:20210420T145611Z
UID:55005-1620324000-1620331200@www.wbasny.org
SUMMARY:Asian American and Pacific Islander Heritage Month Celebration
DESCRIPTION:Brooklyn Chapter
URL:https://www.wbasny.org/event/asian-american-and-pacific-islander-heritage-month-celebration/
END:VEVENT
BEGIN:VEVENT
DTSTART;TZID=America/New_York:20210505T183000
DTEND;TZID=America/New_York:20210505T193000
DTSTAMP:20260422T175057
CREATED:20210413T150506Z
LAST-MODIFIED:20210413T151140Z
UID:54863-1620239400-1620243000@www.wbasny.org
SUMMARY:A Virtual Tropical Cocktails Mixology Class & Happy Hour
DESCRIPTION:New York Chapter
URL:https://www.wbasny.org/event/a-virtual-tropical-cocktails-mixology-class-happy-hour/
END:VEVENT
BEGIN:VEVENT
DTSTART;TZID=America/New_York:20210505T120000
DTEND;TZID=America/New_York:20210505T133000
DTSTAMP:20260422T175057
CREATED:20210420T144204Z
LAST-MODIFIED:20210420T144212Z
UID:54998-1620216000-1620221400@www.wbasny.org
SUMMARY:Mental Hygiene Law and Access to Medical Records in Criminal\, Civil and Family Law
DESCRIPTION:Western New York Chapter
URL:https://www.wbasny.org/event/mental-hygiene-law-and-access-to-medical-records-in-criminal-civil-and-family-law/
ORGANIZER;CN="Western New York Women's Bar Association":MAILTO:wbasnywny@gmail.com
END:VEVENT
BEGIN:VEVENT
DTSTART;TZID=America/New_York:20210504T180000
DTEND;TZID=America/New_York:20210504T200000
DTSTAMP:20260422T175057
CREATED:20210405T170624Z
LAST-MODIFIED:20210409T150057Z
UID:54748-1620151200-1620158400@www.wbasny.org
SUMMARY:CLE - Diversity\, Contemporary Practice & Your Mental Health
DESCRIPTION:Queens Chapter
URL:https://www.wbasny.org/event/cle-diversity-contemporary-practice-your-mental-health/
END:VEVENT
BEGIN:VEVENT
DTSTART;TZID=America/New_York:20210504T173000
DTEND;TZID=America/New_York:20210504T193000
DTSTAMP:20260422T175057
CREATED:20210426T145003Z
LAST-MODIFIED:20210426T145609Z
UID:55196-1620149400-1620156600@www.wbasny.org
SUMMARY:CLE - Kramer on Contracts
DESCRIPTION:Westchester Chapter  \n 
URL:https://www.wbasny.org/event/cle-kramer-on-contracts/
ORGANIZER;CN="Westchester Women's Bar Association":MAILTO:executivedirector@wwbany.org
END:VEVENT
BEGIN:VEVENT
DTSTART;TZID=America/New_York:20210429T170000
DTEND;TZID=America/New_York:20210429T190000
DTSTAMP:20260422T175057
CREATED:20210317T154208Z
LAST-MODIFIED:20210317T154215Z
UID:54554-1619715600-1619722800@www.wbasny.org
SUMMARY:Law Day 2021: Advancing the Rule of Law Now
DESCRIPTION:Nassau County Chapter
URL:https://www.wbasny.org/event/law-day-2021-advancing-the-rule-of-law-now/
END:VEVENT
BEGIN:VEVENT
DTSTART;TZID=America/New_York:20210428T180000
DTEND;TZID=America/New_York:20210428T200000
DTSTAMP:20260422T175057
CREATED:20210419T142850Z
LAST-MODIFIED:20210426T204723Z
UID:54941-1619632800-1619640000@www.wbasny.org
SUMMARY:Virtual Trials: From Judges' Perspectives
DESCRIPTION:WBASNY
URL:https://www.wbasny.org/event/virtual-trails-from-judges-perspectives/
ORGANIZER;CN="WBASNY":MAILTO:events@wbasny.org
END:VEVENT
END:VCALENDAR