BEGIN:VCALENDAR
VERSION:2.0
PRODID:-//wbasny - ECPv6.15.20//NONSGML v1.0//EN
CALSCALE:GREGORIAN
METHOD:PUBLISH
X-WR-CALNAME:wbasny
X-ORIGINAL-URL:https://www.wbasny.org
X-WR-CALDESC:Events for wbasny
REFRESH-INTERVAL;VALUE=DURATION:PT1H
X-Robots-Tag:noindex
X-PUBLISHED-TTL:PT1H
BEGIN:VTIMEZONE
TZID:America/New_York
BEGIN:DAYLIGHT
TZOFFSETFROM:-0500
TZOFFSETTO:-0400
TZNAME:EDT
DTSTART:20200308T070000
END:DAYLIGHT
BEGIN:STANDARD
TZOFFSETFROM:-0400
TZOFFSETTO:-0500
TZNAME:EST
DTSTART:20201101T060000
END:STANDARD
BEGIN:DAYLIGHT
TZOFFSETFROM:-0500
TZOFFSETTO:-0400
TZNAME:EDT
DTSTART:20210314T070000
END:DAYLIGHT
BEGIN:STANDARD
TZOFFSETFROM:-0400
TZOFFSETTO:-0500
TZNAME:EST
DTSTART:20211107T060000
END:STANDARD
BEGIN:DAYLIGHT
TZOFFSETFROM:-0500
TZOFFSETTO:-0400
TZNAME:EDT
DTSTART:20220313T070000
END:DAYLIGHT
BEGIN:STANDARD
TZOFFSETFROM:-0400
TZOFFSETTO:-0500
TZNAME:EST
DTSTART:20221106T060000
END:STANDARD
END:VTIMEZONE
BEGIN:VEVENT
DTSTART;TZID=America/New_York:20210729T173000
DTEND;TZID=America/New_York:20210729T193000
DTSTAMP:20260422T174927
CREATED:20210701T204709Z
LAST-MODIFIED:20210701T204709Z
UID:56266-1627579800-1627587000@www.wbasny.org
SUMMARY:Western NY Committee Mixer
DESCRIPTION:Western NY Chapter
URL:https://www.wbasny.org/event/western-ny-committee-mixer/
ORGANIZER;CN="Western New York Women's Bar Association":MAILTO:wbasnywny@gmail.com
END:VEVENT
BEGIN:VEVENT
DTSTART;TZID=America/New_York:20210804T180000
DTEND;TZID=America/New_York:20210804T200000
DTSTAMP:20260422T174927
CREATED:20210617T150333Z
LAST-MODIFIED:20210726T164316Z
UID:55857-1628100000-1628107200@www.wbasny.org
SUMMARY:Paint & Sip
DESCRIPTION:Brooklyn Chapter
URL:https://www.wbasny.org/event/paint-sip/
END:VEVENT
BEGIN:VEVENT
DTSTART;TZID=America/New_York:20210806T123000
DTEND;TZID=America/New_York:20210806T133000
DTSTAMP:20260422T174927
CREATED:20210728T155242Z
LAST-MODIFIED:20210728T155242Z
UID:56615-1628253000-1628256600@www.wbasny.org
SUMMARY:WWBA and WCBA Employment Law Peer Group Meeting
DESCRIPTION:Westchester Chapter \nWWBA and WCBA Employment Law Peer Group Meeting\nPlease join us for a collaborative discussion focused on\nNavigating Employment Law Matters in the COVID-19 Era and beyond\nAugust 6\, 2021\n12:30 – 1:30 p.m.\n\n\n\n\n\nTopics will include:  \n\n\n• Round table open forum: comments\, questions and observations of any employment related questions and/or areas of concern \n• The practice of law post-pandemic \n• Other “hot topics” and suggestions from participants\n\n\n\nTo receive the zoom link please RSVP to kberg@gouldberglaw.com 
URL:https://www.wbasny.org/event/wwba-and-wcba-employment-law-peer-group-meeting/
ORGANIZER;CN="Westchester Women's Bar Association":MAILTO:executivedirector@wwbany.org
END:VEVENT
BEGIN:VEVENT
DTSTART;TZID=America/New_York:20210810T170000
DTEND;TZID=America/New_York:20210810T190000
DTSTAMP:20260422T174927
CREATED:20210809T163446Z
LAST-MODIFIED:20210809T163446Z
UID:56777-1628614800-1628622000@www.wbasny.org
SUMMARY:Western NY Chapter Support Group
DESCRIPTION:Western NY Chapter \nWestern NY
URL:https://www.wbasny.org/event/western-ny-chapter-support-group/
ORGANIZER;CN="Western New York Women's Bar Association":MAILTO:wbasnywny@gmail.com
END:VEVENT
BEGIN:VEVENT
DTSTART;TZID=America/New_York:20210810T180000
DTEND;TZID=America/New_York:20210810T190000
DTSTAMP:20260422T174927
CREATED:20210805T160554Z
LAST-MODIFIED:20210805T160554Z
UID:56745-1628618400-1628622000@www.wbasny.org
SUMMARY:COVID Back to the Office Series
DESCRIPTION:New York Chapter \n\n\n\nCOVID Back to the Office Series\n\n\n\nThe Reproductive Rights and Women’s Health Committee presents:\nThe COVID Back to the Office Series –\nA Focus on Mental Health\nSpeakers: \nMolly Swersky\, LCSW\, MPH \nIsabel Ezrati\, CPT\, RYT \n  \nAugust 10\, 2021\, 6:00 p.m.\, via Zoom \nRSVP: ReproductiveRights@nywba.org
URL:https://www.wbasny.org/event/covid-back-to-the-office-series/
END:VEVENT
BEGIN:VEVENT
DTSTART;TZID=America/New_York:20210811T130000
DTEND;TZID=America/New_York:20210811T140000
DTSTAMP:20260422T174927
CREATED:20210719T165625Z
LAST-MODIFIED:20210719T165625Z
UID:56545-1628686800-1628690400@www.wbasny.org
SUMMARY:Lunch with a Judge
DESCRIPTION:Brooklyn Chapter\n \n\nAugust 11 @ 1:00 pm\n\n\n\n\n\n\nRSVP for Lunch with a Judge\, Aug. 11
URL:https://www.wbasny.org/event/lunch-with-a-judge-2/
END:VEVENT
BEGIN:VEVENT
DTSTART;TZID=America/New_York:20210812T080000
DTEND;TZID=America/New_York:20210812T170000
DTSTAMP:20260422T174927
CREATED:20210615T193919Z
LAST-MODIFIED:20210615T193919Z
UID:55800-1628755200-1628787600@www.wbasny.org
SUMMARY:Officers Zoom Meeting
DESCRIPTION:WBASNY
URL:https://www.wbasny.org/event/officers-zoom-meeting/
ORGANIZER;CN="WBASNY":MAILTO:events@wbasny.org
END:VEVENT
BEGIN:VEVENT
DTSTART;TZID=America/New_York:20210812T100000
DTEND;TZID=America/New_York:20210812T120000
DTSTAMP:20260422T174927
CREATED:20210809T162959Z
LAST-MODIFIED:20210809T162959Z
UID:56774-1628762400-1628769600@www.wbasny.org
SUMMARY:CLE Western NY
DESCRIPTION:Western NY \nCLE WNY
URL:https://www.wbasny.org/event/cle-western-ny/
END:VEVENT
BEGIN:VEVENT
DTSTART;TZID=America/New_York:20210819T173000
DTEND;TZID=America/New_York:20210819T193000
DTSTAMP:20260422T174927
CREATED:20210728T164852Z
LAST-MODIFIED:20210728T164852Z
UID:56619-1629394200-1629401400@www.wbasny.org
SUMMARY:The Central New York 39th ANNUAL JUDICIAL RECEPTION
DESCRIPTION:Central NY Chapter \nThe Central New York Women’s Bar Association \nA Chapter of the Women’s Bar Association of the State of New York \nWEBSITE NOW LIVE FOR THE: \n39th ANNUAL JUDICIAL RECEPTION \nThursday\, August 19\, 2021 from 5:30 – 7:30 pm \nRail Line · 530 S. Clinton St. \nFree parking available \n  \nTICKETS: \nCNYWBA Members: $50 by August 1 ($65 thereafter) \nNon-Members: $65 \nCNYWBA Sustaining Members (if member prior to 8/1): FREE \nIncludes hors d’oeuvres\, wine\, beer\, and soda \nRSVP: \nOn the CNYWBA Website: Here
URL:https://www.wbasny.org/event/the-central-new-york-39th-annual-judicial-reception/
END:VEVENT
BEGIN:VEVENT
DTSTART;TZID=America/New_York:20210819T173000
DTEND;TZID=America/New_York:20210819T200000
DTSTAMP:20260422T174927
CREATED:20210802T162923Z
LAST-MODIFIED:20210802T163757Z
UID:56698-1629394200-1629403200@www.wbasny.org
SUMMARY:WNY Come Aboard Meet the New Board
DESCRIPTION:Western New York ChapterWNY Meet the Board
URL:https://www.wbasny.org/event/wny-come-aboard-to-meet-the-new-board/
ORGANIZER;CN="Western New York Women's Bar Association":MAILTO:wbasnywny@gmail.com
END:VEVENT
BEGIN:VEVENT
DTSTART;TZID=America/New_York:20210825T120000
DTEND;TZID=America/New_York:20210825T133000
DTSTAMP:20260422T174927
CREATED:20210728T170221Z
LAST-MODIFIED:20210728T170254Z
UID:56622-1629892800-1629898200@www.wbasny.org
SUMMARY:CLE - Employment Law in the COVID Era
DESCRIPTION:Mid-Hudson Chapter \n 
URL:https://www.wbasny.org/event/cle-employment-law-in-the-covid-era/
ORGANIZER;CN="Westchester Women's Bar Association":MAILTO:executivedirector@wwbany.org
END:VEVENT
BEGIN:VEVENT
DTSTART;TZID=America/New_York:20210826T170000
DTEND;TZID=America/New_York:20210826T190000
DTSTAMP:20260422T174927
CREATED:20210816T171712Z
LAST-MODIFIED:20210816T171712Z
UID:56841-1629997200-1630004400@www.wbasny.org
SUMMARY:Western New York Membership Mixer
DESCRIPTION:Western New York Chapter \nWNY Membership Mixer
URL:https://www.wbasny.org/event/western-new-york-membership-mixer/
ORGANIZER;CN="Western New York Women's Bar Association":MAILTO:wbasnywny@gmail.com
END:VEVENT
BEGIN:VEVENT
DTSTART;TZID=America/New_York:20210902T170000
DTEND;TZID=America/New_York:20210902T200000
DTSTAMP:20260422T174927
CREATED:20210615T194024Z
LAST-MODIFIED:20210615T200432Z
UID:55802-1630602000-1630612800@www.wbasny.org
SUMMARY:Officers Meeting
DESCRIPTION:WBASNY
URL:https://www.wbasny.org/event/officers-meeting-6/
LOCATION:TBD
ORGANIZER;CN="WBASNY":MAILTO:events@wbasny.org
END:VEVENT
BEGIN:VEVENT
DTSTART;TZID=America/New_York:20210902T180000
DTEND;TZID=America/New_York:20210902T200000
DTSTAMP:20260422T174927
CREATED:20210825T154800Z
LAST-MODIFIED:20210825T154800Z
UID:56895-1630605600-1630612800@www.wbasny.org
SUMMARY:Careers in Compliance for Minority Law Students and LL.M. Candidates
DESCRIPTION:Queens Chapter \n\n\n\n\n\n\n\n\n\n\n\n\nQCWBA Co-Sponsors Free Webinar with New York City Bar\n\n\n\n\n\n\n\n\n\n\n\n\n  \n\n\n\n\n\n\n\n\n\n\n\n\n\n\n\n  \n\n\n\n\n\n\n\n\n\n\n\nCareers in Compliance for Minority Law Students and LL.M. Candidates\nFree for All\nThursday\, September 2\, 2021 | 6:00-8:00pm\nPre-registration Required – click here to register \nProgram Description:\nAre you looking for advice on how to overcome the challenges facing minority law students and LL.M. candidates as they transition from the classroom into compliance or legal careers?  Please join the New York City Bar Association for a frank virtual discussion with compliance lawyers of exceptionally diverse backgrounds on what it means to be a compliance professional and the opportunities for minority law students and LL.M. candidates to have fulfilling careers in the compliance space. \nParticipants will have the opportunity\, in smaller\, rotating virtual group sessions\, to engage with experienced and diverse lawyers on their personal career paths in compliance\, how they overcame the challenges of being minority law students and lawyers\, and practical steps that minority law students and LL.M. candidates can take to overcome racial and gender bias and break into the compliance field. \nSpeakers:\nAlbert V. De Leon\, Legal & Compliance Consultant; Lecturer\, Pace University; former GC & Head of Compliance\, Dexia Credit Local-US\nJennifer Duggins\, Co-Head Private Funds Unit\, Securities and Exchange Commission\nShirley Emehelu\, Chiesa Shahinian & Giantomasi PC\nMaria Fernandez\, Former VP\, Head of Ethics & Compliance\, Direct Energy\nTatiane A. Park\, Managing Director\, Exiger LLC\nMonica Lopez Reinmiller\, Managing Corporate Counsel – Legal Affairs\, Compliance\, T-Mobile\nCarla Vogel\, Chief Compliance Officer\, Sycamore Partners
URL:https://www.wbasny.org/event/careers-in-compliance-for-minority-law-students-and-ll-m-candidates/
END:VEVENT
BEGIN:VEVENT
DTSTART;TZID=America/New_York:20210909T130000
DTEND;TZID=America/New_York:20210909T140000
DTSTAMP:20260422T174927
CREATED:20210831T160252Z
LAST-MODIFIED:20210831T160252Z
UID:56959-1631192400-1631196000@www.wbasny.org
SUMMARY:CLE Moratorium Madness: Post Pandemic Foreclosure !
DESCRIPTION:Bronx Chapter \nFINAL.CLEMORITORIUMMADNESS
URL:https://www.wbasny.org/event/cle-moratorium-madness-post-pandemic-foreclosure/
END:VEVENT
BEGIN:VEVENT
DTSTART;TZID=America/New_York:20210909T183000
DTEND;TZID=America/New_York:20210909T203000
DTSTAMP:20260422T174927
CREATED:20210907T162610Z
LAST-MODIFIED:20210907T162610Z
UID:57069-1631212200-1631219400@www.wbasny.org
SUMMARY:DIY Wood Sign Workshop
DESCRIPTION:Nassau Chapter \nNassau
URL:https://www.wbasny.org/event/diy-wood-sign-workshop/
END:VEVENT
BEGIN:VEVENT
DTSTART;TZID=America/New_York:20210910T123000
DTEND;TZID=America/New_York:20210910T183000
DTSTAMP:20260422T174927
CREATED:20210831T163047Z
LAST-MODIFIED:20210831T163047Z
UID:56969-1631277000-1631298600@www.wbasny.org
SUMMARY:Orange and Sullivan Golf Outing
DESCRIPTION:Orange & Sullivan ChapterWBAOSC Golf Event _8_
URL:https://www.wbasny.org/event/orange-and-sullivan-golf-outing/
END:VEVENT
BEGIN:VEVENT
DTSTART;TZID=America/New_York:20210910T130000
DTEND;TZID=America/New_York:20210910T140000
DTSTAMP:20260422T174927
CREATED:20210831T155541Z
LAST-MODIFIED:20210831T155541Z
UID:56953-1631278800-1631282400@www.wbasny.org
SUMMARY:Zoom Lunch with Judge Miriam Breier
DESCRIPTION:Bronx Chapter \nZoomLunch.Breier
URL:https://www.wbasny.org/event/zoom-lunch-with-judge-miriam-breier/
END:VEVENT
BEGIN:VEVENT
DTSTART;TZID=America/New_York:20210914T170000
DTEND;TZID=America/New_York:20210914T200000
DTSTAMP:20260422T174927
CREATED:20210831T161828Z
LAST-MODIFIED:20210914T175515Z
UID:56962-1631638800-1631649600@www.wbasny.org
SUMMARY:NEW LOCATION-Membership Mixer
DESCRIPTION:Orange-Sullivan ChapterNEW LOCATION
URL:https://www.wbasny.org/event/wbaosc-2021-membership-mixer/
END:VEVENT
BEGIN:VEVENT
DTSTART;TZID=America/New_York:20210914T180000
DTEND;TZID=America/New_York:20210914T200000
DTSTAMP:20260422T174927
CREATED:20210907T215401Z
LAST-MODIFIED:20210913T160106Z
UID:57081-1631642400-1631649600@www.wbasny.org
SUMMARY:Women Lead
DESCRIPTION:Bronx Chapter \nFINAL.BWLLauraG.9.16.21
URL:https://www.wbasny.org/event/bronx-women-lead-2/
END:VEVENT
BEGIN:VEVENT
DTSTART;TZID=America/New_York:20210915T130000
DTEND;TZID=America/New_York:20210915T140000
DTSTAMP:20260422T174927
CREATED:20210810T155955Z
LAST-MODIFIED:20210810T155955Z
UID:56785-1631710800-1631714400@www.wbasny.org
SUMMARY:Lunch with Judge Hon. Margo K. Brodie
DESCRIPTION:Brooklyn Chapter \nBrooklyn Lunch with a Judge
URL:https://www.wbasny.org/event/lunch-with-judge-hon-margo-k-brodie/
END:VEVENT
BEGIN:VEVENT
DTSTART;TZID=America/New_York:20210921T180000
DTEND;TZID=America/New_York:20210921T190000
DTSTAMP:20260422T174927
CREATED:20210825T151813Z
LAST-MODIFIED:20210825T151813Z
UID:56887-1632247200-1632250800@www.wbasny.org
SUMMARY:Growing up in a Porn Culture: How Hypersexualized Images Undermine Healthy Development
DESCRIPTION:New York Chapter \n\n\n\n\n\n\n\nNYWBA presents Culture Reframed \nGrowing up in a Porn Culture: How Hypersexualized Images Undermine Healthy Development \nWith Speaker:\nDr. Gail Dines\, Professor Emerita of Sociology;\npresident\, Culture Reframed \nSeptember 21\, 2021 at 6:00 p.m. via Zoom\nClick here for more info and to RSVP
URL:https://www.wbasny.org/event/growing-up-in-a-porn-culture-how-hypersexualized-images-undermine-healthy-development/
END:VEVENT
BEGIN:VEVENT
DTSTART;TZID=America/New_York:20210922T170000
DTEND;TZID=America/New_York:20210922T183000
DTSTAMP:20260422T174927
CREATED:20210825T160117Z
LAST-MODIFIED:20210825T160117Z
UID:56898-1632330000-1632335400@www.wbasny.org
SUMMARY:Invites you to a Membership Drive and Fall Fundraiser for Dutchess Outreach.
DESCRIPTION:Mid Hudson ChapterInvitation to 9-22-2021 Event
URL:https://www.wbasny.org/event/invites-you-to-a-membership-drive-and-fall-fundraiser-for-dutchess-outreach/
END:VEVENT
BEGIN:VEVENT
DTSTART;TZID=America/New_York:20210923T160000
DTEND;TZID=America/New_York:20210923T200000
DTSTAMP:20260422T174927
CREATED:20210811T170902Z
LAST-MODIFIED:20210811T170902Z
UID:56810-1632412800-1632427200@www.wbasny.org
SUMMARY:Discounted Part 36 Training Program for  Guardian\, Court Evaluator and Attorney for an Alleged Incapacitated Person
DESCRIPTION:Queens Chapter \nPt 36 Training for Guardian.Ct Eval.AIP 9-23 and 9-30.2021 CURRENT
URL:https://www.wbasny.org/event/discounted-part-36-training-program-for-guardian-court-evaluator-and-attorney-for-an-alleged-incapacitated-person/
END:VEVENT
BEGIN:VEVENT
DTSTART;TZID=America/New_York:20210923T180000
DTEND;TZID=America/New_York:20210923T190000
DTSTAMP:20260422T174927
CREATED:20210907T161729Z
LAST-MODIFIED:20210907T161729Z
UID:57063-1632420000-1632423600@www.wbasny.org
SUMMARY:Save the Date Hispanic Heritage Month
DESCRIPTION:Brooklyn Chapter \nRSVP HHM Celebration
URL:https://www.wbasny.org/event/save-the-date-hispanic-heritage-month/
END:VEVENT
BEGIN:VEVENT
DTSTART;TZID=America/New_York:20210923T190000
DTEND;TZID=America/New_York:20210923T200000
DTSTAMP:20260422T174927
CREATED:20210831T152340Z
LAST-MODIFIED:20210831T152340Z
UID:56947-1632423600-1632427200@www.wbasny.org
SUMMARY:The Role of Attorney General and the Public Good
DESCRIPTION:Western New York Chapter \nThe Role of Attorney General and the Public Good
URL:https://www.wbasny.org/event/the-role-of-attorney-general-and-the-public-good/
ORGANIZER;CN="Western New York Women's Bar Association":MAILTO:wbasnywny@gmail.com
END:VEVENT
BEGIN:VEVENT
DTSTART;TZID=America/New_York:20210924T120000
DTEND;TZID=America/New_York:20210924T133000
DTSTAMP:20260422T174927
CREATED:20210921T233323Z
LAST-MODIFIED:20210921T233323Z
UID:57179-1632484800-1632490200@www.wbasny.org
SUMMARY:CLE - Immigration Law for the General Practitioner
DESCRIPTION:Finger Lakes Chapter
URL:https://www.wbasny.org/event/cle-immigration-law-for-the-general-practitioner/
END:VEVENT
BEGIN:VEVENT
DTSTART;TZID=America/New_York:20210924T120000
DTEND;TZID=America/New_York:20210924T140000
DTSTAMP:20260422T174927
CREATED:20210818T144422Z
LAST-MODIFIED:20210818T144422Z
UID:56861-1632484800-1632492000@www.wbasny.org
SUMMARY:Mid-Hudson Women's Bar Association invites you to a "brown bag lunch"
DESCRIPTION:Mid-Hudson Chapter \nMid-Hudson Women’s Bar Association invites you to a “brown bag lunch” with the newest Dutchess County Judge: Honorable Jessica Segal\, Dutchess County Court Judge.  This is an opportunity for attorneys to have a dialogue with Judge Segal about practicing in her courtroom. We invite you to bring your own lunch. \nFriday \, September 24\, 2021 \n12:00 p.m. \nDutchess County Courthouse \n10 Market Street \nPoughkeepsie \, NY 12601 \n  \nPlease RSVP by September 17\, 2021 to midhudsonwba@gmail.com \n  \nHope to see you there! \n  \nMid-Hudson Women’s Bar Association \nA Chapter of the Women’s Bar Association of the State of New York  \nDutchess\, Ulster\, Putnam\, Columbia and Greene Counties 
URL:https://www.wbasny.org/event/mid-hudson-womens-bar-association-invites-you-to-a-brown-bag-lunch/
END:VEVENT
BEGIN:VEVENT
DTSTART;TZID=America/New_York:20210924T190000
DTEND;TZID=America/New_York:20210924T200000
DTSTAMP:20260422T174927
CREATED:20210922T184834Z
LAST-MODIFIED:20210922T184834Z
UID:57196-1632510000-1632513600@www.wbasny.org
SUMMARY:September Social
DESCRIPTION:Staten Island Chapter \nSIWBA Social 9.24
URL:https://www.wbasny.org/event/september-social/
END:VEVENT
BEGIN:VEVENT
DTSTART;TZID=America/New_York:20210925T100000
DTEND;TZID=America/New_York:20210925T150000
DTSTAMP:20260422T174927
CREATED:20210615T194123Z
LAST-MODIFIED:20210615T194123Z
UID:55804-1632564000-1632582000@www.wbasny.org
SUMMARY:Board of Directors Meeting
DESCRIPTION:
URL:https://www.wbasny.org/event/board-of-directors-meeting-6/
LOCATION:TBD
ORGANIZER;CN="WBASNY":MAILTO:events@wbasny.org
END:VEVENT
END:VCALENDAR