BEGIN:VCALENDAR
VERSION:2.0
PRODID:-//wbasny - ECPv6.15.20//NONSGML v1.0//EN
CALSCALE:GREGORIAN
METHOD:PUBLISH
X-WR-CALNAME:wbasny
X-ORIGINAL-URL:https://www.wbasny.org
X-WR-CALDESC:Events for wbasny
REFRESH-INTERVAL;VALUE=DURATION:PT1H
X-Robots-Tag:noindex
X-PUBLISHED-TTL:PT1H
BEGIN:VTIMEZONE
TZID:America/New_York
BEGIN:DAYLIGHT
TZOFFSETFROM:-0500
TZOFFSETTO:-0400
TZNAME:EDT
DTSTART:20210314T070000
END:DAYLIGHT
BEGIN:STANDARD
TZOFFSETFROM:-0400
TZOFFSETTO:-0500
TZNAME:EST
DTSTART:20211107T060000
END:STANDARD
BEGIN:DAYLIGHT
TZOFFSETFROM:-0500
TZOFFSETTO:-0400
TZNAME:EDT
DTSTART:20220313T070000
END:DAYLIGHT
BEGIN:STANDARD
TZOFFSETFROM:-0400
TZOFFSETTO:-0500
TZNAME:EST
DTSTART:20221106T060000
END:STANDARD
BEGIN:DAYLIGHT
TZOFFSETFROM:-0500
TZOFFSETTO:-0400
TZNAME:EDT
DTSTART:20230312T070000
END:DAYLIGHT
BEGIN:STANDARD
TZOFFSETFROM:-0400
TZOFFSETTO:-0500
TZNAME:EST
DTSTART:20231105T060000
END:STANDARD
END:VTIMEZONE
BEGIN:VEVENT
DTSTART;TZID=America/New_York:20220916T120000
DTEND;TZID=America/New_York:20220916T140000
DTSTAMP:20260421T052328
CREATED:20220829T173624Z
LAST-MODIFIED:20220829T173624Z
UID:61951-1663329600-1663336800@www.wbasny.org
SUMMARY:Law Distributes: Housing and Credit in Poor Black Neighborhoods
DESCRIPTION:Law Distributes: Housing and Credit\nin Poor Black Neighborhoods\n\nfeaturing \nDuncan Kennedy\, Carter Professor of General Jurisprudence (Emeritus)\,  Harvard Law School \n\nFriday\, September 16\, 2022\n12 noon – 2:00 p.m. (EDT) \nCharles B. Sears Law Library\, John Lord O’Brian Hall\nUniversity at Buffalo (North Campus) \nor via live broadcast\nLike other well-intentioned progressives\, legal advocates for residents of poor Black neighborhoods face a persistent accusation: that their efforts hurt the very people they mean to help. Disputing this charge\, Professor Kennedy will propose a method for evaluating a wide range of legal reform projects. \nImmediately following the lecture\, Professor Kennedy will discuss his proposal with UB Law’s experts in housing policy (Professor Heather Abraham)\, political economy (Professor Matthew Dimick)\, and issues of race\, gender\, and class (Professor Athena Mutua). \nA reception will follow. The entire program is free and open to the public\, though registration is required. \nMore Information or Register Online
URL:https://www.wbasny.org/event/law-distributes-housing-and-credit-in-poor-black-neighborhoods/
ORGANIZER;CN="Western New York Women's Bar Association":MAILTO:wbasnywny@gmail.com
END:VEVENT
BEGIN:VEVENT
DTSTART;TZID=America/New_York:20220916T180000
DTEND;TZID=America/New_York:20220916T190000
DTSTAMP:20260421T052328
CREATED:20220902T194113Z
LAST-MODIFIED:20220902T194113Z
UID:62220-1663351200-1663354800@www.wbasny.org
SUMMARY:CLE- Trauma and Testimony: Witness Credibility in Domestic Violence Cases
DESCRIPTION:Domestic Violence Committee presents \n \n  \nTrauma and Testimony: Witness Credibility in Domestic Violence Cases CLE \n\nSponsored by\n \n \n  \nSeptember 16\, 2022 \n  \n6:00 – 7:15 pm \n  \n  \nThis CLE will discuss the way preconceived notions of how a victim or perpetrator of domestic violence should behave and how they appear in court can impede jurists and jurors from making an accurate determination of credibility in domestic violence cases and how attorneys can best present their cases to obtain better outcomes for domestic violence survivors and their children.  \n  \nSpeakers: \n  \nKarla S. George\, Esq.\nDeputy Director\, Family Law Project\nBronx Family Justice Center\nSanctuary for Families \n  \nHon. Richard Rivera \nActing Supreme Court Justice\nSupervising Family Court Judge\nAlbany County \n  \nHon. Llinét Rosado\nSupreme Court Justice – Criminal Term\nBronx County \n  \nModerator:\nAmanda Norejko\, Esq.\nFamily Court Support Magistrate\nNew York County \n  \n  \n1.0 CLE Credits  \n(Professional Practice)\n(Transitional / Non-Transitional) \n  \nCost:\nFree to Members \nNon-Members – $40 \n  \nR.S.V.P. by September 14th \n\n \n 
URL:https://www.wbasny.org/event/cle-trauma-and-testimony-witness-credibility-in-domestic-violence-cases/
ORGANIZER;CN="WBASNY":MAILTO:events@wbasny.org
END:VEVENT
BEGIN:VEVENT
DTSTART;TZID=America/New_York:20220917T100000
DTEND;TZID=America/New_York:20220917T150000
DTSTAMP:20260421T052328
CREATED:20220826T144352Z
LAST-MODIFIED:20220826T185810Z
UID:61866-1663408800-1663426800@www.wbasny.org
SUMMARY:Board of Directors Meeting
DESCRIPTION:Board of Directors (Virtual)
URL:https://www.wbasny.org/event/board-of-directors/
ORGANIZER;CN="WBASNY":MAILTO:events@wbasny.org
END:VEVENT
BEGIN:VEVENT
DTSTART;TZID=America/New_York:20220920T173000
DTEND;TZID=America/New_York:20220920T193000
DTSTAMP:20260421T052328
CREATED:20220831T143547Z
LAST-MODIFIED:20220831T143602Z
UID:62199-1663695000-1663702200@www.wbasny.org
SUMMARY:BWBA Paint and Sip
DESCRIPTION:Brooklyn Chapter \n \n \nRSVP HERE
URL:https://www.wbasny.org/event/62199/
END:VEVENT
BEGIN:VEVENT
DTSTART;TZID=America/New_York:20220920T180000
DTEND;TZID=America/New_York:20220920T193000
DTSTAMP:20260421T052328
CREATED:20220823T153257Z
LAST-MODIFIED:20220823T153257Z
UID:61558-1663696800-1663702200@www.wbasny.org
SUMMARY:CLE-Domestic Violence During the Pandemic
DESCRIPTION:CLE PROGRAM: domestic violence\nduring the pandemic\nsept. 20\, 2022 \n\nThe NYWBA Criminal Law and\nDomestic Violence Committees present a CLE Program: \nDomestic Violence Law During the Pandemic \nSpeakers: \n\nStephanie Conners\, Esq.\n(Integrated Domestic Violence Part\, NYCDS defense attorney) \n\nLawrence (Larry) Newman\n(Chief of the Domestic Violence Unit at DANY) \n\nand more speakers to be announced \n\nModerator: TBD \n\n\n\n\nDate:\nTuesday\, September 20th\, 2022\n\n\nTime:\n6:00 – 7:30 p.m.\n\n\nLocation:\nZoom Webinar- invitation to follow upon RSVP\n\n\nCLE:\n1.5 credits*\n\n\nCost:\nFree – NYWBA and WBASNY Members**  \n$25 – Non-members – click here for more info.\n\n\nRSVP:\nCLICK HERE to RSVP\nbefore Sept. 16\, 2022\n\n\nInfo:\nIf you have any questions\, please contact cle@nywba.org.\n\n\n\n*CLE Credits:  1.5 credits\, type to be announced. The New York Women’s Bar Association is an accredited CLE provider. Approval of CLE credit is pending in accordance with the requirements of the New York State CLE Board for the above-listed credit hours for experienced attorneys (those admitted to the New York Bar for more than 2 years) and as transitional credit hours for newly admitted attorneys. Please be advised that\, in accordance with the New York State CLE Board Regulations and Guidance\, while newly admitted attorneys are encouraged to participate in diversity programs\, only experienced attorneys may earn credit in the Diversity\, Inclusion and Elimination of Bias category of CLE credit. \n** Free NYWBA and WBASNY members\, $25\, non-member: Full and partial scholarships based on financial need are available. For info on the guidelines and to apply\, contact CLE Co- Chairs Amy B. Goldsmith or Stacey Better Phillips at cle@nywba.org or 212-216-1135. All requests are confidential.
URL:https://www.wbasny.org/event/cle-domestic-violence-during-the-pandemic/
END:VEVENT
BEGIN:VEVENT
DTSTART;TZID=America/New_York:20220921T120000
DTEND;TZID=America/New_York:20220921T130000
DTSTAMP:20260421T052328
CREATED:20220920T211800Z
LAST-MODIFIED:20220920T211800Z
UID:62952-1663761600-1663765200@www.wbasny.org
SUMMARY:Lunch with Hon. Brian A. Burns
DESCRIPTION:The Del-Chen-O Board is excited to invite you to join us for our “Lunch with a Judge” series this year. The third will be held tomorrow\, Wednesday\, September 21\, 2022 at 12:00 PM. \n\nThis series of monthly meetings with Judge members of our chapter will allow you to get to know each judge and perhaps learn a few tricks for success as well as pet peeves to avoid. It is a wonderful opportunity to have a casual meeting and be able to chat about any topic…. well any appropriate topic. \n\nThe session on Wednesday will feature The Honorable Brian A. Burns\, Justice of the Supreme Court. \n\nPlease click on the below Teams link at 12:00 Wednesday\, September 21\, 2022 to join in. If you do not have Teams on your computer\, download it now so you are ready to go. Hope to see you then. \n\n\nJoin Microsoft Teams Meeting +1 347-378-4143 United States\, New York City (Toll) (833) 262-7886 United States (Toll-free) Conference ID: 298 293 585#  \n\n\nIf you have not already renewed your membership\, \nPlease click here to renew online. \nPlease click here to renew with a paper application.
URL:https://www.wbasny.org/event/lunch-with-hon-brian-a-burns/
END:VEVENT
BEGIN:VEVENT
DTSTART;TZID=America/New_York:20220921T123000
DTEND;TZID=America/New_York:20220921T140000
DTSTAMP:20260421T052328
CREATED:20220310T154010Z
LAST-MODIFIED:20220310T154010Z
UID:60089-1663763400-1663768800@www.wbasny.org
SUMMARY:Trauma and ICWA: Considerations and Best Practices for Working with Indian Families Affected By Substance Use in Child Welfare Proceedings
DESCRIPTION:WEDNESDAY SEPTEMBER 21\, 2022: 12:30-2:00 PM\nTRAUMA AND ICWA: CONSIDERATIONS AND BEST PRACTICES FOR WORKING WITH INDIAN FAMILIES AFFECTED BY SUBSTANCE USE IN CHILD WELFARE PROCEEDINGS\nPresenters \nHon Carrie Garrow\, Healing to Wellness Court Judge\, Saint Regis Mohawk Tribe \nHon Sharon LoVallo\, Erie County Family Court \nAimeé L. Neri\, LMSW\, Statewide Project Manager for ICWA Practices\, Child Welfare Court Improvement Project \nThe Indian Child Welfare Act was enacted in 1978 in response to the significant traumas Indian Families experienced at the hands of the child welfare system. Recently\, there has been a renewed focus on the fallout of Indian Boarding Schools in both the U.S. and Canada\, and the unspeakable violence they inflicted on children\, families and entire tribal communities. The resulting trauma has been epigenetically passed through generations\, many times resulting in individuals developing Substance Use Disorder as a coping mechanism. This program will provide an overview of historical trauma and the impact on Indian Families and communities\, particularly at the intersection of substance use and child welfare practices. Strategies for using Trauma Informed Practices and maintaining ICWA compliance will be reviewed when working with Indian Families affected by substance use disorder. \n—————————————————————————————————-
URL:https://www.wbasny.org/event/trauma-and-icwa-considerations-and-best-practices-for-working-with-indian-families-affected-by-substance-use-in-child-welfare-proceedings/
END:VEVENT
BEGIN:VEVENT
DTSTART;TZID=America/New_York:20220921T130000
DTEND;TZID=America/New_York:20220921T140000
DTSTAMP:20260421T052328
CREATED:20220826T142537Z
LAST-MODIFIED:20220826T142537Z
UID:61859-1663765200-1663768800@www.wbasny.org
SUMMARY:CLE-Reproductive Rights
DESCRIPTION:
URL:https://www.wbasny.org/event/cle-reproductive-rights/
END:VEVENT
BEGIN:VEVENT
DTSTART;TZID=America/New_York:20220921T130000
DTEND;TZID=America/New_York:20220921T170000
DTSTAMP:20260421T052328
CREATED:20220919T154633Z
LAST-MODIFIED:20220919T154633Z
UID:62857-1663765200-1663779600@www.wbasny.org
SUMMARY:"Free" Virtual CLE-Basic Training for Guardians ad Litem
DESCRIPTION:
URL:https://www.wbasny.org/event/free-virtual-cle-basic-training-for-guardians-ad-litem/
END:VEVENT
BEGIN:VEVENT
DTSTART;TZID=America/New_York:20220921T173000
DTEND;TZID=America/New_York:20220921T193000
DTSTAMP:20260421T052328
CREATED:20220826T144503Z
LAST-MODIFIED:20220826T144503Z
UID:61868-1663781400-1663788600@www.wbasny.org
SUMMARY:Committee Chair Training
DESCRIPTION:Committee Chair Training (Virtual)
URL:https://www.wbasny.org/event/committee-chair-training/
ORGANIZER;CN="WBASNY":MAILTO:events@wbasny.org
END:VEVENT
BEGIN:VEVENT
DTSTART;TZID=America/New_York:20220921T180000
DTEND;TZID=America/New_York:20220921T210000
DTSTAMP:20260421T052328
CREATED:20220823T155525Z
LAST-MODIFIED:20220823T155525Z
UID:61560-1663783200-1663794000@www.wbasny.org
SUMMARY:Annual Kickoff & Membership Drive Cocktail Party
DESCRIPTION:Suffolk Chapter
URL:https://www.wbasny.org/event/annual-kickoff-membership-drive-cocktail-party/
END:VEVENT
BEGIN:VEVENT
DTSTART;TZID=America/New_York:20220922T080000
DTEND;TZID=America/New_York:20220922T170000
DTSTAMP:20260421T052328
CREATED:20220823T155719Z
LAST-MODIFIED:20220824T194552Z
UID:61564-1663833600-1663866000@www.wbasny.org
SUMMARY:New Member Reception
DESCRIPTION:Queens Chapter
URL:https://www.wbasny.org/event/qcwba-new-member-reception/
END:VEVENT
BEGIN:VEVENT
DTSTART;TZID=America/New_York:20220926T130000
DTEND;TZID=America/New_York:20220926T143000
DTSTAMP:20260421T052328
CREATED:20220907T194939Z
LAST-MODIFIED:20220907T194939Z
UID:62290-1664197200-1664202600@www.wbasny.org
SUMMARY:Richmond County Hispanic Heritage Celebration
DESCRIPTION:Staten Island Women’s Bar Association  \nMembership Mixer \n\nJoin us for a pizza making party! \nEnjoy Appetizers\, Pizzas\, Dessert \nBeer\, Wine and Sangria \n\nSeptember 29\, 2022 \n7PM \nBario’s \n\nFree for all SIWBA members \nMembers can join/renew at event! \n\nInvitation with RSVP information to follow this week. \n \n  \nREGISTER FOR SEPTEMBER 26\, 2022
URL:https://www.wbasny.org/event/richmond-county-hispanic-heritage-celebration/
END:VEVENT
BEGIN:VEVENT
DTSTART;TZID=America/New_York:20220928T180000
DTEND;TZID=America/New_York:20220928T190000
DTSTAMP:20260421T052328
CREATED:20220912T212528Z
LAST-MODIFIED:20220912T212528Z
UID:62706-1664388000-1664391600@www.wbasny.org
SUMMARY:Unidos: Inclusivity for a Stronger Nation
DESCRIPTION:RSVP HERE
URL:https://www.wbasny.org/event/unidos-inclusivity-for-a-stronger-nation/
END:VEVENT
BEGIN:VEVENT
DTSTART;TZID=America/New_York:20220929T180000
DTEND;TZID=America/New_York:20220929T193000
DTSTAMP:20260421T052328
CREATED:20220912T174720Z
LAST-MODIFIED:20220912T174720Z
UID:62649-1664474400-1664479800@www.wbasny.org
SUMMARY:Committee Interest Happy Hour
DESCRIPTION:  \nRegister
URL:https://www.wbasny.org/event/committee-interest-happy-hour/
ORGANIZER;CN="Western New York Women's Bar Association":MAILTO:wbasnywny@gmail.com
END:VEVENT
BEGIN:VEVENT
DTSTART;TZID=America/New_York:20220929T180000
DTEND;TZID=America/New_York:20220929T193000
DTSTAMP:20260421T052328
CREATED:20220927T163211Z
LAST-MODIFIED:20220927T163211Z
UID:63084-1664474400-1664479800@www.wbasny.org
SUMMARY:NYWBA Students & New Lawyers Networking Happy Hour
DESCRIPTION:RSVP snlchairs@nywba.org.
URL:https://www.wbasny.org/event/nywba-students-new-lawyers-networking-happy-hour/
END:VEVENT
BEGIN:VEVENT
DTSTART;TZID=America/New_York:20220929T190000
DTEND;TZID=America/New_York:20220929T200000
DTSTAMP:20260421T052328
CREATED:20220914T194156Z
LAST-MODIFIED:20220914T194156Z
UID:62752-1664478000-1664481600@www.wbasny.org
SUMMARY:The Annual Membership Mixer
DESCRIPTION:  \nMARK YOUR CALENDAR  \nAND GET READY FOR… \n  \nTHE ANNUAL MEMBERSHIP MIXER\n\n\n\n\n\n\n\n  \n\n\n\n\n\n\n\n\n\n\n\n\n\n\n\n\n\n\n\n\n\n\n\n  \n\n\n\n\n\n\n\n\n\n\n\n\n\n\n\n\n\n\n\n\n\n\n\n  \n\n\n\n\n\n\n\nTHURSDAY\, SEPTEMBER 29\, 2022 \nat 7PM \n  \nBario’s  \n446 Nome Avenue\, \nStaten Island\, NY 10304 \n  \nFree for SIWBA members! \nJoin/Renew before or at the door to attend for free \n  \n$50 for non-members\n\n\n\n\n\n\n\n  \n\n\n\n\n\n\n\nJoin us for Appetizers\, Pizza and Dessert \nBeer\, Wine and Sangria\, Soda & Coffee included\n\n\n\n\n\n\n\n  \n\n\n\n\n\n\n\nALL ARE WELCOME TO JOIN US\n\n\n\n\n\n\n\n  \n\n\n\n\n\n\n\nClick the “Join Us” link to Join or Renew your SIWBA membership Today!! \nIf you are signing up on the WBASNY website be sure to choose  \nthe Staten Island Women’s Bar as your chapter!\n\n\n\n\n\n\n\n  \n\n\n\n\n\n\n\n\n\n\n\n\n\n\n\nRSVP FOR MIXER
URL:https://www.wbasny.org/event/the-annual-membership-mixer/
END:VEVENT
BEGIN:VEVENT
DTSTART;TZID=America/New_York:20220930T180000
DTEND;TZID=America/New_York:20220930T220000
DTSTAMP:20260421T052328
CREATED:20220823T155940Z
LAST-MODIFIED:20220823T155940Z
UID:61567-1664560800-1664575200@www.wbasny.org
SUMMARY:Judge Berliner Retirement
DESCRIPTION:Judge-Berliner-Retirement
URL:https://www.wbasny.org/event/judge-berliner-retirement/
END:VEVENT
BEGIN:VEVENT
DTSTART;TZID=America/New_York:20221003T080000
DTEND;TZID=America/New_York:20221007T170000
DTSTAMP:20260421T052328
CREATED:20220926T150835Z
LAST-MODIFIED:20220926T150835Z
UID:63013-1664784000-1665162000@www.wbasny.org
SUMMARY:"Let's Give Them a Hand to Ease Their Burdens"
DESCRIPTION:Bronx Chapter \n \nBxWBA “Let’s Give Them a Hand to Ease Their Burdens.” Domestic violence donation drive drop-off period is\nOctober 3\, 2022 to October 7\, 2022. Law Office of Eskin and Eskin\, P.C.\, 903F Sheridan Avenue\, Bronx NY\n10451.
URL:https://www.wbasny.org/event/lets-give-them-a-hand-to-ease-their-burdens/
END:VEVENT
BEGIN:VEVENT
DTSTART;TZID=America/New_York:20221004T180000
DTEND;TZID=America/New_York:20221004T190000
DTSTAMP:20260421T052328
CREATED:20220919T195627Z
LAST-MODIFIED:20220919T195627Z
UID:62908-1664906400-1664910000@www.wbasny.org
SUMMARY:Sojourner Truth Program
DESCRIPTION:20221004 Sojourner Truth Program_Press Release
URL:https://www.wbasny.org/event/sojourner-truth-program/
ORGANIZER;CN="WBASNY":MAILTO:events@wbasny.org
END:VEVENT
BEGIN:VEVENT
DTSTART;TZID=America/New_York:20221006T123000
DTEND;TZID=America/New_York:20221006T140000
DTSTAMP:20260421T052328
CREATED:20220927T161347Z
LAST-MODIFIED:20220927T161453Z
UID:63068-1665059400-1665064800@www.wbasny.org
SUMMARY:Unidas: Inclusivity for a Stronger Nation
DESCRIPTION:New York Chapter \n \n \n 
URL:https://www.wbasny.org/event/unidas-inclusivity-for-a-stronger-nation/
END:VEVENT
BEGIN:VEVENT
DTSTART;TZID=America/New_York:20221006T130000
DTEND;TZID=America/New_York:20221006T140000
DTSTAMP:20260421T052328
CREATED:20220928T142653Z
LAST-MODIFIED:20220928T142739Z
UID:63124-1665061200-1665064800@www.wbasny.org
SUMMARY:CLE-Strangulation
DESCRIPTION:Members of the Suffolk County Women’s Bar will be charged the same registration fee for the program as members of the Suffolk County Bar Association. \nTo ensure that you are charged the same fee\, please email or call: \nNicolette Ghiglieri\, Academy Administrator\, Suffolk Academy of Law                                 nicolette@scba.org\, (631) 234-5511 Ext. 224
URL:https://www.wbasny.org/event/cle-strangulation/
END:VEVENT
BEGIN:VEVENT
DTSTART;TZID=America/New_York:20221006T163000
DTEND;TZID=America/New_York:20221006T180000
DTSTAMP:20260421T052328
CREATED:20220829T174622Z
LAST-MODIFIED:20220829T174622Z
UID:61954-1665073800-1665079200@www.wbasny.org
SUMMARY:Preparing for the Character and Fitness Process (Early)
DESCRIPTION:The Franklin H. Williams Judicial Commission and the First and Second Judicial Departments of the New York State Appellate Division of the Supreme Court Present: \nPreparing for the Character and Fitness Process (Early)  \nThursday\, October 6\, 2022\, from 4:30PM-6:00PM \nVirtual via Microsoft Teams \nCLICK HERE TO REGISTER FOR THE PROGRAM
URL:https://www.wbasny.org/event/preparing-for-the-character-and-fitness-process-early/
ORGANIZER;CN="Western New York Women's Bar Association":MAILTO:wbasnywny@gmail.com
END:VEVENT
BEGIN:VEVENT
DTSTART;TZID=America/New_York:20221006T173000
DTEND;TZID=America/New_York:20221006T183000
DTSTAMP:20260421T052328
CREATED:20220916T170934Z
LAST-MODIFIED:20220916T170934Z
UID:62831-1665077400-1665081000@www.wbasny.org
SUMMARY:Honoring Latinx/a/o Judges in the Queens County Judiciary
DESCRIPTION:Queens Chapter
URL:https://www.wbasny.org/event/honoring-latinx-a-o-judges-in-the-queens-county-judiciary/
END:VEVENT
BEGIN:VEVENT
DTSTART;TZID=America/New_York:20221006T180000
DTEND;TZID=America/New_York:20221006T200000
DTSTAMP:20260421T052328
CREATED:20220823T160142Z
LAST-MODIFIED:20220824T194719Z
UID:61570-1665079200-1665086400@www.wbasny.org
SUMMARY:Membership Reception
DESCRIPTION:New York \nrsvp now for the\nNYWBA MEMBERSHIP RECEPTION\nOCT. 6\, 2022 \n2022 NYWBA Membership Reception \nMeet the NYWBA Officers\, Directors\, Committee Chairs\, members and prospective members at this complimentary cocktail reception. \nJoin colleagues and friends\, network\, and discover the many benefits of NYWBA membership\, including: \n\nFree NYWBA CLE courses\nCommittees to enhance your knowledge of substantive areas of the law and help address important legal and social issues\nLegislative and legal efforts to promote the fair and equal administration of justice and to help fight against attempts to compromise the rights of women and for equality for all persons under the law\nFun social and networking events\n\n► PERIOD POVERTY DRIVE:  Help eliminate period poverty: pleaase bring feminine hygiene products or drug store gift cards. Donations will be given to the Manhattan Family Justice Center which works with victims of domestic violence and human trafficking. \n\n\n\nDate:\nThursday\, October 6\, 2022\n\n\nTime:\n6:00 p.m. – 8:00 p.m.\n\n\nLocation:\nBlank Rome LLP \n1271 Avenue of the Americas\, New York\, NY 10020 \nID is REQUIRED for admission into the building.\n\n\nCost:\nComplimentary\n\n\nRSVP:\nCLICK HERE to RSVP before October
URL:https://www.wbasny.org/event/2022-nywba-membership-reception/
END:VEVENT
BEGIN:VEVENT
DTSTART;TZID=America/New_York:20221007T110000
DTEND;TZID=America/New_York:20221007T130000
DTSTAMP:20260421T052328
CREATED:20220823T160415Z
LAST-MODIFIED:20220823T160415Z
UID:61572-1665140400-1665147600@www.wbasny.org
SUMMARY:Celebration of Life for Hon. Irad S. Ingraham
DESCRIPTION:Del-Chen-O Chapter\n \n\nPlease save the date for a memorial to honor the life and career for Hon. Irad S. Ingraham on October 7\, 2022 at 11 am at the Chenango County Courthouse. The event will be approximately one hour with a luncheon to follow. \nPlease RSVP to Laura Parker at lparker@nycourts.gov so we can plan accordingly.
URL:https://www.wbasny.org/event/celebration-of-life-for-hon-irad-s-ingraham/
END:VEVENT
BEGIN:VEVENT
DTSTART;TZID=America/New_York:20221008T110000
DTEND;TZID=America/New_York:20221008T140000
DTSTAMP:20260421T052328
CREATED:20220914T171058Z
LAST-MODIFIED:20220914T171058Z
UID:62742-1665226800-1665237600@www.wbasny.org
SUMMARY:Retirement Brunch for Hon. Mark M. Meddaugh
DESCRIPTION:
URL:https://www.wbasny.org/event/retirement-brunch-for-hon-mark-m-meddaugh/
END:VEVENT
BEGIN:VEVENT
DTSTART;TZID=America/New_York:20221009T080000
DTEND;TZID=America/New_York:20221009T090000
DTSTAMP:20260421T052328
CREATED:20220926T173014Z
LAST-MODIFIED:20220926T173103Z
UID:63051-1665302400-1665306000@www.wbasny.org
SUMMARY:Breast Cancer Walk
DESCRIPTION:Brooklyn Chapter \n \n \n\n\n\n\nWALK WITH US/JOIN OUR TEAM/DONATE HERE
URL:https://www.wbasny.org/event/breast-cancer-walk-4/
END:VEVENT
BEGIN:VEVENT
DTSTART;TZID=America/New_York:20221009T130000
DTEND;TZID=America/New_York:20221009T140000
DTSTAMP:20260421T052328
CREATED:20220919T174049Z
LAST-MODIFIED:20220919T174049Z
UID:62902-1665320400-1665324000@www.wbasny.org
SUMMARY:Historical Walking Tour of the Gilded Age-Gradiose Yearnings from Untaxed Earnings
DESCRIPTION:Historical Walking Tour of The Gilded Age – Grandiose Yearnings from Untaxed Earnings \nOctober 9\, 2022 1:00 p.m. \n\nPlease join the NYWBA Programs and Events Committee for a historical walking tour featuring highlights of the Gilded Age on the Upper East Side of Manhattan\, led by the renowned historian and tour leader\, Joyce Gold.  Invite a friend (or two) and spend a beautiful fall morning learning about the old and new money that helped make this city what it is!   Please note that this is not a private tour; we will be joining a scheduled public tour. \n\nOctober 9\, 2022\, 1:00 p.m.\nClick here for more info and to RSVP.
URL:https://www.wbasny.org/event/historical-walking-tour-of-the-gilded-age-gradiose-yearnings-from-untaxed-earnings/
END:VEVENT
BEGIN:VEVENT
DTSTART;TZID=America/New_York:20221011T080000
DTEND;TZID=America/New_York:20221011T090000
DTSTAMP:20260421T052328
CREATED:20221004T143922Z
LAST-MODIFIED:20221004T143922Z
UID:63311-1665475200-1665478800@www.wbasny.org
SUMMARY:Breakfast at the Bar
DESCRIPTION:
URL:https://www.wbasny.org/event/breakfast-at-the-bar-2/
END:VEVENT
END:VCALENDAR