BEGIN:VCALENDAR
VERSION:2.0
PRODID:-//wbasny - ECPv6.15.20//NONSGML v1.0//EN
CALSCALE:GREGORIAN
METHOD:PUBLISH
X-ORIGINAL-URL:https://www.wbasny.org
X-WR-CALDESC:Events for wbasny
REFRESH-INTERVAL;VALUE=DURATION:PT1H
X-Robots-Tag:noindex
X-PUBLISHED-TTL:PT1H
BEGIN:VTIMEZONE
TZID:America/New_York
BEGIN:DAYLIGHT
TZOFFSETFROM:-0500
TZOFFSETTO:-0400
TZNAME:EDT
DTSTART:20220313T070000
END:DAYLIGHT
BEGIN:STANDARD
TZOFFSETFROM:-0400
TZOFFSETTO:-0500
TZNAME:EST
DTSTART:20221106T060000
END:STANDARD
BEGIN:DAYLIGHT
TZOFFSETFROM:-0500
TZOFFSETTO:-0400
TZNAME:EDT
DTSTART:20230312T070000
END:DAYLIGHT
BEGIN:STANDARD
TZOFFSETFROM:-0400
TZOFFSETTO:-0500
TZNAME:EST
DTSTART:20231105T060000
END:STANDARD
BEGIN:DAYLIGHT
TZOFFSETFROM:-0500
TZOFFSETTO:-0400
TZNAME:EDT
DTSTART:20240310T070000
END:DAYLIGHT
BEGIN:STANDARD
TZOFFSETFROM:-0400
TZOFFSETTO:-0500
TZNAME:EST
DTSTART:20241103T060000
END:STANDARD
END:VTIMEZONE
BEGIN:VEVENT
DTSTART;TZID=America/New_York:20230112T183000
DTEND;TZID=America/New_York:20230112T200000
DTSTAMP:20260421T003807
CREATED:20221213T181224Z
LAST-MODIFIED:20230111T192507Z
UID:64500-1673548200-1673553600@www.wbasny.org
SUMMARY:JAG Corp's CLE
DESCRIPTION:
URL:https://www.wbasny.org/event/jag-corps-cle/
END:VEVENT
BEGIN:VEVENT
DTSTART;TZID=America/New_York:20230112T183000
DTEND;TZID=America/New_York:20230112T203000
DTSTAMP:20260421T003807
CREATED:20221205T212515Z
LAST-MODIFIED:20221205T212515Z
UID:64394-1673548200-1673555400@www.wbasny.org
SUMMARY:Sip & Spin
DESCRIPTION:Thursday\, January 12 \n\n\n\n\n6:30 – 8:30 pm \n\n\n\n\nRise Fitness\, 97 Main St\, Hamburg \n\n\n\n\n\nRegister
URL:https://www.wbasny.org/event/sip-spin-2/
ORGANIZER;CN="Western New York Women's Bar Association":MAILTO:wbasnywny@gmail.com
END:VEVENT
BEGIN:VEVENT
DTSTART;TZID=America/New_York:20230117T180000
DTEND;TZID=America/New_York:20230117T193000
DTSTAMP:20260421T003807
CREATED:20230109T230413Z
LAST-MODIFIED:20230109T230413Z
UID:64603-1673978400-1673983800@www.wbasny.org
SUMMARY:CLE-Human Trafficking 101: What You Need to Know from Those Who Know Firsthand
DESCRIPTION:Sex Trafficking Committee presents \n \nHuman Trafficking 101: What You Need to Know from Those Who Know Firsthand \n\nSponsored by\n \n\nJanuary 17\, 2023 \n\n6:00 – 7:30 pm \n\nHuman trafficking in all its manifestations devastates the lives of individuals and destroys families and communities. Although no State can offer a specific count of the victims of human trafficking\, due in part to its clandestine nature\, the magnitude of this crime is clear. What is most important for us to understand about this deadly phenomenon is that there is a vibrant market ready to exploit and profit from these human beings. \n\nIn this one and a half hour CLE\, you will learn legal definitions of human trafficking\, both state and federal\, and what it looks like in real life. Panelists will debunk common myths about the realities of trafficking and discuss how trafficking laws in NYS have evolved since 2007. Finally panelists will discuss the importance of New York adopting the Sex Trade Survivors Justice and Equality Act – The Equality Model in New York State.\n \nPanelists: \n\nMary Armistead\, Esq.\, Staff Attorney\nThe Legal Project \nDorchen Leidholdt\, Director\nCenter for Battered Women’s Legal Services\,\nSanctuary for Families \nTaina Bien-Aimé\, Executive Director\nCoalition Against Trafficking in Women \nMelanie Thompson\, Youth Outreach Coordinator\nCoalition Against Trafficking in Women \nModerated by: \nWilliam Silverman\, Partner\, Proskauer Rose \n\n1.0 CLE Credits  \n(Ethics/Professionalism)\n(Transitional / Non-Transitional) \n\nCost:\nFree to Members \n\nTo register for this virtual event\, please email RCastela@proskauer.com \n\n\nCLE credits will be provided by Proskauer Rose
URL:https://www.wbasny.org/event/cle-human-trafficking-101-what-you-need-to-know-from-those-who-know-firsthand/
ORGANIZER;CN="WBASNY":MAILTO:events@wbasny.org
END:VEVENT
BEGIN:VEVENT
DTSTART;TZID=America/New_York:20230118T120000
DTEND;TZID=America/New_York:20230118T130000
DTSTAMP:20260421T003807
CREATED:20230117T152116Z
LAST-MODIFIED:20230117T152116Z
UID:64707-1674043200-1674046800@www.wbasny.org
SUMMARY:Lunch with Hon. Oliver N. Blaise
DESCRIPTION:Del-Chen-O “Lunch with a Judge” Series\n\n\n\n\n\n\n\n\n12:00 noon\, Wednesday\, January 18\, 2023  \nThe next session will feature Supreme Court Judge Oliver N. Blaise \n 
URL:https://www.wbasny.org/event/lunch-with-hon-oliver-n-blaise/
END:VEVENT
BEGIN:VEVENT
DTSTART;TZID=America/New_York:20230119T090000
DTEND;TZID=America/New_York:20230119T100000
DTSTAMP:20260421T003807
CREATED:20221219T182658Z
LAST-MODIFIED:20221219T182658Z
UID:64526-1674118800-1674122400@www.wbasny.org
SUMMARY:Time is Money: The Benefits of Using A Practice Management System
DESCRIPTION:The Solo & Small Practice Committee presents \n\nTime is Money: The Benefits of Using A Practice Management System \n\nThe focus of our next meeting will be how selecting the right practice management system can streamline the processes with which we run our firms.  Our speaker will be Jeff Levine\, the founder of The Systems Shop\, Inc.\, a boutique IT consulting firm that has specialized in the needs of small and medium‑sized law firms for more than 30 years.  Jeff will show us how the right software can make staff more efficient\, lawyers more productive and firms more profitable.  We will learn about the different systems which are available\, and why one may be a better choice than another based upon the size of the firm\, the practice area\, and the desired level of integration with other software.  Jeff is certified in Timeslips\, Time Matters\, Billing Matters\, Tabs\, Practice Master\, AbacusLaw\, Clio\, Cosmolex\, LawRuler\, MyCase\, NetDocuments\, Rocket Matter\, SolunoLegal\, TimeSolv and ZolaSuite. \n\nJanuary 19\, 2023\, 9:00 a.m.\, by Zoom \nRSVP ssfchairs@nywba.org \n 
URL:https://www.wbasny.org/event/time-is-money-the-benefits-of-using-a-practice-management-system/
END:VEVENT
BEGIN:VEVENT
DTSTART;TZID=America/New_York:20230119T120000
DTEND;TZID=America/New_York:20230119T130000
DTSTAMP:20260421T003807
CREATED:20230104T204036Z
LAST-MODIFIED:20230104T204218Z
UID:64574-1674129600-1674133200@www.wbasny.org
SUMMARY:CLE-Pro Bono Immigration Legal Services Project Launch
DESCRIPTION:Register @ http://bit.ly/3jelCuV
URL:https://www.wbasny.org/event/cle-pro-bono-immigration-legal-services-project-launch/
ORGANIZER;CN="Western New York Women's Bar Association":MAILTO:wbasnywny@gmail.com
END:VEVENT
BEGIN:VEVENT
DTSTART;TZID=America/New_York:20230119T180000
DTEND;TZID=America/New_York:20230119T190000
DTSTAMP:20260421T003807
CREATED:20221128T214517Z
LAST-MODIFIED:20221128T214517Z
UID:64302-1674151200-1674154800@www.wbasny.org
SUMMARY:CLE-Activist Defense: What Happens When Doing the Right Thing Can Land You in Jail?
DESCRIPTION:NYWBA’s Animal Law Committee\npresents a CLE Program: \n\nActivist Defense: \nWhat Happens When Doing\nthe Right Thing Can Land You in Jail? \n\nThis panel will focus on strategies for defending activists. It will discuss recent cases involving environmental activists in upstate New York and the “Smithfield Trial” in which two animal activists were acquitted of rescuing sick piglets from a factory farm in Utah. \n\nSpeakers: Chris Carraway\, Director of the Animal Activist Legal Defense Project at the University of Denver Sturm College of Law; Wayne Hsiung\, attorney and activist who successfully defended himself in State of Utah v. Hsiung; and Sujata Sidhu Gibson\, Attorney for We Are Seneca Lake and Professor of Law at Cornell Law School \n\nModerator: Michael Dorf\, Professor of Law at Cornell Law School \n\nJanuary 19\, 2023\, 6:00 p.m.\, by Zoom \nClick here for more info and to RSVP.
URL:https://www.wbasny.org/event/cle-activist-defense-what-happens-when-doing-the-right-thing-can-land-you-in-jail/
END:VEVENT
BEGIN:VEVENT
DTSTART;TZID=America/New_York:20230119T180000
DTEND;TZID=America/New_York:20230119T220000
DTSTAMP:20260421T003807
CREATED:20221205T164132Z
LAST-MODIFIED:20221205T164132Z
UID:64387-1674151200-1674165600@www.wbasny.org
SUMMARY:Retirement Party for Hon. Robert A. Onofry
DESCRIPTION:  \n\n\n\n\n\n\n\n\n*an additional payment of $5.00 is optional for a gift.
URL:https://www.wbasny.org/event/retirement-party-for-hon-robert-a-onofry/
END:VEVENT
BEGIN:VEVENT
DTSTART;TZID=America/New_York:20230121T100000
DTEND;TZID=America/New_York:20230121T150000
DTSTAMP:20260421T003807
CREATED:20220826T145140Z
LAST-MODIFIED:20220826T145140Z
UID:61880-1674295200-1674313200@www.wbasny.org
SUMMARY:Board of Directors Meeting
DESCRIPTION:Board of Directors Meeting
URL:https://www.wbasny.org/event/board-of-directors-meeting-14/
ORGANIZER;CN="WBASNY":MAILTO:events@wbasny.org
END:VEVENT
BEGIN:VEVENT
DTSTART;TZID=America/New_York:20230123T120000
DTEND;TZID=America/New_York:20230123T130000
DTSTAMP:20260421T003807
CREATED:20230119T162928Z
LAST-MODIFIED:20230119T162928Z
UID:64753-1674475200-1674478800@www.wbasny.org
SUMMARY:Health and Reproductive Rights Committee
DESCRIPTION:Kindly RSVP to Healthreprorightswbasny@gmail.com
URL:https://www.wbasny.org/event/health-and-reproductive-rights-committee/
ORGANIZER;CN="Western New York Women's Bar Association":MAILTO:wbasnywny@gmail.com
END:VEVENT
BEGIN:VEVENT
DTSTART;TZID=America/New_York:20230123T180000
DTEND;TZID=America/New_York:20230123T190000
DTSTAMP:20260421T003807
CREATED:20230103T205625Z
LAST-MODIFIED:20230103T205625Z
UID:64553-1674496800-1674500400@www.wbasny.org
SUMMARY:NYWBA ADR Committee Meeting
DESCRIPTION:NYWBA ADR Committee Meeting \nAgenda Items: \n\nPlanning a CLE on new statewide ADR Rules\nCreating a NYWBA Mediator Roster\nDiversity & Inclusion in the Mediation Community\n\nADR Co-Chairs:\nMarcy Einhorn\, Carol Swidler & Susan Salazar \nJanuary 23\, 2023\, 6:00 p.m.\, by Zoom\nRSVP adr@nywba.org
URL:https://www.wbasny.org/event/nywba-adr-committee-meeting-2/
END:VEVENT
BEGIN:VEVENT
DTSTART;TZID=America/New_York:20230124T180000
DTEND;TZID=America/New_York:20230124T190000
DTSTAMP:20260421T003807
CREATED:20230111T161101Z
LAST-MODIFIED:20230111T161101Z
UID:64615-1674583200-1674586800@www.wbasny.org
SUMMARY:New Year Headshot Membership Mixer
DESCRIPTION:Join Us for our \nNew Year Headshot  \nMembership Mixer! \n  \nThe SIWBA is happy to provide our membership with free professional headshots!  \n  \nJanuary 24\, 2023 \n6PM \nat \nOsteria Santina \n  \n  \n**FREE TO ALL MEMBERS** \n  \n  \nFood and Drinks will be provided. \n  \n  \n  \n**Entry and headshots are free for all members. Attendees are can join or renew their membership online HERE or at the door.\n\n\n\n\n\n\n\n\n\n\n\n\n\n\n\n\n\n\n\n\n\n\n\nRSVP HERE
URL:https://www.wbasny.org/event/new-year-headshot-membership-mixer/
END:VEVENT
BEGIN:VEVENT
DTSTART;TZID=America/New_York:20230124T180000
DTEND;TZID=America/New_York:20230124T190000
DTSTAMP:20260421T003807
CREATED:20230123T172735Z
LAST-MODIFIED:20230123T172735Z
UID:64782-1674583200-1674586800@www.wbasny.org
SUMMARY:Child Custody Case Review Update 2020-2022
DESCRIPTION:NYWBA’s Matrimonial and Family Law Committee presents:\n \nChild Custody Case Review\nUpdate: 2020 – 2022 \nWe invite you to join us for a case review update of interesting and notable child custody cases spanning from 2020 to 2022.  Discussion to follow the presentation. \nPresenters:  Olivia Lee\, Esq. and Nicole Riordan\, Esq. \n\nJanuary 25 2023\, 6:00 p.m.\, by Zoom \nRSVP: By January 24\, 2023 to MFchairs@nywba.org
URL:https://www.wbasny.org/event/child-custody-case-review-update-2020-2022/
END:VEVENT
BEGIN:VEVENT
DTSTART;TZID=America/New_York:20230125T130000
DTEND;TZID=America/New_York:20230125T140000
DTSTAMP:20260421T003807
CREATED:20230105T162748Z
LAST-MODIFIED:20230105T162816Z
UID:64585-1674651600-1674655200@www.wbasny.org
SUMMARY:Lunch with Hon. Hector D. LaSalle
DESCRIPTION:Brooklyn Chapter \n \n \n\n\n\n\nRSVP HERE
URL:https://www.wbasny.org/event/lunch-with-hon-hector-d-lasalle-2/
END:VEVENT
BEGIN:VEVENT
DTSTART;TZID=America/New_York:20230125T180000
DTEND;TZID=America/New_York:20230125T190000
DTSTAMP:20260421T003807
CREATED:20230111T211331Z
LAST-MODIFIED:20230111T211331Z
UID:64638-1674669600-1674673200@www.wbasny.org
SUMMARY:The Power of Remembrance: Reflections of a a Descendant of Genocide
DESCRIPTION:
URL:https://www.wbasny.org/event/the-power-of-remembrance-reflections-of-a-a-descendant-of-genocide/
END:VEVENT
BEGIN:VEVENT
DTSTART;TZID=America/New_York:20230126T123000
DTEND;TZID=America/New_York:20230126T140000
DTSTAMP:20260421T003807
CREATED:20230104T205220Z
LAST-MODIFIED:20230104T205220Z
UID:64579-1674736200-1674741600@www.wbasny.org
SUMMARY:Attorney Careers in the Courts
DESCRIPTION:The Franklin H. Williams Judicial Commission \npresents: \nAttorney Careers in the Courts \nThursday\, January 26\, 2023\, from 12:30PM-2:00PM \nVirtual via Microsoft Teams \nDo you want to be a Court Attorney\, Support Magistrate\, Special Referee or explore other available attorney positions in the New York State Courts? \nJoin us for a discussion of opportunities for attorneys in the New York Courts. \nCLICK HERE TO REGISTER FOR THE EVENT \nCo-Sponsored by the Association of Law Secretaries to Justices of Supreme and \nSurrogates Court in the City of New York and the Court Attorneys Association of the City of New York \nFor questions about the event\, please contact the Williams Commission at FHWilliams@nycourts.gov.
URL:https://www.wbasny.org/event/attorney-careers-in-the-courts/
ORGANIZER;CN="Western New York Women's Bar Association":MAILTO:wbasnywny@gmail.com
END:VEVENT
BEGIN:VEVENT
DTSTART;TZID=America/New_York:20230126T173000
DTEND;TZID=America/New_York:20230126T183000
DTSTAMP:20260421T003807
CREATED:20221128T214654Z
LAST-MODIFIED:20221128T214654Z
UID:64304-1674754200-1674757800@www.wbasny.org
SUMMARY:CLE- The Danger Assessment Tool: How to Accurately Assess Lethality Risk for Clients Experiencing Domestic Violence
DESCRIPTION:The Domestic Violence Committee\npresents a Program:\n \n The Danger Assessment Tool: How to Accurately Assess Lethality Risk for Clients Experiencing Domestic Violence \n\nSpeaker: Dr. Jacquelyn Campbell\, Ph.D\, MSN\, RN\, \nProfessor at John Hopkins Nursing School \n\nDr. Campbell is a nationally renowned scholar and expert on violence against women. In 1985\, Dr. Campbell developed the “Danger Assessment\,” a graded questionnaire that is among the first tools created to assess a woman’s risk of being killed by an abusive partner. The Assessment also gives the victim/survivor a greater awareness of their situation\, a tool to plan their own safety\, and a way for providers to give them more personalized help. The tool is now used widely by attorneys\, service providers\, law enforcement\, and others. Attendees can become certified in this method at the end of the training. \n\nJanuary 26\, 2023\, 5:30 p.m.\, by Zoom \nClick here for more info and to RSVP. \n 
URL:https://www.wbasny.org/event/cle-the-danger-assessment-tool-how-to-accurately-assess-lethality-risk-for-clients-experiencing-domestic-violence/
END:VEVENT
BEGIN:VEVENT
DTSTART;TZID=America/New_York:20230128T110000
DTEND;TZID=America/New_York:20230128T120000
DTSTAMP:20260421T003807
CREATED:20230112T205045Z
LAST-MODIFIED:20230112T205045Z
UID:64647-1674903600-1674907200@www.wbasny.org
SUMMARY:Beat the Blues Spa Day and Brunch!
DESCRIPTION:Beat the Blues Spa Day and Brunch! \nFeaturing brunch\, yoga\, and mini spa treatments \nincluding manicures\, mini-facials\, and massages \n  \nSaturday\, January 28\, 2023 \n10:30am to 1:00pm \nStations open at 11:00am \n  \nNew Windsor Community Center \nTown Hall Complex \n555 Union Avenue\, New Windsor\, NY \n  \n$40 for members\, $50 for nonmembers \n$20 for children 12 & under \nGratuity not included \n  \nPlease RSVP to rsvp@wbaosc.org
URL:https://www.wbasny.org/event/beat-the-blues-spa-day-and-brunch-2/
END:VEVENT
BEGIN:VEVENT
DTSTART;TZID=America/New_York:20230131T173000
DTEND;TZID=America/New_York:20230131T193000
DTSTAMP:20260421T003807
CREATED:20230111T161551Z
LAST-MODIFIED:20230111T161551Z
UID:64621-1675186200-1675193400@www.wbasny.org
SUMMARY:Judiciary Night
DESCRIPTION:Judiciary Night \n\n\n\n\nCelebrating the newly elected\, newly appointed\, re-elected and re-appointed Judges and Justices in Brooklyn \n\n\n\n\nhttps://bwba.formstack.com/forms/bwba_annual_judiciary_night
URL:https://www.wbasny.org/event/judiciary-night-4/
END:VEVENT
BEGIN:VEVENT
DTSTART;TZID=America/New_York:20230203T173000
DTEND;TZID=America/New_York:20230203T183000
DTSTAMP:20260421T003807
CREATED:20230109T215041Z
LAST-MODIFIED:20230109T215041Z
UID:64598-1675445400-1675449000@www.wbasny.org
SUMMARY:GRAWA's Annual Wear Red for Go Red Event
DESCRIPTION:Join us for our annual Go Red event at Red\, White and Brew of Rochester. It will be a wine and chocolate social. \nWear Red for Go Red event. Annual fundraiser to benefit the American Heart Association! \nMegan Vargulick and Kate Eldredge from the Rochester America Heart Association (AHA) will be available with information on heart disease. \nGuests & Non GRAWA Members are welcome! \nCost: $35.00 (includes a $10 donation to AHA) \nRSVP by February 1 \nREGISTRATION: \nhttps://checkout.square.site/buy/CBCCMOVKA6GO6VYXPXBFH5RM \n  \nRed\, White & Brew of Rochester – 147 State Street\, Rochester\, NY 14614 \n  \n$35 (including a $10 donation to AHA)
URL:https://www.wbasny.org/event/grawas-annual-wear-red-for-go-red-event/
END:VEVENT
BEGIN:VEVENT
DTSTART;TZID=America/New_York:20230206T180000
DTEND;TZID=America/New_York:20230206T210000
DTSTAMP:20260421T003807
CREATED:20220826T151317Z
LAST-MODIFIED:20220826T151317Z
UID:61882-1675706400-1675717200@www.wbasny.org
SUMMARY:Officers Zoom Meeting
DESCRIPTION:Officers Zoom Meeting
URL:https://www.wbasny.org/event/officers-zoom-meeting-7/
ORGANIZER;CN="WBASNY":MAILTO:events@wbasny.org
END:VEVENT
BEGIN:VEVENT
DTSTART;TZID=America/New_York:20230207T120000
DTEND;TZID=America/New_York:20230207T130000
DTSTAMP:20260421T003807
CREATED:20230106T204541Z
LAST-MODIFIED:20230106T204541Z
UID:64592-1675771200-1675774800@www.wbasny.org
SUMMARY:GRAWA Diversity Committee Meeting
DESCRIPTION:GRAWA Diversity Committee Meeting\n\n\nGRAWA Diversity Committee Meeting on Zoom. \nVirtual \n\n\n\nE-mail Erin at eelmouji@woodsoviatt.com to RSVP
URL:https://www.wbasny.org/event/grawa-diversity-committee-meeting-5/
END:VEVENT
BEGIN:VEVENT
DTSTART;TZID=America/New_York:20230207T173000
DTEND;TZID=America/New_York:20230207T183000
DTSTAMP:20260421T003807
CREATED:20230117T152322Z
LAST-MODIFIED:20230117T152322Z
UID:64709-1675791000-1675794600@www.wbasny.org
SUMMARY:Torts Committee
DESCRIPTION:Torts committee will be having a zoom meeting on Feb 7 at 5:30pm.
URL:https://www.wbasny.org/event/torts-committee/
ORGANIZER;CN="WBASNY":MAILTO:events@wbasny.org
END:VEVENT
BEGIN:VEVENT
DTSTART;TZID=America/New_York:20230207T180000
DTEND;TZID=America/New_York:20230207T200000
DTSTAMP:20260421T003807
CREATED:20230116T182524Z
LAST-MODIFIED:20230116T182524Z
UID:64682-1675792800-1675800000@www.wbasny.org
SUMMARY:Student Loans: What Lawyers Need to Know
DESCRIPTION:CLICK HERE TO RSVP
URL:https://www.wbasny.org/event/student-loans-what-lawyers-need-to-know/
END:VEVENT
BEGIN:VEVENT
DTSTART;TZID=America/New_York:20230208T120000
DTEND;TZID=America/New_York:20230208T130000
DTSTAMP:20260421T003807
CREATED:20230203T155616Z
LAST-MODIFIED:20230203T155616Z
UID:64888-1675857600-1675861200@www.wbasny.org
SUMMARY:Del-Chen-O Lunch with a Judge Series
DESCRIPTION:The next session will feature Justice of the Supreme Court\, Appellate Division- Third Department Molly R. Fitzgerald. \n  \nPlease save the time and date on your calendar: \n  \n12:00 noon\, Wednesday\, February 8\, 2023  
URL:https://www.wbasny.org/event/del-chen-o-lunch-with-a-judge-series/
END:VEVENT
BEGIN:VEVENT
DTSTART;TZID=America/New_York:20230208T180000
DTEND;TZID=America/New_York:20230208T190000
DTSTAMP:20260421T003807
CREATED:20230124T154320Z
LAST-MODIFIED:20230124T154320Z
UID:64796-1675879200-1675882800@www.wbasny.org
SUMMARY:Nutrition 101 and Benefits of High Intensity Interval Training
DESCRIPTION:  \nWBASNY Wellness Committee\nNutrition 101 and Benefits of High Intensity Interval Training \nFebruary 8\, 2023\n6:00 – 7:00 pm \nTheresa DeLorenzo\, R.D.\, will offer Nutrition Tidbits: mindful eating\, disease prevention\, food fad pitfalls\, nutrients of concern\, and nutrient timing with work outs.  WBASNY’s own Erin R. Lynch will give an overview of High Intensity Interval Training (HIIT)\, and its health benefits. \nThis is a free\, virtual program.\n \nABOUT THE INSTRUCTORS\n \nTheresa DeLorenzo is a Registered Dietician who is also a 200-hour trained yoga teacher with a certificate in yoga therapy providing emphasis on improving body image.  She is also the owner and founder of Nutrition for Optimal Performance\, working with athletes to make sure they are eating the correct proportion of macro and micro nutrients to perform at their best. \n \nErin R. Lynch is an attorney\, mom\, and fitness instructor.  Her path to fitness began when her father brought her to the school track to run laps as a little girl.  She dedicated years to running and eventually found greater health benefits from incorporating strength training and yoga into her life.  Erin is a certified yoga teacher (200 YTT)\, kids yoga instructor\, and Hot HIIT instructor.  She teaches at a hot yoga studio in the Capital Region. \nREGISTER HERE
URL:https://www.wbasny.org/event/nutrition-101-and-benefits-of-high-intensity-interval-training/
ORGANIZER;CN="WBASNY":MAILTO:events@wbasny.org
END:VEVENT
BEGIN:VEVENT
DTSTART;TZID=America/New_York:20230209T080000
DTEND;TZID=America/New_York:20230209T170000
DTSTAMP:20260421T003807
CREATED:20230116T202116Z
LAST-MODIFIED:20230116T202116Z
UID:64689-1675929600-1675962000@www.wbasny.org
SUMMARY:Judge's Choice Dinner with Hon. Brenda Freedman
DESCRIPTION:Judge’s Choice Dinner with Hon. Brenda Freedman \nThursday\, February 9   \nSave the Date – details and information will follow soon!
URL:https://www.wbasny.org/event/judges-choice-dinner-with-hon-brenda-freedman/
ORGANIZER;CN="Western New York Women's Bar Association":MAILTO:wbasnywny@gmail.com
END:VEVENT
BEGIN:VEVENT
DTSTART;TZID=America/New_York:20230209T123000
DTEND;TZID=America/New_York:20230209T133000
DTSTAMP:20260421T003807
CREATED:20230120T183023Z
LAST-MODIFIED:20230120T183023Z
UID:64757-1675945800-1675949400@www.wbasny.org
SUMMARY:Lunch with Hon. Celeste Bailey
DESCRIPTION:Women’s Bar Association of Orange and Sullivan Counties\n\n\n\n\n\n\n\n  \n\n\n\n\n\n\n\nPlease join us as our Lunch with a Judge series continues! \n  \nOrange County Support Magistrate \nHonorable Celeste Bailey \n  \nFebruary 9\, 2023 at 12:30pm \n  \nDelancey’s \n40 Park Place \nGoshen\, New York \n  \n  \n$20 members/$25 non-members \nPlease RSVP to rsvp@wbaosc.org \n  \n 
URL:https://www.wbasny.org/event/lunch-with-hon-celeste-bailey/
END:VEVENT
BEGIN:VEVENT
DTSTART;TZID=America/New_York:20230209T123000
DTEND;TZID=America/New_York:20230209T133000
DTSTAMP:20260421T003807
CREATED:20230206T210753Z
LAST-MODIFIED:20230206T210753Z
UID:64904-1675945800-1675949400@www.wbasny.org
SUMMARY:Lunch with Hon. Celeste Bailey
DESCRIPTION:Thursday\, February 9\, 2023 12:30 pm \nChapter: Orange-Sullivan \nName of event: Lunch with a Judge Series \nDescription of event: Please join us as our Lunch with a Judge series continues! Orange County Support Magistrate Honorable Celeste Bailey. \nHow will the event be held: In-Person \nHost(s): Orange and Sullivan Counties Women’s Bar Association \nLocation (if in person): Delancey’s\, 40 Park Place\, Goshen\, New York \nCost of event: $20 members/$25 non-members \nRegistration email / link: rsvp@wbaosc.org
URL:https://www.wbasny.org/event/lunch-with-hon-celeste-bailey-2/
END:VEVENT
BEGIN:VEVENT
DTSTART;TZID=America/New_York:20230210T190000
DTEND;TZID=America/New_York:20230210T200000
DTSTAMP:20260421T003807
CREATED:20230206T212429Z
LAST-MODIFIED:20230206T212429Z
UID:64917-1676055600-1676059200@www.wbasny.org
SUMMARY:"Away We Go"
DESCRIPTION:“Away We Go”\n \nNYWBA Director Olivia Sohmer will be singing with the Blue Hill Troupe in a concert entitled “Away We Go\,” featuring selections from Gilbert & Sullivan and musical theatre.\n \nFriday\, February 10\, 2023\, 7 p.m.\nNew York City Bar Association\n42 West 44th Street\, New York\, NY 10036. \n\nNo RSVP required; children welcomed (child-friendly program).  The program is about an hour long\, and FREE!  Any donations made to the Blue Hill Troupe at www.bht.org will be gratefully accepted and will go to this year’s charity partner\, LSA Family Health Service’s Parenting & Child Development program (PCD).
URL:https://www.wbasny.org/event/away-we-go/
END:VEVENT
END:VCALENDAR