BEGIN:VCALENDAR
VERSION:2.0
PRODID:-//wbasny - ECPv6.15.20//NONSGML v1.0//EN
CALSCALE:GREGORIAN
METHOD:PUBLISH
X-ORIGINAL-URL:https://www.wbasny.org
X-WR-CALDESC:Events for wbasny
REFRESH-INTERVAL;VALUE=DURATION:PT1H
X-Robots-Tag:noindex
X-PUBLISHED-TTL:PT1H
BEGIN:VTIMEZONE
TZID:America/New_York
BEGIN:DAYLIGHT
TZOFFSETFROM:-0500
TZOFFSETTO:-0400
TZNAME:EDT
DTSTART:20240310T070000
END:DAYLIGHT
BEGIN:STANDARD
TZOFFSETFROM:-0400
TZOFFSETTO:-0500
TZNAME:EST
DTSTART:20241103T060000
END:STANDARD
BEGIN:DAYLIGHT
TZOFFSETFROM:-0500
TZOFFSETTO:-0400
TZNAME:EDT
DTSTART:20250309T070000
END:DAYLIGHT
BEGIN:STANDARD
TZOFFSETFROM:-0400
TZOFFSETTO:-0500
TZNAME:EST
DTSTART:20251102T060000
END:STANDARD
BEGIN:DAYLIGHT
TZOFFSETFROM:-0500
TZOFFSETTO:-0400
TZNAME:EDT
DTSTART:20260308T070000
END:DAYLIGHT
BEGIN:STANDARD
TZOFFSETFROM:-0400
TZOFFSETTO:-0500
TZNAME:EST
DTSTART:20261101T060000
END:STANDARD
BEGIN:DAYLIGHT
TZOFFSETFROM:-0500
TZOFFSETTO:-0400
TZNAME:EDT
DTSTART:20270314T070000
END:DAYLIGHT
BEGIN:STANDARD
TZOFFSETFROM:-0400
TZOFFSETTO:-0500
TZNAME:EST
DTSTART:20271107T060000
END:STANDARD
END:VTIMEZONE
BEGIN:VEVENT
DTSTART;TZID=America/New_York:20251218T120000
DTEND;TZID=America/New_York:20251218T130000
DTSTAMP:20260420T132940
CREATED:20251001T142413Z
LAST-MODIFIED:20251001T142413Z
UID:92561-1766059200-1766062800@www.wbasny.org
SUMMARY:Book Club Committee (Western New York Chapter)
DESCRIPTION:Book Club Committee \nDecember 18\, 2025\n12N – 1:0 PM\nThe Salty Chef\n111 Genesee Street\, #103\nBuffalo\, NY 14203
URL:https://www.wbasny.org/event/book-club-committee-western-new-york-chapter/
ORGANIZER;CN="Western New York Women's Bar Association":MAILTO:wbasnywny@gmail.com
END:VEVENT
BEGIN:VEVENT
DTSTART;TZID=America/New_York:20251218T173000
DTEND;TZID=America/New_York:20251218T200000
DTSTAMP:20260420T132940
CREATED:20251124T190211Z
LAST-MODIFIED:20251124T190211Z
UID:95404-1766079000-1766088000@www.wbasny.org
SUMMARY:Holiday Party (Rockland Chapter)
DESCRIPTION:RSVP: You can register HERE
URL:https://www.wbasny.org/event/holiday-party-rockland-chapter-2/
END:VEVENT
BEGIN:VEVENT
DTSTART;TZID=America/New_York:20251219T180000
DTEND;TZID=America/New_York:20251219T210000
DTSTAMP:20260420T132940
CREATED:20251216T160543Z
LAST-MODIFIED:20251216T160543Z
UID:96538-1766167200-1766178000@www.wbasny.org
SUMMARY:Annual Holiday Party (Orange and Sullivan Chapter)
DESCRIPTION:
URL:https://www.wbasny.org/event/annual-holiday-party-orange-and-sullivan-chapter/
END:VEVENT
BEGIN:VEVENT
DTSTART;TZID=America/New_York:20260105T113000
DTEND;TZID=America/New_York:20260105T140000
DTSTAMP:20260420T132940
CREATED:20251229T162143Z
LAST-MODIFIED:20251229T162143Z
UID:97434-1767612600-1767621600@www.wbasny.org
SUMMARY:Guardianship Open House (New York Chapter)
DESCRIPTION:January 5\, 2026\, 11:30am-2:oopm \nGuardianship Open House \nAll guardianship attorneys who practice in NY County\, NY County court examiners\, Guardianship Diversity Initiative members\, and NYWBA Elder Law Committee members are cordially invited to meet and chat with the NY County Guardianship Bench and Bar! \nIn-Person \n60 Centre Street\, Room 540\, New York\, NY 10007 \nGuardianship Open House Sponsored by NY Guardianship Judges
URL:https://www.wbasny.org/event/guardianship-open-house-new-york-chapter/
END:VEVENT
BEGIN:VEVENT
DTSTART;TZID=America/New_York:20260107T123000
DTEND;TZID=America/New_York:20260107T140000
DTSTAMP:20260420T132940
CREATED:20251204T150558Z
LAST-MODIFIED:20251204T150558Z
UID:96082-1767789000-1767794400@www.wbasny.org
SUMMARY:Lunch with a Judge (Brooklyn Chapter)
DESCRIPTION:  RSVP  
URL:https://www.wbasny.org/event/lunch-with-a-judge-brooklyn-chapter-2/
END:VEVENT
BEGIN:VEVENT
DTSTART;TZID=America/New_York:20260108T130000
DTEND;TZID=America/New_York:20260108T140000
DTSTAMP:20260420T132940
CREATED:20251229T161944Z
LAST-MODIFIED:20251229T161944Z
UID:97432-1767877200-1767880800@www.wbasny.org
SUMMARY:NYWBA Solo and Small Firm Practice Lunch and Learn: Stop Prosecuting Yourself
DESCRIPTION:January 8\, 2026\, 1:00pm \nNYWBA Solo and Small Firm Practice Lunch and Learn: Stop Prosecuting Yourself \nStop Prosecuting Yourself: How Women Lawyers in Solo & Small Firm Practice Can Lead\, Decide\, and Think With More Clarity and Less Self-Judgment. \nfeaturing Renee Pardo\, Esq.\, of Renee Pardo Coaching. \nVirtual \nNYWBA Solo and Small Firm Practice Lunch and Learn: Stop Prosecuting Yourself
URL:https://www.wbasny.org/event/nywba-solo-and-small-firm-practice-lunch-and-learn-stop-prosecuting-yourself/
END:VEVENT
BEGIN:VEVENT
DTSTART;TZID=America/New_York:20260109T130000
DTEND;TZID=America/New_York:20260109T140000
DTSTAMP:20260420T132940
CREATED:20251229T161213Z
LAST-MODIFIED:20251229T161213Z
UID:97430-1767963600-1767967200@www.wbasny.org
SUMMARY:CLE- Immigration Committee Presents a Pro Bono Training Series
DESCRIPTION:January 9\, 2026 1:00 pm \nNYWBA Webinar: Immigration Committee Presents a Pro Bono Training Series | CLE Program \nTrauma informed lawyering & our ethical obligations. \nVirtual \nNYWBA Webinar: Immigration Committee Presents a Pro Bono Training Series | CLE Program
URL:https://www.wbasny.org/event/cle-immigration-committee-presents-a-pro-bono-training-series/
END:VEVENT
BEGIN:VEVENT
DTSTART;TZID=America/New_York:20260112T180000
DTEND;TZID=America/New_York:20260112T190000
DTSTAMP:20260420T132940
CREATED:20251229T160903Z
LAST-MODIFIED:20251229T160903Z
UID:97428-1768240800-1768244400@www.wbasny.org
SUMMARY:NYWBA Join us for a Phone-A-Thon!
DESCRIPTION:January 12\, 2026 6:00 pm – 7:00 pm \nNYWBA Join us for a Phone-A-Thon! \nCome together for an evening of purpose\, connection\, and community impact. We’ll gather in person\, enjoy light refreshments\, and team up to make renewal calls to members of our organization. \nLet’s support our mission\, strengthen our membership\, and have a great time doing it! \nIn-Person \n805 Third Avenue\, Suite 2030\, New York\, NY \nJoin us for a Phone-A-Thon!
URL:https://www.wbasny.org/event/nywba-join-us-for-a-phone-a-thon/
END:VEVENT
BEGIN:VEVENT
DTSTART;TZID=America/New_York:20260113T173000
DTEND;TZID=America/New_York:20260113T203000
DTSTAMP:20260420T132940
CREATED:20260112T180306Z
LAST-MODIFIED:20260112T180306Z
UID:97740-1768325400-1768336200@www.wbasny.org
SUMMARY:CLE- Receiving and Living Through the Settelement
DESCRIPTION:
URL:https://www.wbasny.org/event/cle-receiving-and-living-through-the-settelement/
END:VEVENT
BEGIN:VEVENT
DTSTART;TZID=America/New_York:20260113T180000
DTEND;TZID=America/New_York:20260113T200000
DTSTAMP:20260420T132940
CREATED:20250829T210454Z
LAST-MODIFIED:20250829T210454Z
UID:90476-1768327200-1768334400@www.wbasny.org
SUMMARY:Officers Zoom Meeting (WBASNY)
DESCRIPTION:Officers Zoom Meeting \nVirutal
URL:https://www.wbasny.org/event/officers-zoom-meeting-wbasny-2/
ORGANIZER;CN="WBASNY":MAILTO:events@wbasny.org
END:VEVENT
BEGIN:VEVENT
DTSTART;TZID=America/New_York:20260114T130000
DTEND;TZID=America/New_York:20260114T143000
DTSTAMP:20260420T132940
CREATED:20251229T153413Z
LAST-MODIFIED:20251229T153413Z
UID:97413-1768395600-1768401000@www.wbasny.org
SUMMARY:WBASNY Ladies Who Lunch Hour
DESCRIPTION:WBASNY Wellness Committee\ncordially invites you to the\nLadies Who Lunch Hour \nJanuary 14\, 2026\n1:00 – 2:15 pm \nHealthy Living for Your Brain and Body \nJoin us to learn about current research in the areas of diet and nutrition\, exercise\, cognitive activity and social engagement\, and how to incorporate these recommendations into building a plan for healthy aging. \n \nThera Blasio\nProgram Manager\nAlzheimer’s Association’s Rochester & Finger Lakes Region Chapter \nThera Blasio joined the Chapter in 2019 following a career working in residential communities including Assisted Living for older adults.  Currently\, Thera’s role focuses on building relationships and providing education in Monroe County. Her goals are to provide awareness and education to special constituencies such as professional caregivers\, employers and working caregivers\, and deaf and hard of hearing members of our community. \nKimberly Duguay\, Esq. / Lisa M. Licata\, Esq.\nCo-Chairs\, WBASNY Wellness Committee \nREGISTER HERE
URL:https://www.wbasny.org/event/wbasny-ladies-who-lunch-hour/
ORGANIZER;CN="WBASNY":MAILTO:events@wbasny.org
END:VEVENT
BEGIN:VEVENT
DTSTART;TZID=America/New_York:20260114T193000
DTEND;TZID=America/New_York:20260114T203000
DTSTAMP:20260420T132940
CREATED:20251230T175540Z
LAST-MODIFIED:20251230T175540Z
UID:97456-1768419000-1768422600@www.wbasny.org
SUMMARY:Book Club (Orange and Sullivan Chapter)
DESCRIPTION:
URL:https://www.wbasny.org/event/book-club-orange-and-sullivan-chapter-2/
END:VEVENT
BEGIN:VEVENT
DTSTART;TZID=America/New_York:20260116T130000
DTEND;TZID=America/New_York:20260116T140000
DTSTAMP:20260420T132940
CREATED:20260102T170926Z
LAST-MODIFIED:20260102T170952Z
UID:97466-1768568400-1768572000@www.wbasny.org
SUMMARY:Start the Year with Direction Not Resolution Beyond the Business Card (Suffolk Chapter)
DESCRIPTION:https://us06web.zoom.us/j/86132669858?pwd=PxzAuefeJQ0rIGYptFAMpc2RdwlzKC.1
URL:https://www.wbasny.org/event/start-the-year-with-direction-not-resolution-beyond-the-business-card-suffolk-chapter/
END:VEVENT
BEGIN:VEVENT
DTSTART;TZID=America/New_York:20260122T173000
DTEND;TZID=America/New_York:20260122T193000
DTSTAMP:20260420T132940
CREATED:20260109T182432Z
LAST-MODIFIED:20260109T182432Z
UID:97734-1769103000-1769110200@www.wbasny.org
SUMMARY:18th Annual Judicial Reception (Rockland Chapter)
DESCRIPTION:
URL:https://www.wbasny.org/event/18th-annual-judicial-reception-rockland-chapter/
END:VEVENT
BEGIN:VEVENT
DTSTART;TZID=America/New_York:20260124T100000
DTEND;TZID=America/New_York:20260124T150000
DTSTAMP:20260420T132940
CREATED:20250814T150549Z
LAST-MODIFIED:20250829T210620Z
UID:89789-1769248800-1769266800@www.wbasny.org
SUMMARY:Board of Directors Meeting
DESCRIPTION:Board of Directors Meeting \nVirtual
URL:https://www.wbasny.org/event/board-of-directors-meeting-23/
ORGANIZER;CN="WBASNY":MAILTO:events@wbasny.org
END:VEVENT
BEGIN:VEVENT
DTSTART;TZID=America/New_York:20260124T150000
DTEND;TZID=America/New_York:20260124T170000
DTSTAMP:20260420T132940
CREATED:20251217T153650Z
LAST-MODIFIED:20251217T153650Z
UID:96630-1769266800-1769274000@www.wbasny.org
SUMMARY:Family Fun Day (Orange and Sullivan Chapters)
DESCRIPTION:
URL:https://www.wbasny.org/event/family-fun-day-orange-and-sullivan-chapters/
END:VEVENT
BEGIN:VEVENT
DTSTART;TZID=America/New_York:20260126T130000
DTEND;TZID=America/New_York:20260126T140000
DTSTAMP:20260420T132940
CREATED:20251229T160524Z
LAST-MODIFIED:20251229T160524Z
UID:97426-1769432400-1769436000@www.wbasny.org
SUMMARY:NYWBA Animal Law Committee Meeting
DESCRIPTION:January 26\, 2026 1:00 pm \nNYWBA Animal Law Committee Meeting \nZoom link will be circulated amongst the committee members in advance of the meeting. \nVirtual \nNYWBA Animal Law Committee Meeting
URL:https://www.wbasny.org/event/nywba-animal-law-committee-meeting-2/
END:VEVENT
BEGIN:VEVENT
DTSTART;TZID=America/New_York:20260128T130000
DTEND;TZID=America/New_York:20260128T140000
DTSTAMP:20260420T132940
CREATED:20260107T204544Z
LAST-MODIFIED:20260107T212949Z
UID:97686-1769605200-1769608800@www.wbasny.org
SUMMARY:CLE- Trauma Bonding and Its Impact on the Court System and Families
DESCRIPTION:Domestic Violence Committee  and the Suffolk and Westchester Chapters present \n  \nTrauma Bonding and\nIts Impact on the Court\nSystem and Families \n  \nJanuary 28\, 2026 \n  \n1:00 – 2:00 pm \n  \nTrauma bonding is an emotional attachment that can form in abusive relationships. Research highlights the strong association between trauma bonding\, criminal behavior and recidivism. This Program highlights Trauma Bonding’s Impact on families and the legal system. \n \nRobert I. Goldman\, Psy.D.\, J.D. \n \nHon. Caren Loguercio \n \nAmanda Roberts\, Esq. \n1.0 CLE Credits  \n(Transitional / Non-Transitional) \nCost:\nFree to Members \nNon-Members – $40 \nREGISTER HERE \nWBASNY is certified by the New York State Continuing Legal Education Board as an Accredited Provider of continuing legal education in the State of New York. Program approval is pending for a maximum of 1.0 transitional/non-transitional credit hours.​  \nFinancial hardship scholarship:  Full and partial scholarships for these programs based on financial need are available. A written request must be forwarded to the WBASNY President\, Post Office Box 936\, New York\, NY 10024-0546. All requests are confidential. 
URL:https://www.wbasny.org/event/cle-trauma-bonding-and-its-impact-on-the-court-system-and-families/
ORGANIZER;CN="WBASNY":MAILTO:events@wbasny.org
END:VEVENT
BEGIN:VEVENT
DTSTART;TZID=America/New_York:20260128T130000
DTEND;TZID=America/New_York:20260128T140000
DTSTAMP:20260420T132940
CREATED:20260119T180856Z
LAST-MODIFIED:20260119T180856Z
UID:98072-1769605200-1769608800@www.wbasny.org
SUMMARY:CLE-Evidence Series
DESCRIPTION:
URL:https://www.wbasny.org/event/cle-evidence-series/
END:VEVENT
BEGIN:VEVENT
DTSTART;TZID=America/New_York:20260128T173000
DTEND;TZID=America/New_York:20260128T183000
DTSTAMP:20260420T132940
CREATED:20251118T220256Z
LAST-MODIFIED:20251118T220256Z
UID:94778-1769621400-1769625000@www.wbasny.org
SUMMARY:Judiciary Night (Brooklyn Chapter)
DESCRIPTION:
URL:https://www.wbasny.org/event/judiciary-night-brooklyn-chapter-3/
END:VEVENT
BEGIN:VEVENT
DTSTART;TZID=America/New_York:20260129T130000
DTEND;TZID=America/New_York:20260129T140000
DTSTAMP:20260420T132940
CREATED:20260112T155250Z
LAST-MODIFIED:20260112T155250Z
UID:97737-1769691600-1769695200@www.wbasny.org
SUMMARY:CLE- Real Cases or Hallucinations? Generative AI in Legal Practice: Insights and Updates
DESCRIPTION:
URL:https://www.wbasny.org/event/cle-real-cases-or-hallucinations-generative-ai-in-legal-practice-insights-and-updates/
END:VEVENT
BEGIN:VEVENT
DTSTART;TZID=America/New_York:20260130T183000
DTEND;TZID=America/New_York:20260130T193000
DTSTAMP:20260420T132940
CREATED:20251111T180822Z
LAST-MODIFIED:20251111T180822Z
UID:94272-1769797800-1769801400@www.wbasny.org
SUMMARY:A Chapter Mixer!! (Capital District and Adirondack Chapters)
DESCRIPTION:JAN 30th at 6:30 pm:  \n\nA Chapter Mixer!!  \nThe Capital District & Adirondack chapters of WBASNY will be co-hosting an event at the Clifton Park Bunker.  \nSign ups and more details soon. Please mark your calendars now.
URL:https://www.wbasny.org/event/a-chapter-mixer-capital-district-and-adirondack-chapters/
END:VEVENT
BEGIN:VEVENT
DTSTART;TZID=America/New_York:20260204T180000
DTEND;TZID=America/New_York:20260204T190000
DTSTAMP:20260420T132940
CREATED:20260120T174453Z
LAST-MODIFIED:20260120T174453Z
UID:98265-1770228000-1770231600@www.wbasny.org
SUMMARY:Yoga with Friends (Rockland Chapter)
DESCRIPTION:You are invited to join the Rockland County Women’s Bar Association for an evening focused on unwinding and relaxing on a yoga mat with good friends!\nMats\, blocks and supportive props will be provided.\nWhen: Wednesday\, February 4\, 2026 from 6:00 – 7:00 PM\nWhere: District Yoga\n13 S. Broadway\nNyack\, New York 10960 \nCost: $20.00\,  Light snack and water will be provided; Click HERE to pay \nRSVP:  By February 2 via this link
URL:https://www.wbasny.org/event/yoga-with-friends-rockland-chapter/
END:VEVENT
BEGIN:VEVENT
DTSTART;TZID=America/New_York:20260210T130000
DTEND;TZID=America/New_York:20260210T140000
DTSTAMP:20260420T132940
CREATED:20260107T173312Z
LAST-MODIFIED:20260107T173312Z
UID:97562-1770728400-1770732000@www.wbasny.org
SUMMARY:NYWBA Elder Law and Disabilities Committee Lunch and Learn
DESCRIPTION:February 10\, 2026 1:00 pm \nNYWBA Elder Law and Disabilities Committee Lunch and Learn \nBring your questions for City Council Member Crystal Hudson\, who in February 2025 introduced a resolution to call upon the State Legislature to introduce and pass legislation to create a statewide public guardianship system. \nVirtual \nREGISTER HERE
URL:https://www.wbasny.org/event/nywba-elder-law-and-disabilities-committee-lunch-and-learn/
END:VEVENT
BEGIN:VEVENT
DTSTART;TZID=America/New_York:20260211T130000
DTEND;TZID=America/New_York:20260211T140000
DTSTAMP:20260420T132940
CREATED:20260119T181015Z
LAST-MODIFIED:20260119T181015Z
UID:98076-1770814800-1770818400@www.wbasny.org
SUMMARY:CLE- Evidence Series
DESCRIPTION:
URL:https://www.wbasny.org/event/cle-evidence-series-2/
END:VEVENT
BEGIN:VEVENT
DTSTART;TZID=America/New_York:20260212T130000
DTEND;TZID=America/New_York:20260212T140000
DTSTAMP:20260420T132940
CREATED:20251229T160224Z
LAST-MODIFIED:20260116T220503Z
UID:97424-1770901200-1770904800@www.wbasny.org
SUMMARY:NYWBA Solo and Small Firm Practice Lunch and Learn: All Things Real Estate in NY
DESCRIPTION:February 12\, 2026 1:00 pm \nNYWBA Solo and Small Firm Practice Lunch and Learn: All Things Real Estate in NY \nAll Things Real Estate in NY\nThe Speakers will be Leslie Hirsch and Howard Morrell\, Esq. from Christie’s International Real Estate in NY \nVirtual \nNYWBA Solo and Small Firm Committee \nNYWBA Solo and Small Firm Practice Lunch and Learn: All Things Real Estate in NY
URL:https://www.wbasny.org/event/nywba-solo-and-small-frim-practice-lunch-and-learn-all-things-real-estate-in-ny/
END:VEVENT
BEGIN:VEVENT
DTSTART;TZID=America/New_York:20260217T130000
DTEND;TZID=America/New_York:20260217T140000
DTSTAMP:20260420T132940
CREATED:20260205T182320Z
LAST-MODIFIED:20260205T182442Z
UID:98878-1771333200-1771336800@www.wbasny.org
SUMMARY:The Use of Force by Federal Agents (Brooklyn Chapter)
DESCRIPTION:RSVP Now
URL:https://www.wbasny.org/event/the-use-of-force-by-federal-agents-brooklyn-chapter/
END:VEVENT
BEGIN:VEVENT
DTSTART;TZID=America/New_York:20260218T123000
DTEND;TZID=America/New_York:20260218T143000
DTSTAMP:20260420T132940
CREATED:20260210T154504Z
LAST-MODIFIED:20260210T154504Z
UID:99057-1771417800-1771425000@www.wbasny.org
SUMMARY:Black History Month Celebration: A Century of Black History Commemorations (Brooklyn Chapter)
DESCRIPTION:
URL:https://www.wbasny.org/event/black-history-month-celebration-a-century-of-black-history-commemorations-brooklyn-chapter/
END:VEVENT
BEGIN:VEVENT
DTSTART;TZID=America/New_York:20260219T130000
DTEND;TZID=America/New_York:20260219T140000
DTSTAMP:20260420T132940
CREATED:20260122T181644Z
LAST-MODIFIED:20260122T181644Z
UID:98372-1771506000-1771509600@www.wbasny.org
SUMMARY:CLE- U.S Supreme Court Update: The Constitutional Rights of Parents
DESCRIPTION:ERA / Women’s Civil Rights Committee presents \n  \nU.S. Supreme Court Update: The Constitutional Rights\nof Parents \n  \nFebruary 19\, 2026 \n  \n1:00 – 2:00 pm \n  \nThis program will explore the evolution of the constitutional rights of parents to make decisions concerning care\, custody and control of their children and to direct their children’s religious upbringing.  \n \nDebra S. Cohen\, Esq. \n \nLouise A. Derevlany\, Esq. \n1.0 CLE Credits  \n(Transitional / Non-Transitional) \n\nCost:\nFree to Members \nNon-Members – $40 \nREGISTER HERE \nWBASNY is certified by the New York State Continuing Legal Education Board as an Accredited Provider of continuing legal education in the State of New York. Program approval is pending for a maximum of 1.0 transitional/non-transitional credit hours.​ \n  \nFinancial hardship scholarship:  Full and partial scholarships for these programs based on financial need are available. A written request must be forwarded to the WBASNY President\, Post Office Box 936\, New York\, NY 10024-0546. All requests are confidential.
URL:https://www.wbasny.org/event/cle-u-s-supreme-court-update-the-constitutional-rights-of-parents/
ORGANIZER;CN="WBASNY":MAILTO:events@wbasny.org
END:VEVENT
BEGIN:VEVENT
DTSTART;TZID=America/New_York:20260219T130000
DTEND;TZID=America/New_York:20260219T140000
DTSTAMP:20260420T132940
CREATED:20260216T154216Z
LAST-MODIFIED:20260216T154216Z
UID:99346-1771506000-1771509600@www.wbasny.org
SUMMARY:NYWBA Social Media Committee Meeting
DESCRIPTION:February 19\, 2026 1:00 pm – 2:00 pm \nNYWBA Social Media Committee Meeting \nJoin the NYWBA’s newly formed Social Media Committee as we work to increase the NYWBA’s presence online. The Committee welcomes input from members as we develop our Social Media Action Plan. This month will focus on strategy\, review of plan\, and other updates. \nVirtual \nNYWBA Social Media Committee Meeting
URL:https://www.wbasny.org/event/nywba-social-media-committee-meeting/
END:VEVENT
END:VCALENDAR