BEGIN:VCALENDAR
VERSION:2.0
PRODID:-//wbasny - ECPv6.15.20//NONSGML v1.0//EN
CALSCALE:GREGORIAN
METHOD:PUBLISH
X-WR-CALNAME:wbasny
X-ORIGINAL-URL:https://www.wbasny.org
X-WR-CALDESC:Events for wbasny
REFRESH-INTERVAL;VALUE=DURATION:PT1H
X-Robots-Tag:noindex
X-PUBLISHED-TTL:PT1H
BEGIN:VTIMEZONE
TZID:America/New_York
BEGIN:DAYLIGHT
TZOFFSETFROM:-0500
TZOFFSETTO:-0400
TZNAME:EDT
DTSTART:20180311T070000
END:DAYLIGHT
BEGIN:STANDARD
TZOFFSETFROM:-0400
TZOFFSETTO:-0500
TZNAME:EST
DTSTART:20181104T060000
END:STANDARD
BEGIN:DAYLIGHT
TZOFFSETFROM:-0500
TZOFFSETTO:-0400
TZNAME:EDT
DTSTART:20190310T070000
END:DAYLIGHT
BEGIN:STANDARD
TZOFFSETFROM:-0400
TZOFFSETTO:-0500
TZNAME:EST
DTSTART:20191103T060000
END:STANDARD
BEGIN:DAYLIGHT
TZOFFSETFROM:-0500
TZOFFSETTO:-0400
TZNAME:EDT
DTSTART:20200308T070000
END:DAYLIGHT
BEGIN:STANDARD
TZOFFSETFROM:-0400
TZOFFSETTO:-0500
TZNAME:EST
DTSTART:20201101T060000
END:STANDARD
END:VTIMEZONE
BEGIN:VTIMEZONE
TZID:UTC
BEGIN:STANDARD
TZOFFSETFROM:+0000
TZOFFSETTO:+0000
TZNAME:UTC
DTSTART:20180101T000000
END:STANDARD
END:VTIMEZONE
BEGIN:VEVENT
DTSTART;TZID=America/New_York:20191020T094500
DTEND;TZID=America/New_York:20191020T123000
DTSTAMP:20260426T001054
CREATED:20191002T210037Z
LAST-MODIFIED:20191002T210044Z
UID:48401-1571564700-1571574600@www.wbasny.org
SUMMARY:American Cancer Society's Making Strides Against Breast Cancer
DESCRIPTION:Brooklyn Chapter
URL:https://www.wbasny.org/event/american-cancer-societys-making-strides-against-breast-cancer/
LOCATION:Coney Island Board Walk\, MCU Park\, Brooklyn\, NY
END:VEVENT
BEGIN:VEVENT
DTSTART;TZID=UTC:20191020T080000
DTEND;TZID=UTC:20191020T170000
DTSTAMP:20260426T001054
CREATED:20190816T184311Z
LAST-MODIFIED:20190925T212240Z
UID:47529-1571558400-1571590800@www.wbasny.org
SUMMARY:Making Strides Against Breast Cancer
DESCRIPTION:Queens County Chapter
URL:https://www.wbasny.org/event/making-strides-against-breast-cancer/
LOCATION:Flushing Meadow Corona Park\, Grand Central Parkway\, Flushing Meadows\, NY
END:VEVENT
BEGIN:VEVENT
DTSTART;TZID=America/New_York:20191020T080000
DTEND;TZID=America/New_York:20191020T100000
DTSTAMP:20260426T001054
CREATED:20190923T211425Z
LAST-MODIFIED:20190923T211430Z
UID:48192-1571558400-1571565600@www.wbasny.org
SUMMARY:Breast Cancer Walk
DESCRIPTION:Mid-Hudson Chapter
URL:https://www.wbasny.org/event/breast-cancer-walk/
LOCATION:Woodbury Commons Premium Outlets\, 498 Red Apple Court\, Central Valley\, NY
END:VEVENT
BEGIN:VEVENT
DTSTART;TZID=America/New_York:20191019T173000
DTEND;TZID=America/New_York:20191020T203000
DTSTAMP:20260426T001054
CREATED:20190911T201700Z
LAST-MODIFIED:20190911T201706Z
UID:47853-1571506200-1571603400@www.wbasny.org
SUMMARY:NCWBA Weekend of Cures!
DESCRIPTION:Nassau County Chapter
URL:https://www.wbasny.org/event/ncwba-weekend-of-cures/
LOCATION:Eisenhower Park
END:VEVENT
BEGIN:VEVENT
DTSTART;TZID=America/New_York:20191019T130000
DTEND;TZID=America/New_York:20191019T150000
DTSTAMP:20260426T001054
CREATED:20191011T213339Z
LAST-MODIFIED:20191011T213352Z
UID:48545-1571490000-1571497200@www.wbasny.org
SUMMARY:Local Artist Book Signing
DESCRIPTION:Mid-York Chapter
URL:https://www.wbasny.org/event/local-artist-book-signing/
LOCATION:Consumer Square\, 4481 Commercial Drive\, Hartford\, NY\, 12508
END:VEVENT
BEGIN:VEVENT
DTSTART;TZID=America/New_York:20191019T130000
DTEND;TZID=America/New_York:20191019T150000
DTSTAMP:20260426T001054
CREATED:20190923T205529Z
LAST-MODIFIED:20190923T205536Z
UID:48174-1571490000-1571497200@www.wbasny.org
SUMMARY:Luncheon with Professor Isabel Marcus
DESCRIPTION:Western New York Chapter
URL:https://www.wbasny.org/event/luncheon-with-professor-isabel-marcus/
LOCATION:South Lake Village Community Room
ORGANIZER;CN="Western New York Women's Bar Association":MAILTO:wbasnywny@gmail.com
END:VEVENT
BEGIN:VEVENT
DTSTART;TZID=America/New_York:20191018T121500
DTEND;TZID=America/New_York:20191018T150000
DTSTAMP:20260426T001054
CREATED:20191015T205809Z
LAST-MODIFIED:20191015T205822Z
UID:48595-1571400900-1571410800@www.wbasny.org
SUMMARY:October Lunch Meeting
DESCRIPTION:Mid York Chapter
URL:https://www.wbasny.org/event/october-lunch-meeting/
LOCATION:Bagg’s Square Cafe\, 421 Broad Street\, Utica\, NY
END:VEVENT
BEGIN:VEVENT
DTSTART;TZID=America/New_York:20191018T080000
DTEND;TZID=America/New_York:20191018T170000
DTSTAMP:20260426T001054
CREATED:20191017T203703Z
LAST-MODIFIED:20191017T203710Z
UID:48639-1571385600-1571418000@www.wbasny.org
SUMMARY:JALBCA Annual Luncheon
DESCRIPTION:JALBCA
URL:https://www.wbasny.org/event/jalbca-annual-luncheon/
LOCATION:Bronx County Hall Of Justice\, 265 East 161st Street\, Room 691\, New York\, New York\, 10451
END:VEVENT
BEGIN:VEVENT
DTSTART;TZID=America/New_York:20191017T180000
DTEND;TZID=America/New_York:20191017T220000
DTSTAMP:20260426T001054
CREATED:20190911T204617Z
LAST-MODIFIED:20190911T204623Z
UID:47886-1571335200-1571349600@www.wbasny.org
SUMMARY:Every Home A Safe Home- Annual Gala
DESCRIPTION:Nassau County Chapter
URL:https://www.wbasny.org/event/every-home-a-safe-home-annual-gala/
LOCATION:Garden City Hotel
END:VEVENT
BEGIN:VEVENT
DTSTART;TZID=UTC:20191017T173000
DTEND;TZID=UTC:20191017T213000
DTSTAMP:20260426T001054
CREATED:20190522T191119Z
LAST-MODIFIED:20191003T205825Z
UID:46322-1571333400-1571347800@www.wbasny.org
SUMMARY:35th Anniversary Celebration
DESCRIPTION:Western New York Chapter New York Chapter
URL:https://www.wbasny.org/event/wnywba-annual-installation-dinner/
LOCATION:Asbury Hall\, 341 Delaware Avenue\, Buffalo\, NY\, 14202\, United States
ORGANIZER;CN="Western New York Women's Bar Association":MAILTO:wbasnywny@gmail.com
END:VEVENT
BEGIN:VEVENT
DTSTART;TZID=America/New_York:20191017T123000
DTEND;TZID=America/New_York:20191017T153000
DTSTAMP:20260426T001054
CREATED:20191008T152722Z
LAST-MODIFIED:20191008T152837Z
UID:48452-1571315400-1571326200@www.wbasny.org
SUMMARY:"Lunch with a Judge" Invites You to attend Lunch with Honorable Robert A. Onofry
DESCRIPTION:Orange-Sullivan County Chapter
URL:https://www.wbasny.org/event/lunch-with-a-judge-invites-you-to-attend-lunch-with-honorable-robert-a-onofry/
LOCATION:Delancey’s\, 40 Park Place\, Goshen\, 10924\, United States
END:VEVENT
BEGIN:VEVENT
DTSTART;TZID=America/New_York:20191017T090000
DTEND;TZID=America/New_York:20191017T170000
DTSTAMP:20260426T001054
CREATED:20190924T211341Z
LAST-MODIFIED:20190924T211349Z
UID:48227-1571302800-1571331600@www.wbasny.org
SUMMARY:Corporate Counsel Institute 2019
DESCRIPTION:Queens County Chapter
URL:https://www.wbasny.org/event/corporate-counsel-institute-2019/
LOCATION:Kelly Drye & Warren LLP\, 101 Park Ave\, New York\, NY\, 10178
END:VEVENT
BEGIN:VEVENT
DTSTART;TZID=America/New_York:20191017T083000
DTEND;TZID=America/New_York:20191017T123000
DTSTAMP:20260426T001054
CREATED:20190911T194739Z
LAST-MODIFIED:20190911T194751Z
UID:47806-1571301000-1571315400@www.wbasny.org
SUMMARY:22nd Annual Stop F.E.A.R. Criminal Justice Conference
DESCRIPTION:Rockland Chapter
URL:https://www.wbasny.org/event/22nd-annual-stop-f-e-a-r-criminal-justice-conference/
LOCATION:Suny Rockland Community College\, TBD
END:VEVENT
BEGIN:VEVENT
DTSTART;TZID=America/New_York:20191017T080000
DTEND;TZID=America/New_York:20191017T170000
DTSTAMP:20260426T001054
CREATED:20191017T205434Z
LAST-MODIFIED:20191017T205442Z
UID:48651-1571299200-1571331600@www.wbasny.org
SUMMARY:Breast Cancer Awareness Lunch
DESCRIPTION:JALBCA
URL:https://www.wbasny.org/event/breast-cancer-awareness-lunch/
LOCATION:Westchester County Courthouse\, 9th Floor Conference Room\, 111 Dr. Martin Luther king\, Jr. Blvd\, White Plains\, NY\, 10601
END:VEVENT
BEGIN:VEVENT
DTSTART;TZID=America/New_York:20191017T080000
DTEND;TZID=America/New_York:20191017T170000
DTSTAMP:20260426T001054
CREATED:20191017T202545Z
LAST-MODIFIED:20191017T202558Z
UID:48632-1571299200-1571331600@www.wbasny.org
SUMMARY:Honoring Justice David B. Vaughan
DESCRIPTION:Brooklyn Chapter
URL:https://www.wbasny.org/event/honoring-justice-david-b-vaughan/
LOCATION:El Caribe Country Club\, 5945 Strickland Avenue\, Brooklyn\, New York\, 11234
END:VEVENT
BEGIN:VEVENT
DTSTART;TZID=America/New_York:20191016T183000
DTEND;TZID=America/New_York:20191016T203000
DTSTAMP:20260426T001054
CREATED:20190924T210856Z
LAST-MODIFIED:20190924T210908Z
UID:48222-1571250600-1571257800@www.wbasny.org
SUMMARY:2019 Haywood Burns Award Ceremony and Symposium
DESCRIPTION:Queens County Chapter
URL:https://www.wbasny.org/event/2019-haywood-burns-award-ceremony-and-symposium/
LOCATION:CUNY School of Law\, 2 Ct. Square W\, Room 1/202\, Long Island City\, NY\, 11101\, United States
END:VEVENT
BEGIN:VEVENT
DTSTART;TZID=America/New_York:20191016T180000
DTEND;TZID=America/New_York:20191016T210000
DTSTAMP:20260426T001054
CREATED:20190917T215650Z
LAST-MODIFIED:20190917T215753Z
UID:48072-1571248800-1571259600@www.wbasny.org
SUMMARY:Book Club
DESCRIPTION:Orange-Sullivan Chapter
URL:https://www.wbasny.org/event/book-club/
LOCATION:The Barking Goose\, TBD
END:VEVENT
BEGIN:VEVENT
DTSTART;TZID=America/New_York:20191016T173000
DTEND;TZID=America/New_York:20191016T200000
DTSTAMP:20260426T001054
CREATED:20191010T205029Z
LAST-MODIFIED:20191010T205046Z
UID:48503-1571247000-1571256000@www.wbasny.org
SUMMARY:Domestic Violence Clinic
DESCRIPTION:Adirondack Chapter
URL:https://www.wbasny.org/event/domestic-violence-clinic/
LOCATION:Catholic Charities\, Glen Falls
END:VEVENT
BEGIN:VEVENT
DTSTART;TZID=America/New_York:20191016T130000
DTEND;TZID=America/New_York:20191016T163000
DTSTAMP:20260426T001054
CREATED:20191003T212454Z
LAST-MODIFIED:20191003T212506Z
UID:48421-1571230800-1571243400@www.wbasny.org
SUMMARY:Hispanic Heritage Month Luncheon at Bronx Supreme Court
DESCRIPTION:Bronx Chapter
URL:https://www.wbasny.org/event/hispanic-heritage-month-luncheon-at-bronx-supreme-court/
LOCATION:Bronx County Supreme Court\, 851 Grand Concourse\, Bronx\, NY\, 10451\, United States
END:VEVENT
BEGIN:VEVENT
DTSTART;TZID=America/New_York:20191016T121500
DTEND;TZID=America/New_York:20191016T140000
DTSTAMP:20260426T001054
CREATED:20191010T210752Z
LAST-MODIFIED:20191010T210758Z
UID:48516-1571228100-1571234400@www.wbasny.org
SUMMARY:Domestic Violence Month Awareness
DESCRIPTION:Suffolk County Chapter
URL:https://www.wbasny.org/event/domestic-violence-month-awareness/
LOCATION:John P. Cohalan Jr. Courthouse\, 400 Carleton Avenue\, Central Islip\, NY
END:VEVENT
BEGIN:VEVENT
DTSTART;TZID=America/New_York:20191016T083000
DTEND;TZID=America/New_York:20191016T120000
DTSTAMP:20260426T001054
CREATED:20190925T214017Z
LAST-MODIFIED:20190925T214029Z
UID:48258-1571214600-1571227200@www.wbasny.org
SUMMARY:"Housing Rights for Persons with Disabilities Under the New York State Human Rights Law"
DESCRIPTION:Rockland County Chapter
URL:https://www.wbasny.org/event/housing-rights-for-persons-with-disabilities-under-the-new-york-state-human-rights-law/
LOCATION:Suny Rockland Community College\, TBD
END:VEVENT
BEGIN:VEVENT
DTSTART;TZID=America/New_York:20191015T180000
DTEND;TZID=America/New_York:20191015T210000
DTSTAMP:20260426T001054
CREATED:20191008T153937Z
LAST-MODIFIED:20191008T153954Z
UID:48458-1571162400-1571173200@www.wbasny.org
SUMMARY:"Presumptive ADR" Discussion
DESCRIPTION:Queens County Chapter
URL:https://www.wbasny.org/event/presumptive-adr-discussion-2/
LOCATION:ll Bacco\, 253-24 Northern Boulevard\, Little Neck\, NY\, 11362
END:VEVENT
BEGIN:VEVENT
DTSTART;TZID=America/New_York:20191015T180000
DTEND;TZID=America/New_York:20191015T210000
DTSTAMP:20260426T001054
CREATED:20190927T203903Z
LAST-MODIFIED:20190927T203915Z
UID:48287-1571162400-1571173200@www.wbasny.org
SUMMARY:Hispanic Heritage Celebration
DESCRIPTION:Brooklyn Chapter
URL:https://www.wbasny.org/event/hispanic-heritage-celebration/
LOCATION:123 Remsen Street\, 123 Remsen Street\, Brooklyn\, NY
END:VEVENT
BEGIN:VEVENT
DTSTART;TZID=America/New_York:20191015T180000
DTEND;TZID=America/New_York:20191015T200000
DTSTAMP:20260426T001054
CREATED:20190924T210151Z
LAST-MODIFIED:20190924T210157Z
UID:48215-1571162400-1571169600@www.wbasny.org
SUMMARY:"Presumptive ADR" Discussion
DESCRIPTION:Queens County Chapter
URL:https://www.wbasny.org/event/presumptive-adr-discussion/
LOCATION:ll Bacco\, 253-24 Northern Boulevard\, Little Neck\, NY\, 11362
END:VEVENT
BEGIN:VEVENT
DTSTART;TZID=America/New_York:20191015T073000
DTEND;TZID=America/New_York:20191015T210000
DTSTAMP:20260426T001054
CREATED:20190906T204639Z
LAST-MODIFIED:20190906T204643Z
UID:47697-1571124600-1571173200@www.wbasny.org
SUMMARY:Breast Cancer Awareness Month Breakfast
DESCRIPTION:Suffolk County
URL:https://www.wbasny.org/event/breast-cancer-awareness-month-breakfast/
LOCATION:560 Wheeler Road\, 560 Wheeler Road\, Hauppauge\, NY\, 11788
END:VEVENT
BEGIN:VEVENT
DTSTART;TZID=America/New_York:20191011T130000
DTEND;TZID=America/New_York:20191011T140000
DTSTAMP:20260426T001054
CREATED:20190911T201223Z
LAST-MODIFIED:20190911T201229Z
UID:47847-1570798800-1570802400@www.wbasny.org
SUMMARY:Hispanic Heritage Day In Courts
DESCRIPTION:Nassau County Chapter
URL:https://www.wbasny.org/event/hispanic-heritage-day-in-courts/
LOCATION:Supreme Court\, Nassau County
END:VEVENT
BEGIN:VEVENT
DTSTART;TZID=America/New_York:20191011T093000
DTEND;TZID=America/New_York:20191011T110000
DTSTAMP:20260426T001054
CREATED:20190930T213023Z
LAST-MODIFIED:20190930T213029Z
UID:48324-1570786200-1570791600@www.wbasny.org
SUMMARY:Tour-Erie County Correctional Facility
DESCRIPTION:Western New York Chapter
URL:https://www.wbasny.org/event/tour-erie-county-correctional-facility/
LOCATION:Erie County Correctional Facility\, 11581 Walden Avenue\, Alden\, New York\, 14004
ORGANIZER;CN="Western New York Women's Bar Association":MAILTO:wbasnywny@gmail.com
END:VEVENT
BEGIN:VEVENT
DTSTART;TZID=America/New_York:20191010T173000
DTEND;TZID=America/New_York:20191010T210000
DTSTAMP:20260426T001054
CREATED:20190911T200817Z
LAST-MODIFIED:20190911T200823Z
UID:47841-1570728600-1570741200@www.wbasny.org
SUMMARY:Meet The Candidates
DESCRIPTION:Nassau County Chapter
URL:https://www.wbasny.org/event/meet-the-candidates/
LOCATION:Davenport Press\, 70 Main Street\, Mineola\, New York\, 11501
END:VEVENT
BEGIN:VEVENT
DTSTART;TZID=America/New_York:20191010T130000
DTEND;TZID=America/New_York:20191010T140000
DTSTAMP:20260426T001054
CREATED:20190927T205159Z
LAST-MODIFIED:20190927T205212Z
UID:48292-1570712400-1570716000@www.wbasny.org
SUMMARY:"Lunch and Learn" A breast Cancer Workshop
DESCRIPTION:Queens County Chapter
URL:https://www.wbasny.org/event/lunch-and-learn-a-breast-cancer-workshop/
LOCATION:Supreme Court Queens County\, 88-11 Sutphin Boulevard\, Jamaica\, NY\, United States
END:VEVENT
BEGIN:VEVENT
DTSTART;VALUE=DATE:20191010
DTEND;VALUE=DATE:20191011
DTSTAMP:20260426T001054
CREATED:20191010T203910Z
LAST-MODIFIED:20191010T203910Z
UID:48501-1570665600-1570751999@www.wbasny.org
SUMMARY:World Mental Health Day
DESCRIPTION:
URL:https://www.wbasny.org/event/world-mental-health-day/
END:VEVENT
END:VCALENDAR