BEGIN:VCALENDAR
VERSION:2.0
PRODID:-//wbasny - ECPv6.15.20//NONSGML v1.0//EN
CALSCALE:GREGORIAN
METHOD:PUBLISH
X-WR-CALNAME:wbasny
X-ORIGINAL-URL:https://www.wbasny.org
X-WR-CALDESC:Events for wbasny
REFRESH-INTERVAL;VALUE=DURATION:PT1H
X-Robots-Tag:noindex
X-PUBLISHED-TTL:PT1H
BEGIN:VTIMEZONE
TZID:America/New_York
BEGIN:DAYLIGHT
TZOFFSETFROM:-0500
TZOFFSETTO:-0400
TZNAME:EDT
DTSTART:20180311T070000
END:DAYLIGHT
BEGIN:STANDARD
TZOFFSETFROM:-0400
TZOFFSETTO:-0500
TZNAME:EST
DTSTART:20181104T060000
END:STANDARD
BEGIN:DAYLIGHT
TZOFFSETFROM:-0500
TZOFFSETTO:-0400
TZNAME:EDT
DTSTART:20190310T070000
END:DAYLIGHT
BEGIN:STANDARD
TZOFFSETFROM:-0400
TZOFFSETTO:-0500
TZNAME:EST
DTSTART:20191103T060000
END:STANDARD
BEGIN:DAYLIGHT
TZOFFSETFROM:-0500
TZOFFSETTO:-0400
TZNAME:EDT
DTSTART:20200308T070000
END:DAYLIGHT
BEGIN:STANDARD
TZOFFSETFROM:-0400
TZOFFSETTO:-0500
TZNAME:EST
DTSTART:20201101T060000
END:STANDARD
END:VTIMEZONE
BEGIN:VTIMEZONE
TZID:UTC
BEGIN:STANDARD
TZOFFSETFROM:+0000
TZOFFSETTO:+0000
TZNAME:UTC
DTSTART:20180101T000000
END:STANDARD
END:VTIMEZONE
BEGIN:VEVENT
DTSTART;TZID=America/New_York:20191211T173000
DTEND;TZID=America/New_York:20191211T203000
DTSTAMP:20260425T233149
CREATED:20190927T211632Z
LAST-MODIFIED:20190927T211851Z
UID:48306-1576085400-1576096200@www.wbasny.org
SUMMARY:Annual Holiday Party
DESCRIPTION:Greater Rochester Chapter
URL:https://www.wbasny.org/event/annual-holiday-party/
LOCATION:344 Warren Avenue\, Rochester\, NY\, 14618
END:VEVENT
BEGIN:VEVENT
DTSTART;TZID=America/New_York:20191211T173000
DTEND;TZID=America/New_York:20191211T190000
DTSTAMP:20260425T233149
CREATED:20190923T212112Z
LAST-MODIFIED:20191104T212328Z
UID:48203-1576085400-1576090800@www.wbasny.org
SUMMARY:Save the Date for our Holiday Party
DESCRIPTION:Mid-Hudson Chapter
URL:https://www.wbasny.org/event/save-the-date-for-our-holiday-party/
LOCATION:Gastro’sPub\, 215 Huguenot Street\, New Paltz\, New York\, 12561
END:VEVENT
BEGIN:VEVENT
DTSTART;TZID=America/New_York:20191210T180000
DTEND;TZID=America/New_York:20191210T210000
DTSTAMP:20260425T233149
CREATED:20191202T224533Z
LAST-MODIFIED:20191202T224535Z
UID:49398-1576000800-1576011600@www.wbasny.org
SUMMARY:Mentorship Meeting
DESCRIPTION:Orange-Sullivan Counties Chapter
URL:https://www.wbasny.org/event/mentorship-meeting-2/
LOCATION:Eat This Bakery\, 8 Union Street\, Montgomery\, NY
END:VEVENT
BEGIN:VEVENT
DTSTART;TZID=America/New_York:20191210T180000
DTEND;TZID=America/New_York:20191210T210000
DTSTAMP:20260425T233149
CREATED:20191125T221550Z
LAST-MODIFIED:20191125T221552Z
UID:49375-1576000800-1576011600@www.wbasny.org
SUMMARY:Annual Holiday Party
DESCRIPTION:Suffolk County Chapter
URL:https://www.wbasny.org/event/annual-holiday-party-2/
LOCATION:Bonwit Inn\, 1 Vanderbilt Motor Parkway\, Commack\, NY\, 11725
END:VEVENT
BEGIN:VEVENT
DTSTART;TZID=UTC:20191210T130000
DTEND;TZID=UTC:20191210T140000
DTSTAMP:20260425T233149
CREATED:20190522T194330Z
LAST-MODIFIED:20190717T011316Z
UID:46344-1575982800-1575986400@www.wbasny.org
SUMMARY:Officers Conference Call
DESCRIPTION:WBASNY \n 
URL:https://www.wbasny.org/event/officers-conference-call-7/
LOCATION:Teleconference
ORGANIZER;CN="WBASNY":MAILTO:events@wbasny.org
END:VEVENT
BEGIN:VEVENT
DTSTART;TZID=America/New_York:20191210T121500
DTEND;TZID=America/New_York:20191210T150000
DTSTAMP:20260425T233149
CREATED:20191113T211807Z
LAST-MODIFIED:20191113T211815Z
UID:49231-1575980100-1575990000@www.wbasny.org
SUMMARY:Employment Law Committee
DESCRIPTION:Western New York Chapter
URL:https://www.wbasny.org/event/employment-law-committee/
LOCATION:Bar Association Offices\, 438 Main Street\, 6th Floor
ORGANIZER;CN="Western New York Women's Bar Association":MAILTO:wbasnywny@gmail.com
END:VEVENT
BEGIN:VEVENT
DTSTART;TZID=America/New_York:20191209T183000
DTEND;TZID=America/New_York:20191209T213000
DTSTAMP:20260425T233149
CREATED:20191025T211219Z
LAST-MODIFIED:20191025T211233Z
UID:48787-1575916200-1575927000@www.wbasny.org
SUMMARY:Literary Night- "Silent Agreements"
DESCRIPTION:Queens Chapter
URL:https://www.wbasny.org/event/literary-night-silent-agreements/
LOCATION:Kew & Willow Bookstore\, 81-63 Lefferts Boulevard\, Kew Gardens\, NY
END:VEVENT
BEGIN:VEVENT
DTSTART;TZID=America/New_York:20191209T120000
DTEND;TZID=America/New_York:20191209T133000
DTSTAMP:20260425T233149
CREATED:20191125T220304Z
LAST-MODIFIED:20191125T220343Z
UID:49368-1575892800-1575898200@www.wbasny.org
SUMMARY:Uncontested Divorce: Get it right the first time
DESCRIPTION:Orange-Sullivan Counties Chapter
URL:https://www.wbasny.org/event/uncontested-divorce-get-it-right-the-first-time/
LOCATION:Delancey’s Restaurant\, 40 Park Place\, Goshen\, NY
END:VEVENT
BEGIN:VEVENT
DTSTART;TZID=America/New_York:20191209T063000
DTEND;TZID=America/New_York:20191209T203000
DTSTAMP:20260425T233149
CREATED:20191121T224506Z
LAST-MODIFIED:20191121T224539Z
UID:49335-1575873000-1575923400@www.wbasny.org
SUMMARY:"Silent Agreements" How to Free your relationship of Unspoken Expectation
DESCRIPTION:Queens County Chapter
URL:https://www.wbasny.org/event/silent-agreements-how-to-free-your-relationships-of-unspoken-expectations/
LOCATION:Kew & Willow Bookstore\, 81-63 Lefferts Boulevard\, Kew Gardens\, NY
END:VEVENT
BEGIN:VEVENT
DTSTART;TZID=America/New_York:20191206T173000
DTEND;TZID=America/New_York:20191206T181500
DTSTAMP:20260425T233149
CREATED:20191113T213825Z
LAST-MODIFIED:20191113T213839Z
UID:49244-1575653400-1575656100@www.wbasny.org
SUMMARY:Celebrate the retirement of The Honorable Frank J. Labuda
DESCRIPTION:Orange-Sullivan Chapter
URL:https://www.wbasny.org/event/celebrate-the-retirement-of-the-honorable-frank-j-labuda/
LOCATION:The Sullivan\, 283 Rock Hill Drive\, Rock Hill\, NY\, 12775
END:VEVENT
BEGIN:VEVENT
DTSTART;TZID=America/New_York:20191205T180000
DTEND;TZID=America/New_York:20191205T210000
DTSTAMP:20260425T233149
CREATED:20191108T220539Z
LAST-MODIFIED:20191108T220546Z
UID:49185-1575568800-1575579600@www.wbasny.org
SUMMARY:Holiday Party
DESCRIPTION:Rockland County Chapter
URL:https://www.wbasny.org/event/holiday-party/
LOCATION:Restaurant X\, 117 North Route 303\, Congers\, NY\, 10920\, United States
END:VEVENT
BEGIN:VEVENT
DTSTART;TZID=America/New_York:20191205T080000
DTEND;TZID=America/New_York:20191205T121500
DTSTAMP:20260425T233149
CREATED:20191202T225921Z
LAST-MODIFIED:20191202T230257Z
UID:49408-1575532800-1575548100@www.wbasny.org
SUMMARY:Senior Law Day
DESCRIPTION:Staten Island Chapter
URL:https://www.wbasny.org/event/senior-law-day/
LOCATION:Staten Island Jewish Community Center\, 1466 Manor Road\, Staten Island\, NY\, 10314
END:VEVENT
BEGIN:VEVENT
DTSTART;TZID=America/New_York:20191204T173000
DTEND;TZID=America/New_York:20191204T200000
DTSTAMP:20260425T233149
CREATED:20191104T211237Z
LAST-MODIFIED:20191104T211248Z
UID:49074-1575480600-1575489600@www.wbasny.org
SUMMARY:Brooklyn Women's Bar Foundation Hosts Holiday Celebration
DESCRIPTION:Brooklyn Chapter
URL:https://www.wbasny.org/event/brooklyn-womens-bar-foundation-hosts-holiday-celebration/
LOCATION:123 Remsen Street\, 123 Remsen Street\, Brooklyn\, NY
END:VEVENT
BEGIN:VEVENT
DTSTART;TZID=America/New_York:20191204T160000
DTEND;TZID=America/New_York:20191204T200000
DTSTAMP:20260425T233149
CREATED:20191113T210126Z
LAST-MODIFIED:20191118T164542Z
UID:49213-1575475200-1575489600@www.wbasny.org
SUMMARY:Holiday Shopping Party at Tony Walker & Co
DESCRIPTION:Western New York Chapter
URL:https://www.wbasny.org/event/holiday-shopping-party-at-tony-walker-co/
LOCATION:Tony Walker & Co
ORGANIZER;CN="Western New York Women's Bar Association":MAILTO:wbasnywny@gmail.com
END:VEVENT
BEGIN:VEVENT
DTSTART;TZID=America/New_York:20191204T120000
DTEND;TZID=America/New_York:20191204T170000
DTSTAMP:20260425T233149
CREATED:20191203T211735Z
LAST-MODIFIED:20191206T161536Z
UID:49419-1575460800-1575478800@www.wbasny.org
SUMMARY:CLE Webinar- "All Rights Reserved:Intellectual Property Issues in Divorce Matters"
DESCRIPTION:Intellectual Property Committee
URL:https://www.wbasny.org/event/cle-webinar-all-rights-reservedintellectual-property-issues-in-divorce-matters/
LOCATION:Cle Webinar
ORGANIZER;CN="WBASNY":MAILTO:events@wbasny.org
END:VEVENT
BEGIN:VEVENT
DTSTART;TZID=America/New_York:20191203T193000
DTEND;TZID=America/New_York:20191203T220000
DTSTAMP:20260425T233149
CREATED:20191125T213814Z
LAST-MODIFIED:20191125T213815Z
UID:49357-1575401400-1575410400@www.wbasny.org
SUMMARY:The Honorable Judge Ruchie Freier
DESCRIPTION:Rockland County Chapter
URL:https://www.wbasny.org/event/the-honorable-judge-ruchie-freier/
LOCATION:Chabad of Rockland\, 315 N Main Street\, New City\, NY
END:VEVENT
BEGIN:VEVENT
DTSTART;TZID=America/New_York:20191203T183000
DTEND;TZID=America/New_York:20191203T230000
DTSTAMP:20260425T233149
CREATED:20191105T201947Z
LAST-MODIFIED:20191105T202124Z
UID:49137-1575397800-1575414000@www.wbasny.org
SUMMARY:Rivers Toney Watson Foundation For The Judicial Friends Inc.\, 38th Annual Gala at Terrace On The Park
DESCRIPTION:Brooklyn Chapter
URL:https://www.wbasny.org/event/rivers-toney-watson-foundation-for-the-judicial-friends-inc-38th-annual-gala-at-terrace-on-the-park/
LOCATION:Terrace On The Park\, 52-11 111th Street\, Flushing\, New York\, 11368
END:VEVENT
BEGIN:VEVENT
DTSTART;TZID=America/New_York:20191203T183000
DTEND;TZID=America/New_York:20191203T213000
DTSTAMP:20260425T233149
CREATED:20191021T214949Z
LAST-MODIFIED:20191031T141124Z
UID:48717-1575397800-1575408600@www.wbasny.org
SUMMARY:Annual Judicial Gala
DESCRIPTION:Staten Island Chapter
URL:https://www.wbasny.org/event/annual-judicial-gala/
LOCATION:Hilton\, Staten Island\, 1100 South Avenue\, Staten Island\, NY\, 10314
END:VEVENT
BEGIN:VEVENT
DTSTART;TZID=America/New_York:20191203T180000
DTEND;TZID=America/New_York:20191203T210000
DTSTAMP:20260425T233149
CREATED:20191108T215551Z
LAST-MODIFIED:20191108T215648Z
UID:49177-1575396000-1575406800@www.wbasny.org
SUMMARY:Holiday Cocktail Party & Mittens Drive
DESCRIPTION:Nassau County Chapter
URL:https://www.wbasny.org/event/holiday-cocktail-party-mittens-drive/
LOCATION:Novita Wine Bar & Trattoria\, 860 Franklin Avenue\, Garden City\, NY\, 12508
END:VEVENT
BEGIN:VEVENT
DTSTART;TZID=America/New_York:20191203T180000
DTEND;TZID=America/New_York:20191203T200000
DTSTAMP:20260425T233149
CREATED:20191029T213912Z
LAST-MODIFIED:20191029T214026Z
UID:48893-1575396000-1575403200@www.wbasny.org
SUMMARY:CLE - How to Avoid Malpractive When Dividing the Retirement Benefits
DESCRIPTION:Westchester Chapter
URL:https://www.wbasny.org/event/cle-how-to-avoid-malpractive-when-dividing-the-retirement-benefits/
LOCATION:Pace Law School\, 78 North Broadway\, White Plains\, NY 10603-3710\, White Plains\, NY\, 10603
ORGANIZER;CN="Westchester Women's Bar Association":MAILTO:executivedirector@wwbany.org
END:VEVENT
BEGIN:VEVENT
DTSTART;TZID=America/New_York:20191203T173000
DTEND;TZID=America/New_York:20191203T193000
DTSTAMP:20260425T233149
CREATED:20191202T222900Z
LAST-MODIFIED:20191202T222901Z
UID:49386-1575394200-1575401400@www.wbasny.org
SUMMARY:NAWA Happy Hour Event
DESCRIPTION:Greater Rochester Chapter
URL:https://www.wbasny.org/event/nawa-happy-hour-event/
LOCATION:NATIVE Eatery and Bar\, 180 South Clinton Avenue\, Rochester\, NY\, 14604\, United States
END:VEVENT
BEGIN:VEVENT
DTSTART;TZID=America/New_York:20191203T080000
DTEND;TZID=America/New_York:20191203T090000
DTSTAMP:20260425T233149
CREATED:20191120T225300Z
LAST-MODIFIED:20191202T222508Z
UID:49322-1575360000-1575363600@www.wbasny.org
SUMMARY:Breakfast Club Round Table
DESCRIPTION:Queens County Chapter
URL:https://www.wbasny.org/event/breakfast-club-round-table-3/
LOCATION:80-02 Kew Gardens\, 80-02 Kew Gardens\, Suite 600\, Kew Gardens\, NY\, 11415
END:VEVENT
BEGIN:VEVENT
DTSTART;TZID=America/New_York:20191125T183000
DTEND;TZID=America/New_York:20191125T213000
DTSTAMP:20260425T233149
CREATED:20191104T212824Z
LAST-MODIFIED:20191113T214429Z
UID:49083-1574706600-1574717400@www.wbasny.org
SUMMARY:Save The Date for a CLE with Hon. Mario Mattei and Mathew Blum Esq.
DESCRIPTION:Staten Island Chapter
URL:https://www.wbasny.org/event/save-the-date-for-a-cle-with-hon-mario-mattei-and-mathew-blum-esq/
LOCATION:Bocelli Ristorante\, 1250 Hylan Blvd\,\, Staten Island\, NY\, 10305\, United States
END:VEVENT
BEGIN:VEVENT
DTSTART;TZID=America/New_York:20191123T123000
DTEND;TZID=America/New_York:20191123T160000
DTSTAMP:20260425T233149
CREATED:20191113T191601Z
LAST-MODIFIED:20191113T191614Z
UID:49197-1574512200-1574524800@www.wbasny.org
SUMMARY:Monthly Trip to The Veterans Nursing Home
DESCRIPTION:Rockland County Chapter
URL:https://www.wbasny.org/event/monthly-trip-to-the-veterans-nursing-home-2/
LOCATION:The Veterans Nursing Home\, 2090 Albany Road\, Route 9\, Montrose\, NY\, 10548
END:VEVENT
BEGIN:VEVENT
DTSTART;TZID=America/New_York:20191122T140000
DTEND;TZID=America/New_York:20191122T170000
DTSTAMP:20260425T233149
CREATED:20191029T143807Z
LAST-MODIFIED:20191029T143819Z
UID:48816-1574431200-1574442000@www.wbasny.org
SUMMARY:National Adoption Day
DESCRIPTION:Orange-Sullivan County Chapter
URL:https://www.wbasny.org/event/national-adoption-day/
LOCATION:Supreme Court Ceremonial Courtroom
END:VEVENT
BEGIN:VEVENT
DTSTART;TZID=America/New_York:20191122T140000
DTEND;TZID=America/New_York:20191122T170000
DTSTAMP:20260425T233149
CREATED:20190906T214552Z
LAST-MODIFIED:20190906T214733Z
UID:47747-1574431200-1574442000@www.wbasny.org
SUMMARY:Save The Date- National Adoption Day
DESCRIPTION:Orange-Sullivan Chapter
URL:https://www.wbasny.org/event/save-the-date-national-adoption-day/
LOCATION:Orange County Family Court\, 285 Main Street\, Goshen\, NY
END:VEVENT
BEGIN:VEVENT
DTSTART;TZID=America/New_York:20191122T124500
DTEND;TZID=America/New_York:20191122T133000
DTSTAMP:20260425T233149
CREATED:20191118T222517Z
LAST-MODIFIED:20191118T222646Z
UID:49298-1574426700-1574429400@www.wbasny.org
SUMMARY:Opening of Family Court Art Exhibit
DESCRIPTION:Mid-Hudson Chapter
URL:https://www.wbasny.org/event/opening-of-family-court-art-exhibit/
LOCATION:Dutchess county Family Court\, 50 Market Street\, 3rd. Floor\, Poughkeepsie\, NY
END:VEVENT
BEGIN:VEVENT
DTSTART;TZID=America/New_York:20191122T083000
DTEND;TZID=America/New_York:20191122T100000
DTSTAMP:20260425T233149
CREATED:20191113T212518Z
LAST-MODIFIED:20191113T212526Z
UID:49238-1574411400-1574416800@www.wbasny.org
SUMMARY:Women's Foundation Pathways to Progress Speakers Series
DESCRIPTION:Western New York Chapter
URL:https://www.wbasny.org/event/womens-foundation-pathways-to-progress-speakers-series/
LOCATION:Hyatt Place Amherst\, 5020 Main Street
ORGANIZER;CN="Western New York Women's Bar Association":MAILTO:wbasnywny@gmail.com
END:VEVENT
BEGIN:VEVENT
DTSTART;TZID=America/New_York:20191121T180000
DTEND;TZID=America/New_York:20191121T210000
DTSTAMP:20260425T233149
CREATED:20191114T212454Z
LAST-MODIFIED:20191114T212508Z
UID:49255-1574359200-1574370000@www.wbasny.org
SUMMARY:The November Book Club Selection is:  An American Marriage by Tayari Jones
DESCRIPTION:Orange-Sullivan Chapter
URL:https://www.wbasny.org/event/the-november-book-club-selection-is-an-american-marriage-by-tayari-jones/
LOCATION:Larkin\, Ingrassia & Tepermayster\, 356 Meadow Avenue\, Newburgh\, NY\, 12550
END:VEVENT
BEGIN:VEVENT
DTSTART;TZID=America/New_York:20191120T173000
DTEND;TZID=America/New_York:20191120T190000
DTSTAMP:20260425T233149
CREATED:20191113T184928Z
LAST-MODIFIED:20191113T184942Z
UID:49190-1574271000-1574276400@www.wbasny.org
SUMMARY:Americanah By Chimamanda Ngozi Adichie
DESCRIPTION:Western New York Chapter
URL:https://www.wbasny.org/event/americanah-by-chimamanda-ngozi-adichie/
LOCATION:Coco Bar and Bistro\, 888 Main Street\, Buffalo\, NY\, 14202\, United States
ORGANIZER;CN="Western New York Women's Bar Association":MAILTO:wbasnywny@gmail.com
END:VEVENT
END:VCALENDAR