BEGIN:VCALENDAR
VERSION:2.0
PRODID:-//wbasny - ECPv6.15.20//NONSGML v1.0//EN
CALSCALE:GREGORIAN
METHOD:PUBLISH
X-WR-CALNAME:wbasny
X-ORIGINAL-URL:https://www.wbasny.org
X-WR-CALDESC:Events for wbasny
REFRESH-INTERVAL;VALUE=DURATION:PT1H
X-Robots-Tag:noindex
X-PUBLISHED-TTL:PT1H
BEGIN:VTIMEZONE
TZID:America/New_York
BEGIN:DAYLIGHT
TZOFFSETFROM:-0500
TZOFFSETTO:-0400
TZNAME:EDT
DTSTART:20200308T070000
END:DAYLIGHT
BEGIN:STANDARD
TZOFFSETFROM:-0400
TZOFFSETTO:-0500
TZNAME:EST
DTSTART:20201101T060000
END:STANDARD
BEGIN:DAYLIGHT
TZOFFSETFROM:-0500
TZOFFSETTO:-0400
TZNAME:EDT
DTSTART:20210314T070000
END:DAYLIGHT
BEGIN:STANDARD
TZOFFSETFROM:-0400
TZOFFSETTO:-0500
TZNAME:EST
DTSTART:20211107T060000
END:STANDARD
BEGIN:DAYLIGHT
TZOFFSETFROM:-0500
TZOFFSETTO:-0400
TZNAME:EDT
DTSTART:20220313T070000
END:DAYLIGHT
BEGIN:STANDARD
TZOFFSETFROM:-0400
TZOFFSETTO:-0500
TZNAME:EST
DTSTART:20221106T060000
END:STANDARD
END:VTIMEZONE
BEGIN:VEVENT
DTSTART;TZID=America/New_York:20210421T173000
DTEND;TZID=America/New_York:20210421T190000
DTSTAMP:20260422T185811
CREATED:20210310T152158Z
LAST-MODIFIED:20210310T152217Z
UID:54485-1619026200-1619031600@www.wbasny.org
SUMMARY:Book Club - Podcast Edition
DESCRIPTION:Western New York Chapter
URL:https://www.wbasny.org/event/book-club-podcast-edition/
ORGANIZER;CN="Western New York Women's Bar Association":MAILTO:wbasnywny@gmail.com
END:VEVENT
BEGIN:VEVENT
DTSTART;TZID=America/New_York:20210420T173000
DTEND;TZID=America/New_York:20210420T193000
DTSTAMP:20260422T185811
CREATED:20210413T145009Z
LAST-MODIFIED:20210413T145020Z
UID:54853-1618939800-1618947000@www.wbasny.org
SUMMARY:NYWBA Annual Meeting & Ethics CLE
DESCRIPTION:New York Chapter
URL:https://www.wbasny.org/event/nywba-annual-meeting-ethics-cle/
END:VEVENT
BEGIN:VEVENT
DTSTART;TZID=America/New_York:20210417T160000
DTEND;TZID=America/New_York:20210417T180000
DTSTAMP:20260422T185812
CREATED:20210331T144100Z
LAST-MODIFIED:20210331T144111Z
UID:54689-1618675200-1618682400@www.wbasny.org
SUMMARY:Private Zoom Art Museum Tours: Davis Museum at Wellesley College
DESCRIPTION:New York Chapter
URL:https://www.wbasny.org/event/private-zoom-art-museum-tours-davis-museum-at-wellesley-college/
END:VEVENT
BEGIN:VEVENT
DTSTART;TZID=America/New_York:20210416T120000
DTEND;TZID=America/New_York:20210416T140000
DTSTAMP:20260422T185812
CREATED:20210322T144046Z
LAST-MODIFIED:20210322T144046Z
UID:54575-1618574400-1618581600@www.wbasny.org
SUMMARY:Voter Suppression CLE
DESCRIPTION:Greater Rochester Chapter  \nFriday\, April 16 @ noon: Voter Suppression CLE – an attorney-moderated joint discussion with Deborah Hughes and Dr. Arlette Miller Smith.
URL:https://www.wbasny.org/event/voter-suppression-cle/
END:VEVENT
BEGIN:VEVENT
DTSTART;TZID=America/New_York:20210415T193000
DTEND;TZID=America/New_York:20210415T213000
DTSTAMP:20260422T185812
CREATED:20210322T142938Z
LAST-MODIFIED:20210322T143238Z
UID:54573-1618515000-1618522200@www.wbasny.org
SUMMARY:Books and Bottles: "In The Dream House"
DESCRIPTION:Greater Rochester Chapter \nThurs\, April 15 @ 7:30PM: Books and Bottles: “In the Dream House” by Carmen Maria Machado\, beverage information to follow.
URL:https://www.wbasny.org/event/books-and-bottles-in-the-dream-house/
END:VEVENT
BEGIN:VEVENT
DTSTART;TZID=America/New_York:20210415T180000
DTEND;TZID=America/New_York:20210415T200000
DTSTAMP:20260422T185812
CREATED:20210402T144616Z
LAST-MODIFIED:20210402T144616Z
UID:54733-1618509600-1618516800@www.wbasny.org
SUMMARY:The Spring Sing
DESCRIPTION:Bronx\, Brooklyn\, New York\, Staten Island\, Queens Chapters
URL:https://www.wbasny.org/event/the-spring-sing/
END:VEVENT
BEGIN:VEVENT
DTSTART;TZID=America/New_York:20210415T180000
DTEND;TZID=America/New_York:20210415T200000
DTSTAMP:20260422T185812
CREATED:20210303T152928Z
LAST-MODIFIED:20210303T152928Z
UID:54411-1618509600-1618516800@www.wbasny.org
SUMMARY:WWBA Virtual Book Club - "Sea Wife" by Amity Gaige
DESCRIPTION:Westchester Chapter
URL:https://www.wbasny.org/event/wwba-virtual-book-club-sea-wife-by-amity-gaige/
ORGANIZER;CN="Westchester Women's Bar Association":MAILTO:executivedirector@wwbany.org
END:VEVENT
BEGIN:VEVENT
DTSTART;TZID=America/New_York:20210415T130000
DTEND;TZID=America/New_York:20210415T140000
DTSTAMP:20260422T185812
CREATED:20210413T145253Z
LAST-MODIFIED:20210413T145302Z
UID:54857-1618491600-1618495200@www.wbasny.org
SUMMARY:Commercial and Residential\, Non-Payment Proceedings (PETITIONER’S CASE) Virtual Mock Trial (Part 1)
DESCRIPTION:New York Chapter
URL:https://www.wbasny.org/event/commercial-and-residential-non-payment-proceedings-petitioners-case-virtual-mock-trial-part-1/
END:VEVENT
BEGIN:VEVENT
DTSTART;TZID=America/New_York:20210414T180000
DTEND;TZID=America/New_York:20210414T200000
DTSTAMP:20260422T185812
CREATED:20210322T161737Z
LAST-MODIFIED:20210322T161744Z
UID:54595-1618423200-1618430400@www.wbasny.org
SUMMARY:A Continuing Lecture Series on Diversity & Inclusion the Legal Profession: Perspectives from the Bench and the Bar
DESCRIPTION:Westchester Chapter
URL:https://www.wbasny.org/event/a-continuing-lecture-series-on-diversity-inclusion-the-legal-profession-perspectives-from-the-bench-and-the-bar/
ORGANIZER;CN="Westchester Women's Bar Association":MAILTO:executivedirector@wwbany.org
END:VEVENT
BEGIN:VEVENT
DTSTART;TZID=America/New_York:20210414T130000
DTEND;TZID=America/New_York:20210414T150000
DTSTAMP:20260422T185812
CREATED:20210331T151312Z
LAST-MODIFIED:20210331T151329Z
UID:54705-1618405200-1618412400@www.wbasny.org
SUMMARY:Lunch with Hon. Craig S. Walker
DESCRIPTION:Brooklyn Chapter
URL:https://www.wbasny.org/event/lunch-with-hon-craig-s-walker/
END:VEVENT
BEGIN:VEVENT
DTSTART;TZID=America/New_York:20210412T183000
DTEND;TZID=America/New_York:20210412T203000
DTSTAMP:20260422T185812
CREATED:20210409T145724Z
LAST-MODIFIED:20210409T145734Z
UID:54793-1618252200-1618259400@www.wbasny.org
SUMMARY:Fourteenth Annual Holocaust Remembrance Program\, QWBA Co-Sponsors With Brandeis Bar Association
DESCRIPTION:Queens Chapter \n\nQWBA CO SPONSORS WITH BRANDEIS BAR ASSOCIATION\, “Fourteenth Annual Holocaust Remembrance Program – Holocaust Survivor Testifies” \, Monday\, April 12\, 2021 at 6:30 PM via zoom\, zoom link to follow
URL:https://www.wbasny.org/event/fourteenth-annual-holocaust-remembrance-program-qwba-co-sponsors-with-brandeis-bar-association/
END:VEVENT
BEGIN:VEVENT
DTSTART;TZID=America/New_York:20210412T180000
DTEND;TZID=America/New_York:20210412T193000
DTSTAMP:20260422T185812
CREATED:20200817T205255Z
LAST-MODIFIED:20200817T205304Z
UID:52180-1618250400-1618255800@www.wbasny.org
SUMMARY:Officers Conference Call
DESCRIPTION:WBASNY \n 
URL:https://www.wbasny.org/event/officers-conference-call-5/
END:VEVENT
BEGIN:VEVENT
DTSTART;TZID=America/New_York:20210410T130000
DTEND;TZID=America/New_York:20210410T150000
DTSTAMP:20260422T185812
CREATED:20210322T155326Z
LAST-MODIFIED:20210322T155326Z
UID:54580-1618059600-1618066800@www.wbasny.org
SUMMARY:End of the Year Zoom Lunch
DESCRIPTION:Bronx Chapter
URL:https://www.wbasny.org/event/end-of-the-year-zoom-lunch/
END:VEVENT
BEGIN:VEVENT
DTSTART;TZID=America/New_York:20210408T180000
DTEND;TZID=America/New_York:20210408T200000
DTSTAMP:20260422T185812
CREATED:20210315T143455Z
LAST-MODIFIED:20210315T143509Z
UID:54525-1617904800-1617912000@www.wbasny.org
SUMMARY:Virtual Paint Night
DESCRIPTION:Brooklyn Chapter
URL:https://www.wbasny.org/event/virtual-paint-night/
END:VEVENT
BEGIN:VEVENT
DTSTART;TZID=America/New_York:20210408T180000
DTEND;TZID=America/New_York:20210408T200000
DTSTAMP:20260422T185812
CREATED:20210303T152037Z
LAST-MODIFIED:20210303T152037Z
UID:54405-1617904800-1617912000@www.wbasny.org
SUMMARY:When Life Hands You Lemons: An Attorney's Journey Through Quarantine as an at Home Chef (Book Club)
DESCRIPTION:New York Chapter
URL:https://www.wbasny.org/event/when-life-hands-you-lemons-an-attorneys-journey-through-quarantine-as-an-at-home-chef-book-club/
END:VEVENT
BEGIN:VEVENT
DTSTART;TZID=America/New_York:20210408T170000
DTEND;TZID=America/New_York:20210408T190000
DTSTAMP:20260422T185812
CREATED:20210303T152342Z
LAST-MODIFIED:20210303T152342Z
UID:54408-1617901200-1617908400@www.wbasny.org
SUMMARY:Planning for Medicaid Home Care in 2021: What you Need to Know NOW!
DESCRIPTION:New York Chapter
URL:https://www.wbasny.org/event/planning-for-medicaid-home-care-in-2021-what-you-need-to-know-now/
END:VEVENT
BEGIN:VEVENT
DTSTART;TZID=America/New_York:20210407T183000
DTEND;TZID=America/New_York:20210407T203000
DTSTAMP:20260422T185812
CREATED:20210322T161237Z
LAST-MODIFIED:20210322T161237Z
UID:54592-1617820200-1617827400@www.wbasny.org
SUMMARY:Honoring the Women of the United States Supreme Court
DESCRIPTION:Westchester Chapter
URL:https://www.wbasny.org/event/honoring-the-women-of-the-united-states-supreme-court/
ORGANIZER;CN="Westchester Women's Bar Association":MAILTO:executivedirector@wwbany.org
END:VEVENT
BEGIN:VEVENT
DTSTART;TZID=America/New_York:20210407T130000
DTEND;TZID=America/New_York:20210407T150000
DTSTAMP:20260422T185812
CREATED:20210322T155143Z
LAST-MODIFIED:20210322T155143Z
UID:54577-1617800400-1617807600@www.wbasny.org
SUMMARY:Special Zoom Lunch with Hon. Matthew Raso
DESCRIPTION:Bronx Chapter
URL:https://www.wbasny.org/event/special-zoom-lunch-with-hon-matthew-raso/
END:VEVENT
BEGIN:VEVENT
DTSTART;TZID=America/New_York:20210406T180000
DTEND;TZID=America/New_York:20210406T200000
DTSTAMP:20260422T185812
CREATED:20210331T150733Z
LAST-MODIFIED:20210331T150744Z
UID:54702-1617732000-1617739200@www.wbasny.org
SUMMARY:Returning to Workplace: Balancing Family Life While Practicing Law
DESCRIPTION:Nassau County Chapter
URL:https://www.wbasny.org/event/returning-to-workplace-balancing-family-life-while-practicing-law/
END:VEVENT
BEGIN:VEVENT
DTSTART;TZID=America/New_York:20210331T180000
DTEND;TZID=America/New_York:20210331T193000
DTSTAMP:20260422T185812
CREATED:20210215T155523Z
LAST-MODIFIED:20210215T155541Z
UID:54146-1617213600-1617219000@www.wbasny.org
SUMMARY:I AM SPEAKING: Being Your Authentic Self
DESCRIPTION:Brooklyn Chapter
URL:https://www.wbasny.org/event/i-am-speaking-being-your-authentic-self/
END:VEVENT
BEGIN:VEVENT
DTSTART;TZID=America/New_York:20210331T123000
DTEND;TZID=America/New_York:20210331T133000
DTSTAMP:20260422T185812
CREATED:20210324T144003Z
LAST-MODIFIED:20210324T144420Z
UID:54634-1617193800-1617197400@www.wbasny.org
SUMMARY:New York Mechanics' Liens - A Primer
DESCRIPTION:Orange-Sullivan Chapter \nNew York Mechanics’ Liens – A Primer \n by Lia E. Fierro\, Esq. \nA basic primer on mechanics’ liens in New York. This program will enable you to understand the types of mechanics’ liens available\, necessary content\, filing and service requirements\, amendments\, duration\, and extension. It will also address discharge and foreclosure of mechanics’ liens.  \n  \n1 hour CLE credit in Professional Practice  \nThursday March 31\, 2021 \nAttendance by Zoom 12:30 – 1:30 p.m. \n  \nRegister by replying to RSVP@wbaosc.org \n$10 for Non Members of WBASNY
URL:https://www.wbasny.org/event/new-york-mechanics-liens-a-primer-2/
END:VEVENT
BEGIN:VEVENT
DTSTART;TZID=America/New_York:20210331T123000
DTEND;TZID=America/New_York:20210331T133000
DTSTAMP:20260422T185812
CREATED:20210303T153611Z
LAST-MODIFIED:20210303T153611Z
UID:54417-1617193800-1617197400@www.wbasny.org
SUMMARY:Why HER and Not ME? How YOU Can be the Attorney Reporters Call
DESCRIPTION:Westchester Chapter
URL:https://www.wbasny.org/event/why-her-and-not-me-how-you-can-be-the-attorney-reporters-call/
ORGANIZER;CN="Westchester Women's Bar Association":MAILTO:executivedirector@wwbany.org
END:VEVENT
BEGIN:VEVENT
DTSTART;TZID=America/New_York:20210329T160000
DTEND;TZID=America/New_York:20210329T180000
DTSTAMP:20260422T185812
CREATED:20210129T220438Z
LAST-MODIFIED:20210129T220438Z
UID:54012-1617033600-1617040800@www.wbasny.org
SUMMARY:Women’s History Month: The Path to the Bench
DESCRIPTION:SAVE THE DATE!!! \nWomen’s History Month: The Path to the Bench \nA free 1.5-hour CLE program \nMarch 29\, 2021 @ 4 p.m. \n  \nIn recognition of Women’s History Month\, the Gender Fairness Committee of the Third Judicial District will present a two-part virtual program. Additionally\, the Gender Fairness Committee will announce and bestow the Hon. Leslie E. Stein Gender Equity Award. \n  \nIt will begin with a showing of the Committee’s documentary film\, “Blazing a Trail: Pioneering Women Judges of the Third Judicial District\,” a 30-minute program featuring interviews with the historic women who broke barriers throughout the judiciary.  \nNext\, a live panel discussion moderated by Hon. Rachel Kretser (Ret.)\, chair of the Gender Fairness Committee\, will reveal and discuss the logistical barriers to a career on the bench. The judges will discuss their personal experiences and reveal what really goes on behind the scene.  \n\nOn the panel are: \n• Hon. Andra Ackerman\, the first woman in the 300-year-history of Albany County to serve as County Court Judge. \n• Hon. Sherri Brooks-Morton\, the first ever female Family Court Judge of color in Albany County. \n• Hon. Lisa M. Fisher\, who was offered as a “sacrificial lamb” candidate against the favorite and pulled out an unlikely and historic victory. \n• Hon. Leslie E. Stein\, a woman who has climbed the judicial ladder from Albany City Court to Supreme Court to the Appellate Division and\, finally\, the Court of Appeals. \n\nRegistration is through our co-sponsor\, the Albany County Bar Association: https://zoom.us/webinar/register/WN_Hu-MPKrwSruTTfeKstoYNw
URL:https://www.wbasny.org/event/womens-history-month-the-path-to-the-bench/
END:VEVENT
BEGIN:VEVENT
DTSTART;TZID=America/New_York:20210329T130000
DTEND;TZID=America/New_York:20210329T150000
DTSTAMP:20260422T185812
CREATED:20210326T145449Z
LAST-MODIFIED:20210326T145627Z
UID:54649-1617022800-1617030000@www.wbasny.org
SUMMARY:Celebrating Women in the Law "Past and Present"
DESCRIPTION:Queens Chapter
URL:https://www.wbasny.org/event/celebrating-women-in-the-law-past-and-present/
END:VEVENT
BEGIN:VEVENT
DTSTART;TZID=America/New_York:20210326T123000
DTEND;TZID=America/New_York:20210326T140000
DTSTAMP:20260422T185812
CREATED:20210322T160630Z
LAST-MODIFIED:20210324T152804Z
UID:54588-1616761800-1616767200@www.wbasny.org
SUMMARY:Valiant Women of the Year: Refusing To Be Silenced 2021
DESCRIPTION:Westchester Chapter
URL:https://www.wbasny.org/event/refusing-to-be-silenced-2021/
ORGANIZER;CN="Westchester Women's Bar Association":MAILTO:executivedirector@wwbany.org
END:VEVENT
BEGIN:VEVENT
DTSTART;TZID=America/New_York:20210325T200000
DTEND;TZID=America/New_York:20210325T220000
DTSTAMP:20260422T185812
CREATED:20210305T152653Z
LAST-MODIFIED:20210305T152653Z
UID:54440-1616702400-1616709600@www.wbasny.org
SUMMARY:Managing Your Personal Brand
DESCRIPTION:Bronx Chapter
URL:https://www.wbasny.org/event/managing-your-personal-brand/
END:VEVENT
BEGIN:VEVENT
DTSTART;TZID=America/New_York:20210325T180000
DTEND;TZID=America/New_York:20210325T200000
DTSTAMP:20260422T185812
CREATED:20210216T173148Z
LAST-MODIFIED:20210216T173201Z
UID:54195-1616695200-1616702400@www.wbasny.org
SUMMARY:WNY Paint Night
DESCRIPTION:Western New York Chapter
URL:https://www.wbasny.org/event/wny-paint-night/
ORGANIZER;CN="Western New York Women's Bar Association":MAILTO:wbasnywny@gmail.com
END:VEVENT
BEGIN:VEVENT
DTSTART;TZID=America/New_York:20210325T160000
DTEND;TZID=America/New_York:20210325T180000
DTSTAMP:20260422T185812
CREATED:20210315T144257Z
LAST-MODIFIED:20210315T144324Z
UID:54531-1616688000-1616695200@www.wbasny.org
SUMMARY:Queens Chapter - Women's History Month Celebration
DESCRIPTION:Queens Chapter
URL:https://www.wbasny.org/event/womens-history-month/
END:VEVENT
BEGIN:VEVENT
DTSTART;TZID=America/New_York:20210325T123000
DTEND;TZID=America/New_York:20210325T140000
DTSTAMP:20260422T185812
CREATED:20210218T212652Z
LAST-MODIFIED:20210309T201933Z
UID:54214-1616675400-1616680800@www.wbasny.org
SUMMARY:The Role of Women's Organizations in Shattering Glass Ceilings
DESCRIPTION:WBASNY / NAWJ NY Chapter \n \n \nFrom\nAssociate Justice of The United States Supreme Court\nRuth Bader Ginsburg\nTo\nVice President of The United States\nKamala Harris\n“The Role of Women’s Organizations in Shattering Glass Ceilings” \nPanelists: \nHon. Betty Ellerin\, Former\, Presiding Justice of the Appellate Division\, First Department\nHon. Elizabeth A. Garry\, Presiding Justice of the Appellate Division\, Third Department\nHon. Juanita Bing Newton\, Former Dean of the New York State Judicial Institute\nJoy A. Thompson\, Esq.\, WBASNY President
URL:https://www.wbasny.org/event/the-role-of-womens-organizations-in-shattering-glass-ceilings/
END:VEVENT
BEGIN:VEVENT
DTSTART;TZID=America/New_York:20210324T173000
DTEND;TZID=America/New_York:20210324T193000
DTSTAMP:20260422T185812
CREATED:20210312T152734Z
LAST-MODIFIED:20210312T152745Z
UID:54512-1616607000-1616614200@www.wbasny.org
SUMMARY:Emotional Exhaustion and Burnout for Lawyers. How to prevent\, identify and reduce its effects on your life. By Dr. Kerry O'Hara
DESCRIPTION:Orange-Sullivan Chapter \nIn today’s world the prevalence of emotional burnout and the cost of chronic stress has hit crisis proportions. This is particularly true in the field of law. In surveys lawyers are reporting significantly higher rates of depression\, anxiety\, substance abuse and emotional exhaustion when compared to other professions. In this presentation participants will become familiar with the signs\, symptoms and causes of burnout.  Individuals will explore both the internal and environmental/ cultural factors leading to increases in chronic stress. The long- term effects of chronic stress on our physical\, emotional\, relational and cognitive functioning will be outlined.  Evidenced based strategies for the reduction of chronic stress and burnout will be discussed.  Lifestyle changes\, cognitive interventions and behavioral strategies will be explored. Each individual will be asked to create an individualized plan to address their unique circumstances.   The reduction of stress in our everyday lives is essential. This presentation will help individuals focus on the changes that are within their power to make. The journey towards a more balanced\, less stressful life starts with just one change.  \n  \nKerry Murray O’Hara\, PsyD – Clinical Psychologist & Director of DBT Wellness & Psychological Services \nDr. Kerry O’Hara is the Director/Founder of DBT Wellness & Psychological Services in Saratoga Springs\, NY\, which she opened in 2018. She has over 25 years of experience in a variety of clinical settings including inpatient\, residential\, forensic\, outpatient\, and academic. Her area of expertise is Dialectical Behavioral Therapy (DBT)\, a highly researched evidenced based treatment. Dr. O’Hara’s DBT Wellness Center provides individual\, family\, & group therapy. In addition\, she provides clinical trainings\, wellness consultation services for business\, and program development. \nOver the course of the last 6 years Dr. O’Hara has focused on the mental health crisis and wellness for the field of law. She has presented for the NYSBA and numerous other law associations and seminars. Dr. O’Hara has presented on such topics as; the culture of law\, how law school training effects wellness\, what creates clinical depression and anxiety for lawyers\, vicarious trauma and burnout\, issues related to senior lawyers\, reducing self- destructive coping for lawyers and self-care creating a balanced lifestyle for lawyers. In addition\, Dr. O’Hara has co-authored articles for the NYSBA Journal regarding barriers for wellness in the profession of law and the pathway to a more hopeful future. Dr. O’Hara recently has co-facilitated Wellness pod casts for Mental Health Awareness & Wellness week for the NYSBA. Additionally\, she has been co-facilitating the weekly Lawyer Round Table discussions addressing the isolation\, depression\, and anxiety lawyers experience as a result of the Covid-19 pandemic. Dr. O’Hara has also been named as a Clinical Consultant to the NYSBA Lawyer Taskforce for Lawyer wellbeing.  \n  \n  \nRSVP to rsvp@wbaosc.org for the link to attend.
URL:https://www.wbasny.org/event/emotional-exhaustion-and-burnout-for-lawyers-how-to-prevent-identify-and-reduce-its-effects-on-your-life-by-dr-kerry-ohara/
END:VEVENT
END:VCALENDAR