BEGIN:VCALENDAR
VERSION:2.0
PRODID:-//wbasny - ECPv6.15.20//NONSGML v1.0//EN
CALSCALE:GREGORIAN
METHOD:PUBLISH
X-ORIGINAL-URL:https://www.wbasny.org
X-WR-CALDESC:Events for wbasny
REFRESH-INTERVAL;VALUE=DURATION:PT1H
X-Robots-Tag:noindex
X-PUBLISHED-TTL:PT1H
BEGIN:VTIMEZONE
TZID:America/New_York
BEGIN:DAYLIGHT
TZOFFSETFROM:-0500
TZOFFSETTO:-0400
TZNAME:EDT
DTSTART:20190310T070000
END:DAYLIGHT
BEGIN:STANDARD
TZOFFSETFROM:-0400
TZOFFSETTO:-0500
TZNAME:EST
DTSTART:20191103T060000
END:STANDARD
BEGIN:DAYLIGHT
TZOFFSETFROM:-0500
TZOFFSETTO:-0400
TZNAME:EDT
DTSTART:20200308T070000
END:DAYLIGHT
BEGIN:STANDARD
TZOFFSETFROM:-0400
TZOFFSETTO:-0500
TZNAME:EST
DTSTART:20201101T060000
END:STANDARD
BEGIN:DAYLIGHT
TZOFFSETFROM:-0500
TZOFFSETTO:-0400
TZNAME:EDT
DTSTART:20210314T070000
END:DAYLIGHT
BEGIN:STANDARD
TZOFFSETFROM:-0400
TZOFFSETTO:-0500
TZNAME:EST
DTSTART:20211107T060000
END:STANDARD
END:VTIMEZONE
BEGIN:VEVENT
DTSTART;TZID=America/New_York:20201014T180000
DTEND;TZID=America/New_York:20201014T193000
DTSTAMP:20260423T074955
CREATED:20201008T184346Z
LAST-MODIFIED:20201008T184346Z
UID:52642-1602698400-1602703800@www.wbasny.org
SUMMARY:The Importance of Judicial Diversity and Inclusion in New York Courts
DESCRIPTION:WBASNY \nThe Franklin H. Williams Judicial Commission and The City University of New York (CUNY) School of Law’s Center on Latinx Rights and Equality (CLRE) will host a Zoom Webinar\, The Importance of Judicial Diversity and Inclusion in New York Courts\, on Wednesday\, October 14\, 2020\, 6:00 PM – 7:30 PM.  This program will address the state of judicial diversity and inclusion in the New York State court system\, recent developments and recommendations to improve judicial diversity.  The panelists will include: Hon. Erika Edwards\, President\, Judicial Friends Association; Hon. Sallie Manzanet-Daniels\, President\, Latino Judges Association; Hon. Lillian Wan\, President\, Asian American Judges Association; and FHW Commission Co-Chair\, Hon. Troy K. Webber.  The program will be moderated by Professor Natalie Gomez-Velez\, Director\, CLRE at CUNY Law School\, and FHW Commissioner\, Hon. Joanne D. Quiñones. Please register at the following link: https://cunylaw.zoom.us/webinar/register/WN_GN8e1gNWTjOetaZ0iR1BnA
URL:https://www.wbasny.org/event/the-importance-of-judicial-diversity-and-inclusion-in-new-york-courts/
ORGANIZER;CN="WBASNY":MAILTO:events@wbasny.org
END:VEVENT
BEGIN:VEVENT
DTSTART;TZID=America/New_York:20201015T123000
DTEND;TZID=America/New_York:20201015T133000
DTSTAMP:20260423T074955
CREATED:20201008T184630Z
LAST-MODIFIED:20201008T184630Z
UID:52644-1602765000-1602768600@www.wbasny.org
SUMMARY:Pink Ribbon Virtual Luncheon
DESCRIPTION:Suffolk Chapter
URL:https://www.wbasny.org/event/pink-ribbon-virtual-luncheon/
END:VEVENT
BEGIN:VEVENT
DTSTART;TZID=America/New_York:20201015T124500
DTEND;TZID=America/New_York:20201015T133500
DTSTAMP:20260423T074955
CREATED:20201012T191349Z
LAST-MODIFIED:20201012T191349Z
UID:52711-1602765900-1602768900@www.wbasny.org
SUMMARY:Shielding the Abused
DESCRIPTION:Suffolk Chapter
URL:https://www.wbasny.org/event/shielding-the-abused/
END:VEVENT
BEGIN:VEVENT
DTSTART;TZID=America/New_York:20201015T173000
DTEND;TZID=America/New_York:20201015T190000
DTSTAMP:20260423T074955
CREATED:20201001T202006Z
LAST-MODIFIED:20201001T202006Z
UID:52555-1602783000-1602788400@www.wbasny.org
SUMMARY:Book Club - Everything I Never Told You by Celeste Ng
DESCRIPTION:Orange-Sullivan Chapter \nSharon Worthy-Spiegl’s back deck w/ heaters
URL:https://www.wbasny.org/event/book-club-everything-i-never-told-you-by-celeste-ng/
END:VEVENT
BEGIN:VEVENT
DTSTART;TZID=America/New_York:20201016T183000
DTEND;TZID=America/New_York:20201016T193000
DTSTAMP:20260423T074955
CREATED:20201012T210147Z
LAST-MODIFIED:20201012T210147Z
UID:52729-1602873000-1602876600@www.wbasny.org
SUMMARY:Sip & Meet
DESCRIPTION:Brooklyn Chapter
URL:https://www.wbasny.org/event/sip-meet/
END:VEVENT
BEGIN:VEVENT
DTSTART;VALUE=DATE:20201018
DTEND;VALUE=DATE:20201019
DTSTAMP:20260423T074955
CREATED:20201013T202649Z
LAST-MODIFIED:20201013T202731Z
UID:52758-1602979200-1603065599@www.wbasny.org
SUMMARY:Making Strides Against Breast Cancer
DESCRIPTION:Nassau Chapter \nThe Nassau County Women’s Bar Association is proud to support the American Cancer Society Making Strides Against Breast Cancer Walk\, which will be held virtually this year. To join our team and/or make a donation for the American Cancer Society Making Strides Against Breast Cancer Walk\, please click here. \nAlthough there is no formal walk this year\, they are offering a Strides for Caravan option.  Essentially\, it is a drive-thru at Jones Beach.  We thought about scheduling a specific time slot (between 7 am-2pm) for us to get in our cars and caravan together to show our support.  We can do individual cars\, or depending on comfort level and interest\, a couple of people can “carpool” with masks on and windows open.  However we structure it\, the goal is to do this as a team if there is sufficient interest.  We are required to register and reserve a time slot by October 15th\, so we need to know who is interested no later than Tuesday\, October 13th.
URL:https://www.wbasny.org/event/making-strides-against-breast-cancer-3/
END:VEVENT
BEGIN:VEVENT
DTSTART;TZID=America/New_York:20201018T100000
DTEND;TZID=America/New_York:20201018T110000
DTSTAMP:20260423T074955
CREATED:20201007T193919Z
LAST-MODIFIED:20201007T193919Z
UID:52602-1603015200-1603018800@www.wbasny.org
SUMMARY:Virtual Breast Cancer Walk
DESCRIPTION:Queens Chapter
URL:https://www.wbasny.org/event/virtual-breast-cancer-walk/
END:VEVENT
BEGIN:VEVENT
DTSTART;TZID=America/New_York:20201018T100000
DTEND;TZID=America/New_York:20201018T160000
DTSTAMP:20260423T074955
CREATED:20201008T185443Z
LAST-MODIFIED:20201008T185630Z
UID:52650-1603015200-1603036800@www.wbasny.org
SUMMARY:Virtual Multicultural Music Celebration
DESCRIPTION:Staten Island Chapter \nVirtual Multicultural Music Celebration \n \nOn Sunday\, October 18th\, from 10:00AM- 4:00PM\, female DJs from around the world will keep you entertained and motivated as you and the SIWBA Legally Pink go on our own Strides adventure. Step up for HOPE with this amazing playlist as we fight breast cancer! \nThis will be launched on the Making Strides Staten Island Facebook page. CLICK HERE to access the Facebook page where it will take place live on 10/18/2020.
URL:https://www.wbasny.org/event/virtual-multicultural-music-celebration/
END:VEVENT
BEGIN:VEVENT
DTSTART;TZID=America/New_York:20201019T125500
DTEND;TZID=America/New_York:20201019T140000
DTSTAMP:20260423T074955
CREATED:20201008T180120Z
LAST-MODIFIED:20201008T180131Z
UID:52632-1603112100-1603116000@www.wbasny.org
SUMMARY:Annual Judges and Lawyers Breast Cancer Alert
DESCRIPTION:JALBCA
URL:https://www.wbasny.org/event/annual-judges-and-lawyers-breast-cancer-alert/
END:VEVENT
BEGIN:VEVENT
DTSTART;TZID=America/New_York:20201019T170000
DTEND;TZID=America/New_York:20201019T180000
DTSTAMP:20260423T074955
CREATED:20201013T201527Z
LAST-MODIFIED:20201013T201527Z
UID:52756-1603126800-1603130400@www.wbasny.org
SUMMARY:Health &  Wellness: Pilates Fusion
DESCRIPTION:Orange-Sullivan \nThomas Bull Memorial Park\, by Sally’s Dream Playground \nPlease RSVP to rsvp@wbaosc.org
URL:https://www.wbasny.org/event/health-wellness-pilates-fusion-2/
END:VEVENT
BEGIN:VEVENT
DTSTART;TZID=America/New_York:20201019T180000
DTEND;TZID=America/New_York:20201019T193000
DTSTAMP:20260423T074955
CREATED:20200817T204808Z
LAST-MODIFIED:20200817T204822Z
UID:52174-1603130400-1603135800@www.wbasny.org
SUMMARY:Officers Conference Call
DESCRIPTION:WBASNY \n 
URL:https://www.wbasny.org/event/officers-conference-call/
ORGANIZER;CN="WBASNY":MAILTO:events@wbasny.org
END:VEVENT
BEGIN:VEVENT
DTSTART;TZID=America/New_York:20201020T140000
DTEND;TZID=America/New_York:20201020T150000
DTSTAMP:20260423T074955
CREATED:20200902T193207Z
LAST-MODIFIED:20200902T193629Z
UID:52265-1603202400-1603206000@www.wbasny.org
SUMMARY:Still Broken: Sexual Harassment and Misconduct in the Legal Profession
DESCRIPTION:NCWBA
URL:https://www.wbasny.org/event/still-broken-sexual-harassment-and-misconduct-in-the-legal-profession/
ORGANIZER;CN="National Conference of Women's Bar Associations":MAILTO:info@ncwba.org
END:VEVENT
BEGIN:VEVENT
DTSTART;TZID=America/New_York:20201020T173000
DTEND;TZID=America/New_York:20201020T193000
DTSTAMP:20260423T074955
CREATED:20201012T205634Z
LAST-MODIFIED:20201012T205634Z
UID:52721-1603215000-1603222200@www.wbasny.org
SUMMARY:Recent Significant Developments and Decisions from NYS Appellate Courts
DESCRIPTION:Queens Chapter
URL:https://www.wbasny.org/event/recent-significant-developments-and-decisions-from-nys-appellate-courts/
END:VEVENT
BEGIN:VEVENT
DTSTART;TZID=America/New_York:20201020T180000
DTEND;TZID=America/New_York:20201020T200000
DTSTAMP:20260423T074955
CREATED:20201001T200917Z
LAST-MODIFIED:20201001T200917Z
UID:52542-1603216800-1603224000@www.wbasny.org
SUMMARY:Power of the Vote 2020
DESCRIPTION:Brooklyn Chapter
URL:https://www.wbasny.org/event/power-of-the-vote-2020/
END:VEVENT
BEGIN:VEVENT
DTSTART;TZID=America/New_York:20201021T000000
DTEND;TZID=America/New_York:20201021T130000
DTSTAMP:20260423T074955
CREATED:20200908T174534Z
LAST-MODIFIED:20200908T174534Z
UID:52304-1603238400-1603285200@www.wbasny.org
SUMMARY:SheCAN! Speaker Series - The Journey of Challenges
DESCRIPTION:Western New York Chapter \n 
URL:https://www.wbasny.org/event/shecan-speaker-series-the-journey-of-challenges/
ORGANIZER;CN="Western New York Women's Bar Association":MAILTO:wbasnywny@gmail.com
END:VEVENT
BEGIN:VEVENT
DTSTART;TZID=America/New_York:20201021T173000
DTEND;TZID=America/New_York:20201021T183000
DTSTAMP:20260423T074955
CREATED:20201008T184940Z
LAST-MODIFIED:20201008T184940Z
UID:52647-1603301400-1603305000@www.wbasny.org
SUMMARY:Be a Part of History
DESCRIPTION:Queens Chapter
URL:https://www.wbasny.org/event/be-a-part-of-history/
END:VEVENT
BEGIN:VEVENT
DTSTART;TZID=America/New_York:20201022T120000
DTEND;TZID=America/New_York:20201022T130000
DTSTAMP:20260423T074955
CREATED:20201005T203447Z
LAST-MODIFIED:20201005T203447Z
UID:52582-1603368000-1603371600@www.wbasny.org
SUMMARY:What is Caregiver Discrimination?
DESCRIPTION:Western New York Chapter \nWhat is Caregiver Discrimination? \nJoin us for an educational hour with nationally recognized expert in gender and family responsibility discrimination\, Rebecca G. Pontikes\, Esq.  \nMs. Pontikes\, who has filed amicus briefs before the United States Supreme Court on issues involving labor and employment law\, and who has lectured extensively on workplace discrimination\, will explain the elements of a claim for caretaking discrimination\, as well as its context within the complex Federal statutory regime preventing workplace discrimination and retaliation.  This seminar will explore caretaking discrimination at time of increased family responsibilities because of COVID-19.  Both the rights of employees who believe they are experiencing caretaking discrimination and advice for employers who are hoping to limit their exposure to such claims will be addressed. \nPlease RSVP to Kara Eyre – keyre@gmclaw.com \nA Zoom link will be provided before the presentation. \nTHIS MEMBERS-ONLY EVENT IS GENEROUSLY BEING SPONSORED EXCLUSIVELY BY THE LAW OFFICE OF LINDY KORN\, PLLC.
URL:https://www.wbasny.org/event/what-is-caregiver-discrimination/
ORGANIZER;CN="Western New York Women's Bar Association":MAILTO:wbasnywny@gmail.com
END:VEVENT
BEGIN:VEVENT
DTSTART;TZID=America/New_York:20201022T124500
DTEND;TZID=America/New_York:20201022T133500
DTSTAMP:20260423T074955
CREATED:20201020T185423Z
LAST-MODIFIED:20201020T185423Z
UID:52801-1603370700-1603373700@www.wbasny.org
SUMMARY:LGBTQ Domestic Violence Matters
DESCRIPTION:Suffolk Chapter
URL:https://www.wbasny.org/event/lgbtq-domestic-violence-matters/
END:VEVENT
BEGIN:VEVENT
DTSTART;TZID=America/New_York:20201022T173000
DTEND;TZID=America/New_York:20201022T190000
DTSTAMP:20260423T074955
CREATED:20201001T202144Z
LAST-MODIFIED:20201001T202144Z
UID:52557-1603387800-1603393200@www.wbasny.org
SUMMARY:Health & Wellness: Outdoor Aerial Silks Class
DESCRIPTION:Orange-Sullivan Chapter \nFlexibility in Flight\, the Hudson Valley’s only outdoor Silk Deck
URL:https://www.wbasny.org/event/health-wellness-outdoor-aerial-silks-class/
END:VEVENT
BEGIN:VEVENT
DTSTART;TZID=America/New_York:20201022T173000
DTEND;TZID=America/New_York:20201022T200000
DTSTAMP:20260423T074955
CREATED:20200908T234146Z
LAST-MODIFIED:20200909T144237Z
UID:52345-1603387800-1603396800@www.wbasny.org
SUMMARY:Getting a Seat at the Table
DESCRIPTION:Central New York Chapter \n \n 
URL:https://www.wbasny.org/event/getting-a-seat-at-the-table/
END:VEVENT
BEGIN:VEVENT
DTSTART;TZID=America/New_York:20201022T180000
DTEND;TZID=America/New_York:20201022T190000
DTSTAMP:20260423T074955
CREATED:20200929T190412Z
LAST-MODIFIED:20200929T190412Z
UID:52513-1603389600-1603393200@www.wbasny.org
SUMMARY:CLE - Title IX: The New Regulations
DESCRIPTION:New York Chapter \nNYWBA Litigation Committee Presents a CLE Program: \nTitle IX: The New Regulations\nAn Analysis of the Finalized Rules and\ntheir Implications Regarding Sexual Assault at School Speakers: \nAlexandra Santo\, Esq.\nElizabeth Walker\, Esq.\nEdwina Martin\, Esq. \n  \n\n\n\nPlace:\nvia Zoom Webinar\n\n\nCLE: \n1 hour- Diversity/Inclusion/Elim. of Bias\n\n\nCost: \nFree – NYWBA/WBASNY Members \n$25 – non-members\n\n\nRSVP:\nCLICK HERE to RSVP Before October 19\, 2020
URL:https://www.wbasny.org/event/cle-title-ix-the-new-regulations/
END:VEVENT
BEGIN:VEVENT
DTSTART;TZID=America/New_York:20201025T093000
DTEND;TZID=America/New_York:20201025T110000
DTSTAMP:20260423T074955
CREATED:20201001T202251Z
LAST-MODIFIED:20201001T202301Z
UID:52559-1603618200-1603623600@www.wbasny.org
SUMMARY:Health & Wellness: Family Friendly Hike
DESCRIPTION:Orange-Sullivan Chapter \nMinnewaska State Park Preserve
URL:https://www.wbasny.org/event/health-wellness-family-friendly-hike/
END:VEVENT
BEGIN:VEVENT
DTSTART;TZID=America/New_York:20201026T130000
DTEND;TZID=America/New_York:20201026T140000
DTSTAMP:20260423T074955
CREATED:20201012T210548Z
LAST-MODIFIED:20201012T210859Z
UID:52734-1603717200-1603720800@www.wbasny.org
SUMMARY:Pink & Teal Seminar
DESCRIPTION:New York Chapter \nThe New York Women’s Bar Association and JALBCA Invite you to \nPink & Teal Seminar:\nBreast Cancer and Ovarian Cancer Awareness \nFeaturing: \nTheresa Drescher\, Author\, Motivational Speaker\, and Personal Coach\,\nolunteer for breast cancer helpline at SHARE \nAndrea Herzberg\, former news reporter\, 26-year veteran of NYPD\,\nretired sergeant of Special Victims Unit\,\ncoordinator for ovarian cancer helpline at SHARE \nOctober is Breast Cancer Awareness Month and September was Ovarian Cancer Awareness Month. \nSHARE (Self-help for Women with Breast or Ovarian Cancer) is a 44-year old non-profit and a survivor-led organization dedicated to providing emotional support and information about breast\, metastatic breast\, ovarian and uterine cancers through its many free services and programs. \n\nLearn about breast and ovarian cancers from the unique perspective of healthy survivors.\nLearn about risks\, treatments\, early detection\, doctor-patient relationships and much more.\nBecome empowered about your health.\nHave the opportunity to ask questions.\n\nCLICK HERE to RSVP
URL:https://www.wbasny.org/event/52734/
END:VEVENT
BEGIN:VEVENT
DTSTART;TZID=America/New_York:20201026T173000
DTEND;TZID=America/New_York:20201026T183000
DTSTAMP:20260423T074955
CREATED:20201013T202845Z
LAST-MODIFIED:20201013T202845Z
UID:52761-1603733400-1603737000@www.wbasny.org
SUMMARY:The Life of Kamala Harris
DESCRIPTION:Nassau ChapterVirtual Program with OneWorldGirl for an evening exploring the life of Kamala Harris. Inspired by the life of Kamala Harris\, this program is designed to encourage elementary and middle school children\, together with their parents\, to be positive change-makers in their communities. To register\, click here. Zoom link and materials to be sent to registrants prior to the event.
URL:https://www.wbasny.org/event/the-life-of-kamala-harris/
END:VEVENT
BEGIN:VEVENT
DTSTART;TZID=America/New_York:20201027T130000
DTEND;TZID=America/New_York:20201027T140000
DTSTAMP:20260423T074955
CREATED:20201008T181623Z
LAST-MODIFIED:20201008T181623Z
UID:52635-1603803600-1603807200@www.wbasny.org
SUMMARY:Lunch with a Judge Series - Hon. Lisa S. Ottley
DESCRIPTION:Brooklyn Chapter
URL:https://www.wbasny.org/event/lunch-with-a-judge-series-hon-lisa-s-ottley/
END:VEVENT
BEGIN:VEVENT
DTSTART;TZID=America/New_York:20201027T183000
DTEND;TZID=America/New_York:20201027T200000
DTSTAMP:20260423T074955
CREATED:20201020T182922Z
LAST-MODIFIED:20201020T182922Z
UID:52780-1603823400-1603828800@www.wbasny.org
SUMMARY:CLE - The Practitioner's Guide to Family and Criminal Courts in the Age of COVID-19
DESCRIPTION:Queens Chapter
URL:https://www.wbasny.org/event/cle-the-practitioners-guide-to-family-and-criminal-courts-in-the-age-of-covid-19/
END:VEVENT
BEGIN:VEVENT
DTSTART;TZID=America/New_York:20201028T140000
DTEND;TZID=America/New_York:20201028T160000
DTSTAMP:20260423T074955
CREATED:20200928T163011Z
LAST-MODIFIED:20200928T163036Z
UID:52490-1603893600-1603900800@www.wbasny.org
SUMMARY:CLE - Domestic Violence Trends in the Context of Bail Reform and the COVID-19 Pandemic
DESCRIPTION:Third Judicial District Gender Fairness Committee \nDomestic Violence Trends in the Context of Bail Reform and the COVID-19 Pandemic \nA free 2-hour Virtual CLE Program \nWednesday\, October 28\, 2020\, 2-4 p.m. \nStatistics strongly suggest that the incidence of domestic violence has increased considerably during the pandemic — at the same time that the discretion of judges to detain or set bail has been reduced. \nThis two-part Domestic Violence Awareness Month program sponsored by the Third Judicial District Gender Fairness Committee will first discuss bail reform\, the unintended impact on DV cases and possible legislative adjustments to the new law. The second part will examine the dynamics\, pitfalls and future of DV cases during the pandemic era. \nHon. Rachel Kretser (Ret.)\, chair\, Gender Fairness Committee\, will moderate two panel discussions that will include: \n\n Andra Ackerman\, Albany County Judge\nJaya L. Connors\, Professor of Law and Director of Family Violence Litigation Clinic at the Justice Center at Albany Law School\nLeah Feldman\, VP\, Community Programs\, Family Services\nHeather L. Dukes\, Senior Attorney\, Unity House Law Project\n Richard Rivera\, Albany County Family Court Judge and Supervising Judge of the Domestic Violence Courts\nEllen Schell\, counsel\, NYS Office for the Prevention of Domestic Violence\n\nRegistration (no charge):  \n\nClick here NYS Bar Association or go to https://nysba.org/events/domestic-violence-trends-in-the-context-of-bail-reform-and-the-covid-19-pandemic/\nCreate a free NYSBA account.\nRegister for this program.\nWhen you come to payment part\, insert this coupon code in the “discount” box: 1028JQ21\n\nCo-sponsors to date \nAlbany County Bar Association\, Albany Law School\, Center for Women in Government\, The Legal Project\, National Association of Women Judges-NY\, New York State Bar Association\, Women’s Bar Association of the State of New York.
URL:https://www.wbasny.org/event/cle-domestic-violence-trends-in-the-context-of-bail-reform-and-the-covid-19-pandemic/
END:VEVENT
BEGIN:VEVENT
DTSTART;TZID=America/New_York:20201028T170000
DTEND;TZID=America/New_York:20201028T180000
DTSTAMP:20260423T074955
CREATED:20201026T224033Z
LAST-MODIFIED:20201026T225416Z
UID:52838-1603904400-1603908000@www.wbasny.org
SUMMARY:Fall Membership Meeting
DESCRIPTION:Del-Chen-O Chapter \nAt our virtual meeting PJ Garry and Judge Burns will be leading off an interactive discussion – participation from you is strongly encouraged! How often to do get to chat with two Supreme Court Justices? \nHere is the Zoom Link: \nJoin Zoom Meeting \nhttps://us02web.zoom.us/j/9340615798?pwd=b3RHdnlxOWhpM0M1YmdqR1VkempYdz09 \nMeeting ID: 934 061 5798\nPasscode: 120615\nOne tap mobile \n+16465588656\,\,9340615798#\,\,\,\,\,\,0#\,\,120615# US (New York) \nFind your local number: https://us02web.zoom.us/u/kbol8DnMLi
URL:https://www.wbasny.org/event/fall-membership-meeting/
END:VEVENT
BEGIN:VEVENT
DTSTART;TZID=America/New_York:20201028T173000
DTEND;TZID=America/New_York:20201028T193000
DTSTAMP:20260423T074955
CREATED:20201012T205928Z
LAST-MODIFIED:20201012T205928Z
UID:52724-1603906200-1603913400@www.wbasny.org
SUMMARY:Trivia Night
DESCRIPTION:Queens Chapter
URL:https://www.wbasny.org/event/trivia-night/
END:VEVENT
BEGIN:VEVENT
DTSTART;TZID=America/New_York:20201028T180000
DTEND;TZID=America/New_York:20201028T193000
DTSTAMP:20260423T074955
CREATED:20201001T201220Z
LAST-MODIFIED:20201001T201441Z
UID:52545-1603908000-1603913400@www.wbasny.org
SUMMARY:Domestic Violence Awareness Month Program
DESCRIPTION:Brooklyn Chapter
URL:https://www.wbasny.org/event/domestic-violence-awareness-month-program/
END:VEVENT
END:VCALENDAR