BEGIN:VCALENDAR
VERSION:2.0
PRODID:-//wbasny - ECPv6.15.20//NONSGML v1.0//EN
CALSCALE:GREGORIAN
METHOD:PUBLISH
X-ORIGINAL-URL:https://www.wbasny.org
X-WR-CALDESC:Events for wbasny
REFRESH-INTERVAL;VALUE=DURATION:PT1H
X-Robots-Tag:noindex
X-PUBLISHED-TTL:PT1H
BEGIN:VTIMEZONE
TZID:America/New_York
BEGIN:DAYLIGHT
TZOFFSETFROM:-0500
TZOFFSETTO:-0400
TZNAME:EDT
DTSTART:20200308T070000
END:DAYLIGHT
BEGIN:STANDARD
TZOFFSETFROM:-0400
TZOFFSETTO:-0500
TZNAME:EST
DTSTART:20201101T060000
END:STANDARD
BEGIN:DAYLIGHT
TZOFFSETFROM:-0500
TZOFFSETTO:-0400
TZNAME:EDT
DTSTART:20210314T070000
END:DAYLIGHT
BEGIN:STANDARD
TZOFFSETFROM:-0400
TZOFFSETTO:-0500
TZNAME:EST
DTSTART:20211107T060000
END:STANDARD
BEGIN:DAYLIGHT
TZOFFSETFROM:-0500
TZOFFSETTO:-0400
TZNAME:EDT
DTSTART:20220313T070000
END:DAYLIGHT
BEGIN:STANDARD
TZOFFSETFROM:-0400
TZOFFSETTO:-0500
TZNAME:EST
DTSTART:20221106T060000
END:STANDARD
END:VTIMEZONE
BEGIN:VEVENT
DTSTART;TZID=America/New_York:20210521T170000
DTEND;TZID=America/New_York:20210521T210000
DTSTAMP:20260422T185858
CREATED:20210517T194741Z
LAST-MODIFIED:20210518T151701Z
UID:55493-1621616400-1621630800@www.wbasny.org
SUMMARY:WBASNY Outgoing President's Reception
DESCRIPTION:WBASNY
URL:https://www.wbasny.org/event/wbasny-outgoing-presidents-reception/
ORGANIZER;CN="WBASNY":MAILTO:events@wbasny.org
END:VEVENT
BEGIN:VEVENT
DTSTART;TZID=America/New_York:20210525T190000
DTEND;TZID=America/New_York:20210525T200000
DTSTAMP:20260422T185858
CREATED:20210505T142010Z
LAST-MODIFIED:20210505T142024Z
UID:55302-1621969200-1621972800@www.wbasny.org
SUMMARY:JALBCA Virtual Gala
DESCRIPTION:JALBCA
URL:https://www.wbasny.org/event/jalbca-virtual-gala/
END:VEVENT
BEGIN:VEVENT
DTSTART;TZID=America/New_York:20210526T183000
DTEND;TZID=America/New_York:20210526T203000
DTSTAMP:20260422T185858
CREATED:20210524T164203Z
LAST-MODIFIED:20210524T164203Z
UID:55602-1622053800-1622061000@www.wbasny.org
SUMMARY:Asian Heritage Month Celebration
DESCRIPTION:Queens Chapter
URL:https://www.wbasny.org/event/asian-heritage-month-celebration/
END:VEVENT
BEGIN:VEVENT
DTSTART;TZID=America/New_York:20210527T120000
DTEND;TZID=America/New_York:20210527T140000
DTSTAMP:20260422T185858
CREATED:20210409T144313Z
LAST-MODIFIED:20210409T144335Z
UID:54789-1622116800-1622124000@www.wbasny.org
SUMMARY:Everything You Need to Know About Becoming a Judge\, Part 1
DESCRIPTION:Nassau County Chapter \nMay 27\, 2021 from 12:00-2:00 PM – Part 1 – NCWBA is a co-sponsor of “Everything You Need to Know About Becoming a Judge” with the Franklin H. Williams Commission\, the Nassau County Bar Association\, Amistad Long Island Island Black Bar Association\, Long Island Hispanic Bar Association\, and several other legal organizations. This is a virtual program with FREE CLE to be provided by the Nassau Academy of Law. Please see the attached flyer for more information. To register\, email academy@nassaubar.org. The Zoom link\, CLE forms and materials will be emailed to pre-registered attendees 24 hours before the program starts. \n 
URL:https://www.wbasny.org/event/everything-you-need-to-know-about-becoming-a-judge-part-1/
END:VEVENT
BEGIN:VEVENT
DTSTART;TZID=America/New_York:20210601T173000
DTEND;TZID=America/New_York:20210601T193000
DTSTAMP:20260422T185858
CREATED:20210518T215139Z
LAST-MODIFIED:20210518T215139Z
UID:55521-1622568600-1622575800@www.wbasny.org
SUMMARY:Racial Disparities in Housing: How Municipalities\, Homeowners\, Brokers and Banks Can Help
DESCRIPTION:Greater Rochester Chapter
URL:https://www.wbasny.org/event/racial-disparities-in-housing-how-municipalities-homeowners-brokers-and-banks-can-help/
END:VEVENT
BEGIN:VEVENT
DTSTART;TZID=America/New_York:20210601T183000
DTEND;TZID=America/New_York:20210601T203000
DTSTAMP:20260422T185858
CREATED:20210507T203952Z
LAST-MODIFIED:20210507T204016Z
UID:55376-1622572200-1622579400@www.wbasny.org
SUMMARY:Virtual Swearing In Ceremony
DESCRIPTION:Bronx Chapter
URL:https://www.wbasny.org/event/55376/
END:VEVENT
BEGIN:VEVENT
DTSTART;TZID=America/New_York:20210607T080000
DTEND;TZID=America/New_York:20210607T170000
DTSTAMP:20260422T185858
CREATED:20210607T154601Z
LAST-MODIFIED:20210607T154601Z
UID:55708-1623052800-1623085200@www.wbasny.org
SUMMARY:CNYWBA Installation Ceremony
DESCRIPTION:Central New York Chapter \nPlease join us for the \n2021 Installation Ceremony welcoming the new Board of Directors for the Central New York Women’s Bar Association \n  \nThe Installation will be held on \nThursday\, June 24  \n5:30 p.m.  \nThornden Park \n  \nRefreshments will be served following the ceremony. \nPlease RSVP to cnywba@gmail.com so that we can plan accordingly. \nThere is no charge to attend.
URL:https://www.wbasny.org/event/cnywba-installation-ceremony/
END:VEVENT
BEGIN:VEVENT
DTSTART;TZID=America/New_York:20210608T130000
DTEND;TZID=America/New_York:20210608T150000
DTSTAMP:20260422T185858
CREATED:20210520T163921Z
LAST-MODIFIED:20210520T163921Z
UID:55525-1623157200-1623164400@www.wbasny.org
SUMMARY:BWBA Virtual Installation Ceremony
DESCRIPTION:Brooklyn Chapter
URL:https://www.wbasny.org/event/bwba-virtual-installation-ceremony/
END:VEVENT
BEGIN:VEVENT
DTSTART;TZID=America/New_York:20210608T180000
DTEND;TZID=America/New_York:20210608T200000
DTSTAMP:20260422T185858
CREATED:20210607T150941Z
LAST-MODIFIED:20210607T150941Z
UID:55698-1623175200-1623182400@www.wbasny.org
SUMMARY:Virtual Manhattan DA Democratic Candidates Forum
DESCRIPTION:New York Chapter
URL:https://www.wbasny.org/event/virtual-manhattan-da-democratic-candidates-forum/
END:VEVENT
BEGIN:VEVENT
DTSTART;TZID=America/New_York:20210609T173000
DTEND;TZID=America/New_York:20210609T193000
DTSTAMP:20260422T185858
CREATED:20210511T210850Z
LAST-MODIFIED:20210511T210850Z
UID:55423-1623259800-1623267000@www.wbasny.org
SUMMARY:Book Club: "Why Women Still Can't Have it All"
DESCRIPTION:Western New York Chapter
URL:https://www.wbasny.org/event/book-club-why-women-still-cant-have-it-all/
ORGANIZER;CN="Western New York Women's Bar Association":MAILTO:wbasnywny@gmail.com
END:VEVENT
BEGIN:VEVENT
DTSTART;TZID=America/New_York:20210609T190000
DTEND;TZID=America/New_York:20210609T210000
DTSTAMP:20260422T185858
CREATED:20210607T162718Z
LAST-MODIFIED:20210607T162718Z
UID:55718-1623265200-1623272400@www.wbasny.org
SUMMARY:WWBA Virtual Annual Installation
DESCRIPTION:Westchester Chapter
URL:https://www.wbasny.org/event/wwba-virtual-annual-installation/
ORGANIZER;CN="Westchester Women's Bar Association":MAILTO:executivedirector@wwbany.org
END:VEVENT
BEGIN:VEVENT
DTSTART;TZID=America/New_York:20210610T170000
DTEND;TZID=America/New_York:20210610T190000
DTSTAMP:20260422T185858
CREATED:20210525T145340Z
LAST-MODIFIED:20210525T151948Z
UID:55613-1623344400-1623351600@www.wbasny.org
SUMMARY:Bubbles on the Water
DESCRIPTION:Western New York Chapter
URL:https://www.wbasny.org/event/bubbles-on-the-water/
ORGANIZER;CN="Western New York Women's Bar Association":MAILTO:wbasnywny@gmail.com
END:VEVENT
BEGIN:VEVENT
DTSTART;TZID=America/New_York:20210610T180000
DTEND;TZID=America/New_York:20210610T200000
DTSTAMP:20260422T185858
CREATED:20210517T201133Z
LAST-MODIFIED:20210517T201133Z
UID:55500-1623348000-1623355200@www.wbasny.org
SUMMARY:NYWBA 2021 Virtual Annual Awards & Installation Ceremony
DESCRIPTION:New York Chapter
URL:https://www.wbasny.org/event/nywba-2021-virtual-annual-awards-installation-ceremony/
END:VEVENT
BEGIN:VEVENT
DTSTART;TZID=America/New_York:20210610T180000
DTEND;TZID=America/New_York:20210610T200000
DTSTAMP:20260422T185858
CREATED:20210601T145111Z
LAST-MODIFIED:20210601T145147Z
UID:55624-1623348000-1623355200@www.wbasny.org
SUMMARY:NYWBA  2021 Virtual Annual Awards & Installation Ceremony
DESCRIPTION:New York Chapter
URL:https://www.wbasny.org/event/nywba-2021-virtual-annual-awards-installation-ceremony-2/
END:VEVENT
BEGIN:VEVENT
DTSTART;TZID=America/New_York:20210614T170000
DTEND;TZID=America/New_York:20210614T190000
DTSTAMP:20260422T185858
CREATED:20210607T153855Z
LAST-MODIFIED:20210607T153855Z
UID:55704-1623690000-1623697200@www.wbasny.org
SUMMARY:What It's REALLY Like to Practice Law As a Woman
DESCRIPTION:New York Chapter
URL:https://www.wbasny.org/event/what-its-really-like-to-practice-law-as-a-woman/
END:VEVENT
BEGIN:VEVENT
DTSTART;TZID=America/New_York:20210616T180000
DTEND;TZID=America/New_York:20210616T200000
DTSTAMP:20260422T185858
CREATED:20210601T143041Z
LAST-MODIFIED:20210601T143041Z
UID:55618-1623866400-1623873600@www.wbasny.org
SUMMARY:WHAT YOU SHOULD KNOW ABOUT RESIDENTIAL FORECLOSURES DURING COVID-19
DESCRIPTION:Queens Chapter
URL:https://www.wbasny.org/event/what-you-should-know-about-residential-foreclosures-during-covid-19/
END:VEVENT
BEGIN:VEVENT
DTSTART;TZID=America/New_York:20210617T080000
DTEND;TZID=America/New_York:20210617T170000
DTSTAMP:20260422T185858
CREATED:20210615T193811Z
LAST-MODIFIED:20210615T194330Z
UID:55796-1623916800-1623949200@www.wbasny.org
SUMMARY:Officer Training
DESCRIPTION:WBASNY
URL:https://www.wbasny.org/event/officer-training/
LOCATION:TBD
ORGANIZER;CN="WBASNY":MAILTO:events@wbasny.org
END:VEVENT
BEGIN:VEVENT
DTSTART;TZID=America/New_York:20210618T173000
DTEND;TZID=America/New_York:20210618T193000
DTSTAMP:20260422T185858
CREATED:20210607T161721Z
LAST-MODIFIED:20210607T161721Z
UID:55714-1624037400-1624044600@www.wbasny.org
SUMMARY:WNY Seminar on Lifestyle and Foods: Eating to Stay Alive
DESCRIPTION:Western New York Chapter
URL:https://www.wbasny.org/event/wny-seminar-on-lifestyle-and-foods-eating-to-stay-alive/
ORGANIZER;CN="Western New York Women's Bar Association":MAILTO:wbasnywny@gmail.com
END:VEVENT
BEGIN:VEVENT
DTSTART;TZID=America/New_York:20210623T180000
DTEND;TZID=America/New_York:20210623T200000
DTSTAMP:20260422T185858
CREATED:20210524T170508Z
LAST-MODIFIED:20210524T170508Z
UID:55608-1624471200-1624478400@www.wbasny.org
SUMMARY:Orange-Sullivan Installation Dinner
DESCRIPTION:Orange-Sullivan Chapter
URL:https://www.wbasny.org/event/orange-sullivan-installation-dinner/
END:VEVENT
BEGIN:VEVENT
DTSTART;TZID=America/New_York:20210623T180000
DTEND;TZID=America/New_York:20210623T200000
DTSTAMP:20260422T185858
CREATED:20210607T145938Z
LAST-MODIFIED:20210607T145938Z
UID:55693-1624471200-1624478400@www.wbasny.org
SUMMARY:Adirondack Chapter - Installation Dinner
DESCRIPTION:Adirondack Chapter
URL:https://www.wbasny.org/event/adirondack-chapter-installation-dinner/
END:VEVENT
BEGIN:VEVENT
DTSTART;TZID=America/New_York:20210624T120000
DTEND;TZID=America/New_York:20210624T140000
DTSTAMP:20260422T185858
CREATED:20210409T144453Z
LAST-MODIFIED:20210409T144501Z
UID:54791-1624536000-1624543200@www.wbasny.org
SUMMARY:Everything You Need to Know About Becoming a Judge\, Part 2
DESCRIPTION:Nassau County \nJune 24\, 2021 from 12:00-2:00 PM – Part 2 – NCWBA is a co-sponsor of “Everything You Need to Know About Becoming a Judge” with the Franklin H. Williams Commission\, the Nassau County Bar Association\, Amistad Long Island Island Black Bar Association\, Long Island Hispanic Bar Association\, and several other legal organizations. This is a virtual program with FREE CLE to be provided by the Nassau Academy of Law. Please see the attached flyer for more information. To register\, email academy@nassaubar.org. The Zoom link\, CLE forms and materials will be emailed to pre-registered attendees 24 hours before the program starts. \n 
URL:https://www.wbasny.org/event/everything-you-need-to-know-about-becoming-a-judge-part-2/
END:VEVENT
BEGIN:VEVENT
DTSTART;TZID=America/New_York:20210624T123000
DTEND;TZID=America/New_York:20210624T133000
DTSTAMP:20260422T185858
CREATED:20210517T200315Z
LAST-MODIFIED:20210517T200315Z
UID:55497-1624537800-1624541400@www.wbasny.org
SUMMARY:Recent Developments in Fraudulent Transfer and Preference Law and How They May Impact Your Clients
DESCRIPTION:New York Chapter
URL:https://www.wbasny.org/event/recent-developments-in-fraudulent-transfer-and-preference-law-and-how-they-may-impact-your-clients/
END:VEVENT
BEGIN:VEVENT
DTSTART;TZID=America/New_York:20210624T173000
DTEND;TZID=America/New_York:20210624T193000
DTSTAMP:20260422T185858
CREATED:20210608T142317Z
LAST-MODIFIED:20210608T142317Z
UID:55727-1624555800-1624563000@www.wbasny.org
SUMMARY:CNY 2021 Installation Ceremony
DESCRIPTION:Central New York Chapter
URL:https://www.wbasny.org/event/cny-2021-installation-ceremony/
END:VEVENT
BEGIN:VEVENT
DTSTART;TZID=America/New_York:20210624T180000
DTEND;TZID=America/New_York:20210624T200000
DTSTAMP:20260422T185858
CREATED:20210609T151030Z
LAST-MODIFIED:20210609T151030Z
UID:55731-1624557600-1624564800@www.wbasny.org
SUMMARY:WWBA Wellness Bike/Walk
DESCRIPTION:Westchester Chapter
URL:https://www.wbasny.org/event/wwba-wellness-bike-walk/
ORGANIZER;CN="Westchester Women's Bar Association":MAILTO:executivedirector@wwbany.org
END:VEVENT
BEGIN:VEVENT
DTSTART;TZID=America/New_York:20210624T183000
DTEND;TZID=America/New_York:20210624T203000
DTSTAMP:20260422T185858
CREATED:20210524T164624Z
LAST-MODIFIED:20210524T164624Z
UID:55605-1624559400-1624566600@www.wbasny.org
SUMMARY:QCWBA Virtual Installation
DESCRIPTION:Queens Chapter
URL:https://www.wbasny.org/event/qcwba-virtual-installation/
END:VEVENT
BEGIN:VEVENT
DTSTART;TZID=America/New_York:20210625T190000
DTEND;TZID=America/New_York:20210625T210000
DTSTAMP:20260422T185858
CREATED:20210414T150636Z
LAST-MODIFIED:20210414T150704Z
UID:54896-1624647600-1624654800@www.wbasny.org
SUMMARY:JALBCA Annual Awards Presentation
DESCRIPTION:JALBCA
URL:https://www.wbasny.org/event/jalbca-annual-awards-presentation/
END:VEVENT
BEGIN:VEVENT
DTSTART;TZID=America/New_York:20210701T163000
DTEND;TZID=America/New_York:20210701T180000
DTSTAMP:20260422T185858
CREATED:20210524T144000Z
LAST-MODIFIED:20210524T150229Z
UID:55584-1625157000-1625162400@www.wbasny.org
SUMMARY:The NY SHIELD Act: New Data Security Requirements for Both Clients and Lawyers
DESCRIPTION:Adirondack Chapter
URL:https://www.wbasny.org/event/the-ny-shield-act-new-data-security-requirements-for-both-clients-and-lawyers/
END:VEVENT
BEGIN:VEVENT
DTSTART;TZID=America/New_York:20210713T170000
DTEND;TZID=America/New_York:20210713T180000
DTSTAMP:20260422T185858
CREATED:20210706T163752Z
LAST-MODIFIED:20210706T163752Z
UID:56272-1626195600-1626199200@www.wbasny.org
SUMMARY:Zoom with a Judge Series
DESCRIPTION:New York Chapter \n \n\n\n\n \nZoom with a Judge Series\nJuly 13\, 2021\n\n\nFeaturing:  Honorable Judy Kim\nCivil Court of the City of New York\, New York County \nJuly 13\, 2021\, from 5:00 p.m. to 6:00 p.m\nClick here to RSVP
URL:https://www.wbasny.org/event/zoom-with-a-judge-series/
END:VEVENT
BEGIN:VEVENT
DTSTART;TZID=America/New_York:20210713T180000
DTEND;TZID=America/New_York:20210713T200000
DTSTAMP:20260422T185858
CREATED:20210624T142650Z
LAST-MODIFIED:20210624T142650Z
UID:56068-1626199200-1626206400@www.wbasny.org
SUMMARY:NCWBA Installation Dinner
DESCRIPTION:Nassau Chapter  \nThe Nassau County Women’s Bar Association cordially invites you to its Annual Installation Dinner   \nKEYNOTE SPEAKER   \nHon. Madeline Singas \nAssociate Judge\, New York State Court of Appeals  \n\nOFFICERS   \nPresident Hon. Lisa A. Cairo   \nPresident-Elect Cherice P. Vanderhall Wilson   \nVice President Allyson D. Burger \nVice President Kelly Koster  \nTreasurer Gail B. Saul  \nCorresponding Secretary Sasha Tinis  \nRecording Secretary Faith Getz Rousso \n  \nBOARD OF DIRECTORS \n2020-2022 \nDana Boylan \n Veronica Renta Irwin \n Jacqueline Rosenblum \nAngela Ruffini  \n\n2021-2023 \nGianna Crespo \nHon. Tomasina Mastroianni \nMickheila Jasmin-Beamon \nDanielle Visvader  \n\nWBASNY DELEGATES  \nElaine M. Colavito  \nTammy J. Smiley \nRanda Maher \nIrene Angelakis  \n\nWBASNY ALTERNATE DELEGATES \nHon. Andrea Phoenix \nAndrea M. Brodie  \n\nAWARD RECIPIENTS   \nRona Seider\, Esq. Award –  \nHon. Diane M. Dwyer \nNCWBA Past President  \n\nVirginia C. Duncombe\, Esq. Scholarship Award –  \nHon. Gail Prudenti  \nDean of Hofstra Law  \n\nBessie Ray Geffner\, Esq. Memorial Award \nSasha Tinis\, Esq.  \n\nTuesday\, July 13\, 2021  \nCocktails 6:00 p.m.  Dinner 7:00 p.m. \nSand Castle Caterers  \n505 Franklin Avenue \nFranklin Square\, NY 11010 \n\nRSVP by July 9th \nPurchase Tickets\, Sponsorships \nand Journal Ads Here!
URL:https://www.wbasny.org/event/ncwba-installation-dinner/
LOCATION:Sand Castle Caterers\, 505 Franklin Avenue\, Franklin Square\, NY\, 11010\, United States
END:VEVENT
BEGIN:VEVENT
DTSTART;TZID=America/New_York:20210714T130000
DTEND;TZID=America/New_York:20210714T150000
DTSTAMP:20260422T185858
CREATED:20210617T150055Z
LAST-MODIFIED:20210617T150445Z
UID:55854-1626267600-1626274800@www.wbasny.org
SUMMARY:Lunch with Judge Carolyn Walker-Diallo\, A.J.S.C
DESCRIPTION:Brooklyn Chapter
URL:https://www.wbasny.org/event/lunch-with-judge-carolyn-walker-diallo-a-j-s-c/
END:VEVENT
END:VCALENDAR