BEGIN:VCALENDAR
VERSION:2.0
PRODID:-//wbasny - ECPv6.15.20//NONSGML v1.0//EN
CALSCALE:GREGORIAN
METHOD:PUBLISH
X-WR-CALNAME:wbasny
X-ORIGINAL-URL:https://www.wbasny.org
X-WR-CALDESC:Events for wbasny
REFRESH-INTERVAL;VALUE=DURATION:PT1H
X-Robots-Tag:noindex
X-PUBLISHED-TTL:PT1H
BEGIN:VTIMEZONE
TZID:America/New_York
BEGIN:DAYLIGHT
TZOFFSETFROM:-0500
TZOFFSETTO:-0400
TZNAME:EDT
DTSTART:20190310T070000
END:DAYLIGHT
BEGIN:STANDARD
TZOFFSETFROM:-0400
TZOFFSETTO:-0500
TZNAME:EST
DTSTART:20191103T060000
END:STANDARD
BEGIN:DAYLIGHT
TZOFFSETFROM:-0500
TZOFFSETTO:-0400
TZNAME:EDT
DTSTART:20200308T070000
END:DAYLIGHT
BEGIN:STANDARD
TZOFFSETFROM:-0400
TZOFFSETTO:-0500
TZNAME:EST
DTSTART:20201101T060000
END:STANDARD
BEGIN:DAYLIGHT
TZOFFSETFROM:-0500
TZOFFSETTO:-0400
TZNAME:EDT
DTSTART:20210314T070000
END:DAYLIGHT
BEGIN:STANDARD
TZOFFSETFROM:-0400
TZOFFSETTO:-0500
TZNAME:EST
DTSTART:20211107T060000
END:STANDARD
END:VTIMEZONE
BEGIN:VTIMEZONE
TZID:UTC
BEGIN:STANDARD
TZOFFSETFROM:+0000
TZOFFSETTO:+0000
TZNAME:UTC
DTSTART:20190101T000000
END:STANDARD
END:VTIMEZONE
BEGIN:VEVENT
DTSTART;TZID=America/New_York:20200427T180000
DTEND;TZID=America/New_York:20200427T210000
DTSTAMP:20260423T145952
CREATED:20200309T144012Z
LAST-MODIFIED:20200309T144012Z
UID:50452-1588010400-1588021200@www.wbasny.org
SUMMARY:Judges & Lawyers Breast Cancer Alert
DESCRIPTION:Queens
URL:https://www.wbasny.org/event/judges-lawyers-breast-cancer-alert-3/
LOCATION:The Ziegfeld Ballroom\, 141 West 54th Street\, New York\, NY\, 10019
END:VEVENT
BEGIN:VEVENT
DTSTART;TZID=America/New_York:20200423T173000
DTEND;TZID=America/New_York:20200423T203000
DTSTAMP:20260423T145952
CREATED:20200212T213525Z
LAST-MODIFIED:20200212T214550Z
UID:50104-1587663000-1587673800@www.wbasny.org
SUMMARY:Annual Dinner and Awards
DESCRIPTION:Orange-Sullivan Counties Chapter
URL:https://www.wbasny.org/event/annual-dinner-and-awards/
LOCATION:Palacio\, 1 Municipal Plaza\, Goshen\, NY
END:VEVENT
BEGIN:VEVENT
DTSTART;TZID=America/New_York:20200422T183000
DTEND;TZID=America/New_York:20200422T200000
DTSTAMP:20260423T145952
CREATED:20200313T201558Z
LAST-MODIFIED:20200313T201558Z
UID:50543-1587580200-1587585600@www.wbasny.org
SUMMARY:Sweet Success Reception
DESCRIPTION:Greater Rochester
URL:https://www.wbasny.org/event/sweet-success-reception/
LOCATION:NATIVE Eatery and Bar\, 180 South Clinton Avenue\, Rochester\, NY\, 14604\, United States
END:VEVENT
BEGIN:VEVENT
DTSTART;VALUE=DATE:20200421
DTEND;VALUE=DATE:20200422
DTSTAMP:20260423T145952
CREATED:20191009T204933Z
LAST-MODIFIED:20191009T204933Z
UID:48495-1587427200-1587513599@www.wbasny.org
SUMMARY:Lobby Day
DESCRIPTION:
URL:https://www.wbasny.org/event/lobby-day/
END:VEVENT
BEGIN:VEVENT
DTSTART;TZID=America/New_York:20200413T083000
DTEND;TZID=America/New_York:20200413T100000
DTSTAMP:20260423T145952
CREATED:20200224T162158Z
LAST-MODIFIED:20200224T162210Z
UID:50274-1586766600-1586772000@www.wbasny.org
SUMMARY:Burn Out Is Real!
DESCRIPTION:Western New York Chapter
URL:https://www.wbasny.org/event/burn-out-is-real/
LOCATION:Clement House (Red Cross/BPO)\, 756 Delaware Avenue\, Buffalo\, NY\, 14209
ORGANIZER;CN="Western New York Women's Bar Association":MAILTO:wbasnywny@gmail.com
END:VEVENT
BEGIN:VEVENT
DTSTART;TZID=America/New_York:20200408T173000
DTEND;TZID=America/New_York:20200408T190000
DTSTAMP:20260423T145952
CREATED:20190930T213920Z
LAST-MODIFIED:20190930T213926Z
UID:48334-1586367000-1586372400@www.wbasny.org
SUMMARY:Diverse Voices Series- Kite Runner By Khaled Hosseini
DESCRIPTION:Western New York Chapter
URL:https://www.wbasny.org/event/diverse-voices-series-kite-runner-by-khaled-hosseini/
LOCATION:Coco Bar and Bistro\, 888 Main Street\, Buffalo\, NY\, 14202\, United States
ORGANIZER;CN="Western New York Women's Bar Association":MAILTO:wbasnywny@gmail.com
END:VEVENT
BEGIN:VEVENT
DTSTART;TZID=UTC:20200407T171500
DTEND;TZID=UTC:20200407T191500
DTSTAMP:20260423T145952
CREATED:20190522T195138Z
LAST-MODIFIED:20200206T232253Z
UID:46356-1586279700-1586286900@www.wbasny.org
SUMMARY:Officers Conference Call
DESCRIPTION:WBASNY \n 
URL:https://www.wbasny.org/event/officers-conference-call-9/
LOCATION:Teleconference
ORGANIZER;CN="WBASNY":MAILTO:events@wbasny.org
END:VEVENT
BEGIN:VEVENT
DTSTART;TZID=America/New_York:20200403T083000
DTEND;TZID=America/New_York:20200403T100000
DTSTAMP:20260423T145952
CREATED:20200309T150329Z
LAST-MODIFIED:20200309T150329Z
UID:50466-1585902600-1585908000@www.wbasny.org
SUMMARY:Burn Out is Real!
DESCRIPTION:Western New York
URL:https://www.wbasny.org/event/burn-out-is-real-2/
LOCATION:Clement House (Red Cross/BPO)\, 756 Delaware Avenue\, Buffalo\, NY\, 14209
ORGANIZER;CN="Western New York Women's Bar Association":MAILTO:wbasnywny@gmail.com
END:VEVENT
BEGIN:VEVENT
DTSTART;TZID=America/New_York:20200331T173000
DTEND;TZID=America/New_York:20200331T193000
DTSTAMP:20260423T145952
CREATED:20200225T223908Z
LAST-MODIFIED:20200313T200906Z
UID:50294-1585675800-1585683000@www.wbasny.org
SUMMARY:How To Recognize Disability Discrimination: Employees Rights and Employer's Responsibilities
DESCRIPTION:Brooklyn Chapter
URL:https://www.wbasny.org/event/how-to-recognize-disability-discrimination-employees-rights-and-employers-responsibilities/
LOCATION:123 Remsen Street\, 123 Remsen Street\, Brooklyn\, NY
END:VEVENT
BEGIN:VEVENT
DTSTART;TZID=America/New_York:20200331T160000
DTEND;TZID=America/New_York:20200331T180000
DTSTAMP:20260423T145952
CREATED:20200212T213100Z
LAST-MODIFIED:20200212T213100Z
UID:50100-1585670400-1585677600@www.wbasny.org
SUMMARY:Ethics CLE
DESCRIPTION:Orange-Sullivan Counties Chapter
URL:https://www.wbasny.org/event/ethics-cle/
LOCATION:Pasta D’Oro\, Wurtsboro
END:VEVENT
BEGIN:VEVENT
DTSTART;TZID=America/New_York:20200329T143000
DTEND;TZID=America/New_York:20200329T160000
DTSTAMP:20260423T145952
CREATED:20200303T220532Z
LAST-MODIFIED:20200303T220532Z
UID:50410-1585492200-1585497600@www.wbasny.org
SUMMARY:Breaking The Bronze Ceiling: Envisioning and Creating the First Ever Monument  to Real Women in Central Park
DESCRIPTION:Rockland
URL:https://www.wbasny.org/event/breaking-the-bronze-ceiling-envisioning-and-creating-the-first-ever-monument-to-real-women-in-central-park/
LOCATION:Rockland Center for Arts\, 27 South Greenbush Road\, West Nyack\, NY\, 10994
END:VEVENT
BEGIN:VEVENT
DTSTART;TZID=America/New_York:20200328T140000
DTEND;TZID=America/New_York:20200328T160000
DTSTAMP:20260423T145952
CREATED:20200303T215919Z
LAST-MODIFIED:20200303T215919Z
UID:50406-1585404000-1585411200@www.wbasny.org
SUMMARY:Women in Government Panel Discussion
DESCRIPTION:Rockland
URL:https://www.wbasny.org/event/women-in-government-panel-discussion/
LOCATION:Valley Cottage Library\, 110 RT-303\,\, Valley Cottage\, New York\, 10989
END:VEVENT
BEGIN:VEVENT
DTSTART;TZID=America/New_York:20200328T110000
DTEND;TZID=America/New_York:20200328T130000
DTSTAMP:20260423T145952
CREATED:20200224T160858Z
LAST-MODIFIED:20200224T160858Z
UID:50264-1585393200-1585400400@www.wbasny.org
SUMMARY:Niagara Falls Underground Railroad Heritage Center
DESCRIPTION:Western New York Chapter
URL:https://www.wbasny.org/event/niagara-falls-underground-railroad-heritage-center/
LOCATION:825 Depot Avenue West\, 1 Municipal Plaza\, Niagara Falls\, NY\, 14305
ORGANIZER;CN="Western New York Women's Bar Association":MAILTO:wbasnywny@gmail.com
END:VEVENT
BEGIN:VEVENT
DTSTART;TZID=America/New_York:20200327T090000
DTEND;TZID=America/New_York:20200327T130000
DTSTAMP:20260423T145952
CREATED:20200218T153322Z
LAST-MODIFIED:20200218T153322Z
UID:50183-1585299600-1585314000@www.wbasny.org
SUMMARY:"Everything You Need To Know About Becoming a Judge"
DESCRIPTION:Nassau County Chapter
URL:https://www.wbasny.org/event/everything-you-need-to-know-about-becoming-a-judge/
LOCATION:Hofstra Law School\, 121 Hofstra University\, Room 308\, Hempstead\, NY\, 11549
END:VEVENT
BEGIN:VEVENT
DTSTART;TZID=America/New_York:20200326T180000
DTEND;TZID=America/New_York:20200326T210000
DTSTAMP:20260423T145952
CREATED:20200311T212241Z
LAST-MODIFIED:20200311T212241Z
UID:50520-1585245600-1585256400@www.wbasny.org
SUMMARY:March Mania Happy Hour & Mixer
DESCRIPTION:Queens
URL:https://www.wbasny.org/event/march-mania-happy-hour-mixer/
LOCATION:Austin Ale House\, 8270 Auston Street\, Kew Gardens\, NM\, 11415\, United States
END:VEVENT
BEGIN:VEVENT
DTSTART;TZID=America/New_York:20200326T180000
DTEND;TZID=America/New_York:20200326T210000
DTSTAMP:20260423T145952
CREATED:20200309T145840Z
LAST-MODIFIED:20200309T145840Z
UID:50462-1585245600-1585256400@www.wbasny.org
SUMMARY:A Night at The Theater
DESCRIPTION:Western New York
URL:https://www.wbasny.org/event/a-night-at-the-theater/
LOCATION:Shea’s Smith Theatre\, 658 Main Street\, Buffalo\, NY
ORGANIZER;CN="Western New York Women's Bar Association":MAILTO:wbasnywny@gmail.com
END:VEVENT
BEGIN:VEVENT
DTSTART;TZID=America/New_York:20200326T173000
DTEND;TZID=America/New_York:20200326T210000
DTSTAMP:20260423T145952
CREATED:20200129T164446Z
LAST-MODIFIED:20200212T215605Z
UID:49969-1585243800-1585256400@www.wbasny.org
SUMMARY:Celebrating 100 Years OF The Right To Vote
DESCRIPTION:Suffolk County Chapter
URL:https://www.wbasny.org/event/celebrating-100-years-of-the-right-to-vote/
LOCATION:Hyatt Regency
END:VEVENT
BEGIN:VEVENT
DTSTART;TZID=America/New_York:20200326T173000
DTEND;TZID=America/New_York:20200326T200000
DTSTAMP:20260423T145952
CREATED:20200218T152638Z
LAST-MODIFIED:20200218T153912Z
UID:50180-1585243800-1585252800@www.wbasny.org
SUMMARY:Dressed to a Tea Event at Nassau County Bar Association
DESCRIPTION:Nassau Chapter
URL:https://www.wbasny.org/event/dressed-to-a-tea-event-at-nassau-county-bar-association/
LOCATION:Nassau County Bar Association\, 15th & West Streets \, Mineola\, NY\, United States
END:VEVENT
BEGIN:VEVENT
DTSTART;TZID=America/New_York:20200325T180000
DTEND;TZID=America/New_York:20200325T201500
DTSTAMP:20260423T145952
CREATED:20200306T150010Z
LAST-MODIFIED:20200306T150010Z
UID:50435-1585159200-1585167300@www.wbasny.org
SUMMARY:CLE - Demystifying the Role of the Attorney for the Child
DESCRIPTION:
URL:https://www.wbasny.org/event/cle-demystifying-the-role-of-the-attorney-for-the-child/
LOCATION:Pace Law School\, 78 North Broadway\, White Plains\, NY 10603-3710\, White Plains\, NY\, 10603
ORGANIZER;CN="Westchester Women's Bar Association":MAILTO:executivedirector@wwbany.org
END:VEVENT
BEGIN:VEVENT
DTSTART;TZID=America/New_York:20200325T173000
DTEND;TZID=America/New_York:20200325T200000
DTSTAMP:20260423T145952
CREATED:20200218T155823Z
LAST-MODIFIED:20200306T145814Z
UID:50198-1585157400-1585166400@www.wbasny.org
SUMMARY:CLE - Avoiding Real Property Disputes in Divorce Matters\, Including Prenuptial Agreements
DESCRIPTION:Nassau Chapter
URL:https://www.wbasny.org/event/avoiding-real-property-disputes-in-divorce-matters-including-prenuptial-agreements/
LOCATION:Flushing Bank\, 661 Hillside Avenue\, New Hyde Park\, NY\, 11040\, United States
END:VEVENT
BEGIN:VEVENT
DTSTART;TZID=America/New_York:20200324T173000
DTEND;TZID=America/New_York:20200324T213000
DTSTAMP:20260423T145952
CREATED:20200212T212745Z
LAST-MODIFIED:20200312T212039Z
UID:50097-1585071000-1585085400@www.wbasny.org
SUMMARY:Mentoring
DESCRIPTION:Orange-Sullivan Counties
URL:https://www.wbasny.org/event/mentoring-2/
LOCATION:Eat This Bakery\, 8 Union Street\, Montgomery\, NY
END:VEVENT
BEGIN:VEVENT
DTSTART;TZID=America/New_York:20200323T183000
DTEND;TZID=America/New_York:20200323T213000
DTSTAMP:20260423T145952
CREATED:20200311T204625Z
LAST-MODIFIED:20200311T204625Z
UID:50502-1584988200-1584999000@www.wbasny.org
SUMMARY:Public Speaking and Women's Advocacy
DESCRIPTION:Queens
URL:https://www.wbasny.org/event/public-speaking-and-womens-advocacy/
LOCATION:Queens Borough Hall\, 120-55 Queens Blvd.\, Kew Gardens\, NY\, 11424
END:VEVENT
BEGIN:VEVENT
DTSTART;TZID=UTC:20200321T100000
DTEND;TZID=UTC:20200321T150000
DTSTAMP:20260423T145952
CREATED:20190522T195031Z
LAST-MODIFIED:20200312T143222Z
UID:46354-1584784800-1584802800@www.wbasny.org
SUMMARY:Cancelled - Board of Directors Meeting
DESCRIPTION:WBASNY \n 
URL:https://www.wbasny.org/event/board-of-directors-meeting-12/
LOCATION:Albany Law School\, 80 New Scotland Avenue\, Albany\, NY\, 12208\, United States
ORGANIZER;CN="WBASNY":MAILTO:events@wbasny.org
END:VEVENT
BEGIN:VEVENT
DTSTART;TZID=America/New_York:20200320T120000
DTEND;TZID=America/New_York:20200320T140000
DTSTAMP:20260423T145952
CREATED:20200311T211702Z
LAST-MODIFIED:20200311T211702Z
UID:50516-1584705600-1584712800@www.wbasny.org
SUMMARY:Women's History Month-Self Defense Workshop
DESCRIPTION:Brooklyn
URL:https://www.wbasny.org/event/womens-history-month-self-defense-workshop/
LOCATION:Surrogate’s Court Room\, 360 Adam Street\, Room 319\, Brooklyn
END:VEVENT
BEGIN:VEVENT
DTSTART;TZID=America/New_York:20200320T120000
DTEND;TZID=America/New_York:20200320T133000
DTSTAMP:20260423T145952
CREATED:20200306T164753Z
LAST-MODIFIED:20200306T193718Z
UID:50440-1584705600-1584711000@www.wbasny.org
SUMMARY:CLE - Student Loans in Bankruptcy and Matrimonial Issues in Bankruptcy
DESCRIPTION:Mid-Hudson \n 
URL:https://www.wbasny.org/event/cle-bankruptcy-hot-topics/
LOCATION:Farmers and Chefs Restaurant\, 40 Albany Street\, Poughkeepsie\, NY\, 12601
END:VEVENT
BEGIN:VEVENT
DTSTART;TZID=America/New_York:20200319T190000
DTEND;TZID=America/New_York:20200319T203000
DTSTAMP:20260423T145952
CREATED:20200303T215350Z
LAST-MODIFIED:20200306T150356Z
UID:50402-1584644400-1584649800@www.wbasny.org
SUMMARY:Dorothy Gillespie\, Trailblazer for Women in the Arts
DESCRIPTION:Rockland
URL:https://www.wbasny.org/event/starburst-dorothy-gillespie-trailblazer-for-women-in-the-arts-film-and-panel-discussion/
LOCATION:Nyack Library\, Community Room 59 S Broadway\, Nyack\, Newyork\, 10960
END:VEVENT
BEGIN:VEVENT
DTSTART;TZID=America/New_York:20200319T173000
DTEND;TZID=America/New_York:20200319T200000
DTSTAMP:20260423T145952
CREATED:20200224T160339Z
LAST-MODIFIED:20200224T160339Z
UID:50261-1584639000-1584648000@www.wbasny.org
SUMMARY:Headshot Happy Hour
DESCRIPTION:Western New York Chapter
URL:https://www.wbasny.org/event/headshot-happy-hour-2/
LOCATION:Kenney Shelton Liptak Nowak\, LLP\, 233 Franklin Street\, Buffalo\, NY\, 14202\, United States
ORGANIZER;CN="Western New York Women's Bar Association":MAILTO:wbasnywny@gmail.com
END:VEVENT
BEGIN:VEVENT
DTSTART;TZID=America/New_York:20200319T093000
DTEND;TZID=America/New_York:20200319T104500
DTSTAMP:20260423T145952
CREATED:20200303T214749Z
LAST-MODIFIED:20200306T150258Z
UID:50399-1584610200-1584614700@www.wbasny.org
SUMMARY:A 72 Year Battle for Women's Right to Vote
DESCRIPTION:Rockland
URL:https://www.wbasny.org/event/seneca-falls-convention-to-tennessees-war-of-roses-a-72-year-battle-for-womens-right-to-vote/
LOCATION:Suny Rockland Community College\, TBD
END:VEVENT
BEGIN:VEVENT
DTSTART;TZID=America/New_York:20200318T180000
DTEND;TZID=America/New_York:20200318T200000
DTSTAMP:20260423T145952
CREATED:20200313T203023Z
LAST-MODIFIED:20200313T203655Z
UID:50550-1584554400-1584561600@www.wbasny.org
SUMMARY:Legislating Genetic Testing: Is Knowledge Power?
DESCRIPTION:Greater Rochester
URL:https://www.wbasny.org/event/legislating-genetic-testing-is-knowledge-power/
LOCATION:Daniel Patrick Moynihan United States Courthouse\, 500 Pearl Street\, New York\, NY\, 10007\, United States
END:VEVENT
BEGIN:VEVENT
DTSTART;TZID=America/New_York:20200318T180000
DTEND;TZID=America/New_York:20200318T200000
DTSTAMP:20260423T145952
CREATED:20200305T210914Z
LAST-MODIFIED:20200311T211048Z
UID:50430-1584554400-1584561600@www.wbasny.org
SUMMARY:The Importance of Women's Heart Health
DESCRIPTION:Brooklyn
URL:https://www.wbasny.org/event/the-importance-of-womens-heart-health/
LOCATION:123 Remsen Street\, 123 Remsen Street\, Brooklyn\, NY
END:VEVENT
END:VCALENDAR