BEGIN:VCALENDAR
VERSION:2.0
PRODID:-//wbasny - ECPv6.15.20//NONSGML v1.0//EN
CALSCALE:GREGORIAN
METHOD:PUBLISH
X-WR-CALNAME:wbasny
X-ORIGINAL-URL:https://www.wbasny.org
X-WR-CALDESC:Events for wbasny
REFRESH-INTERVAL;VALUE=DURATION:PT1H
X-Robots-Tag:noindex
X-PUBLISHED-TTL:PT1H
BEGIN:VTIMEZONE
TZID:America/New_York
BEGIN:DAYLIGHT
TZOFFSETFROM:-0500
TZOFFSETTO:-0400
TZNAME:EDT
DTSTART:20210314T070000
END:DAYLIGHT
BEGIN:STANDARD
TZOFFSETFROM:-0400
TZOFFSETTO:-0500
TZNAME:EST
DTSTART:20211107T060000
END:STANDARD
BEGIN:DAYLIGHT
TZOFFSETFROM:-0500
TZOFFSETTO:-0400
TZNAME:EDT
DTSTART:20220313T070000
END:DAYLIGHT
BEGIN:STANDARD
TZOFFSETFROM:-0400
TZOFFSETTO:-0500
TZNAME:EST
DTSTART:20221106T060000
END:STANDARD
BEGIN:DAYLIGHT
TZOFFSETFROM:-0500
TZOFFSETTO:-0400
TZNAME:EDT
DTSTART:20230312T070000
END:DAYLIGHT
BEGIN:STANDARD
TZOFFSETFROM:-0400
TZOFFSETTO:-0500
TZNAME:EST
DTSTART:20231105T060000
END:STANDARD
END:VTIMEZONE
BEGIN:VEVENT
DTSTART;TZID=America/New_York:20220503T180000
DTEND;TZID=America/New_York:20220503T190000
DTSTAMP:20260421T202204
CREATED:20220419T182400Z
LAST-MODIFIED:20220419T182400Z
UID:60739-1651600800-1651604400@www.wbasny.org
SUMMARY:NYWBA Foundation Event with Shannon Prince
DESCRIPTION:NYWBA Foundation event\nWITH SHANNON PRINCE\nMAY 3\, 2022 \nThe NY Women’s Bar Association Foundation Invites You to an Evening Discussion with\nShannon Prince\nauthor of\nTactics for Racial Justice:\nBuilding an Antiracist Organization and Community \nThe event will take place at Hudson Yards with light refreshments and be followed by a book signing. Books will be available for purchase on site. \nMay 3\, 2022\, 6:00 p.m.\nHudson Yards\nClick here for more info and to RSVP.
URL:https://www.wbasny.org/event/nywba-foundation-event-with-shannon-prince/
END:VEVENT
BEGIN:VEVENT
DTSTART;TZID=America/New_York:20220503T120000
DTEND;TZID=America/New_York:20220503T133000
DTSTAMP:20260421T202204
CREATED:20220420T150816Z
LAST-MODIFIED:20220420T210618Z
UID:60767-1651579200-1651584600@www.wbasny.org
SUMMARY:CLE-The Art of Resilience in Solo and Small Firm Practice
DESCRIPTION:Wellness Committee presents \n \nThe Art of Resilience in Solo and Small Firm Practice CLE \n\nSponsored by\n \n \n  \nMay 3\, 2022 \n  \n12:00 – 1:15 pm \n  \n  \nEssential tips and pearls of wisdom for small and solo firms: adjusting to new practice areas\, planning for a rainy day\, working from home considerations and ethical issues. Learn strategies to take forward.  \n  \nSpeakers: \n  \nMark Bennett\, Esq.\nCarol Malz\, Esq.\nAngelique Moreno\, Esq.\nLaura Wong-Pan\, Esq. \n  \n  \n1.0 CLE Credits  \n(Practice Management)\n(Transitional / Non-Transitional) \n  \nCost:\nFree to Members \nNon-Members – $40 \n  \nR.S.V.P. by April 29\, 2022  \nhttps://us02web.zoom.us/webinar/register/WN_v5m4RvfKTGab9_phV1TG5A
URL:https://www.wbasny.org/event/cle-the-art-of-resilience-in-solo-and-small-firm-practice/
ORGANIZER;CN="WBASNY":MAILTO:events@wbasny.org
END:VEVENT
BEGIN:VEVENT
DTSTART;TZID=America/New_York:20220503T090000
DTEND;TZID=America/New_York:20220503T170000
DTSTAMP:20260421T202204
CREATED:20220411T145803Z
LAST-MODIFIED:20220411T145803Z
UID:60586-1651568400-1651597200@www.wbasny.org
SUMMARY:CLE-Everything You Need to Know About Becoming A Judge
DESCRIPTION:Western New York Chapter
URL:https://www.wbasny.org/event/cle-everything-you-need-to-know-about-becoming-a-judge/
ORGANIZER;CN="Western New York Women's Bar Association":MAILTO:wbasnywny@gmail.com
END:VEVENT
BEGIN:VEVENT
DTSTART;TZID=America/New_York:20220502T170000
DTEND;TZID=America/New_York:20220502T190000
DTSTAMP:20260421T202204
CREATED:20220413T195329Z
LAST-MODIFIED:20220413T195329Z
UID:60635-1651510800-1651518000@www.wbasny.org
SUMMARY:Women in Leadership Committee Happy Hour
DESCRIPTION:Women in Leadership Committee Happy Hour \n5:15 PM  7:15 PM \nTRATA \nJoin the Women in Leadership committee for a happy hour at TRATA for Monday\, May 2nd\, at 5:15. Please bring a friend — non-member or member\, a woman that might be interested in this committee. There will be one drink covered for each attendee. Please RSVP to Randi Proukou at randi@zeaproukou.com. Hope to see you there!
URL:https://www.wbasny.org/event/women-in-leadership-committee-happy-hour/
END:VEVENT
BEGIN:VEVENT
DTSTART;TZID=America/New_York:20220502T090000
DTEND;TZID=America/New_York:20220502T100000
DTSTAMP:20260421T202204
CREATED:20220421T141352Z
LAST-MODIFIED:20220421T141352Z
UID:60791-1651482000-1651485600@www.wbasny.org
SUMMARY:Law Day
DESCRIPTION:Women’s Bar Association of Orange and Sullivan Counties and \nThe Orange County Bar Association\n\n\n\n\n\n\n\n\n\n\n\n\n\n\n\nLAW DAY  \nMAY 2\, 2022 \n  \nOrange County Courthouse \n285 Main St. Goshen\, NY \nCourtroom #2 at 9:00 AM \n  \nTowards a More Perfect Union; \nThe Constitution in Times of Change  \n  \nHONORABLE CRAIG STEPHEN BROWN\, J.C.C.\, A.J.S.C.\, A.S. PRESIDING \n  \nOPENING OF THE COURT – PLEDGE OF ALLEGIANCE \n  \nPROCLAMATION  \n  \nPRESENTATION OF THE ROBERT N. ISSEKS \nLIBERTY BELL AWARDS TO: \n  \nHON. KEITH GARLEY \nPresented by Stephen R. Hunter\, Esq.  \n  \nHON. RICHARD CLARINO \nPresented by Stephen R. Hunter\, Esq.  \n  \nSHARON WORTHY-SPIEGL\, ESQ. \nPresented by: Woman’s Bar Association of Orange & Sullivan Counties \n  \nMOCK TRIAL COMPETITION RECOGNITION \nPresented by: Hon. Craig S. Brown\, J.C.C. \n  \nRefreshments will be served following the ceremony \n 
URL:https://www.wbasny.org/event/law-day/
END:VEVENT
BEGIN:VEVENT
DTSTART;TZID=America/New_York:20220502T080000
DTEND;TZID=America/New_York:20220502T170000
DTSTAMP:20260421T202204
CREATED:20220329T172156Z
LAST-MODIFIED:20220329T173625Z
UID:60395-1651478400-1651510800@www.wbasny.org
SUMMARY:Law Day 2022 Art Contest
DESCRIPTION:Del-Chen-O Chapter \n \nIn celebration of Law Day 2022\, the Office for Justice Initiatives is hosting an art contest for New York State high school students. Contestants are invited to submit their art inspired by this year’s Law Day theme\, “Toward a More Perfect Union: The Constitution in Times of Change.”  \n  \nThe winning artist will have the artwork featured on the Office for Justice Initiatives’ Law Day website until Law Day 2023. All contestants will receive a pocket Constitution and a certificate of participation. \n  \nThe contest is now open to submissions through April 22\, 2022. The winner will be announced on May 2\, 2022. Please click here for more information\, contest rules and registration form.
URL:https://www.wbasny.org/event/law-day-2022/
END:VEVENT
BEGIN:VEVENT
DTSTART;TZID=America/New_York:20220429T130000
DTEND;TZID=America/New_York:20220429T140000
DTSTAMP:20260421T202204
CREATED:20220310T155716Z
LAST-MODIFIED:20220310T155904Z
UID:60097-1651237200-1651240800@www.wbasny.org
SUMMARY:Lunch with Honorable Sylvia Hinds-Radix
DESCRIPTION:https://brooklynwomensbar.org/calender/lunch-with-hon-sylvia-hinds-radix-corporation-counsel-for-the-city-of-new-york/
URL:https://www.wbasny.org/event/lunch-with-honorable-sylvia-hinds-radix/
END:VEVENT
BEGIN:VEVENT
DTSTART;TZID=America/New_York:20220428T173000
DTEND;TZID=America/New_York:20220428T190000
DTSTAMP:20260421T202204
CREATED:20220321T150849Z
LAST-MODIFIED:20220321T150849Z
UID:60214-1651167000-1651172400@www.wbasny.org
SUMMARY:Book Club: The Verifiers by Jane Pek
DESCRIPTION:Western New York Chapter \n \n \nKindly RSVP to Jennifer Shiao by April 21
URL:https://www.wbasny.org/event/book-club-the-verifiers-by-jane-pek/
ORGANIZER;CN="Western New York Women's Bar Association":MAILTO:wbasnywny@gmail.com
END:VEVENT
BEGIN:VEVENT
DTSTART;TZID=America/New_York:20220428T130000
DTEND;TZID=America/New_York:20220428T140000
DTSTAMP:20260421T202204
CREATED:20220331T144807Z
LAST-MODIFIED:20220413T151152Z
UID:60448-1651150800-1651154400@www.wbasny.org
SUMMARY:CLE-CPSA:Parents in Surrogacy
DESCRIPTION:Health Issues & Reproductive Rights and Children’s Rights Committee presents \n \nCPSA: Parents in Surrogacy CLE \n(This program is for judges only) \n  \nSponsored by\n \n \n  \nApril 28\, 2022 \n  \n1:00 – 2:00 pm \n  \nLegislation concerning surrogacy\, with the support of WBASNY\, was finally passed in New York\, making gestational surrogacy legal as of February 15\, 2021. This program provides an overview of the new surrogacy law\, and how parentage via a Pre-Birth Order is established under the CPSA in NY courts.  \n  \nSpeakers: \n \nMelissa Brisman\, Esq. \n \nYifat Shaltiel\, Esq.\, Esq. \n  \n1.0 CLE Credit \n(Professional Practice)\n(Transitional / Non-Transitional) \n  \nCost:\nFree to Members \nNon-Members – $40 \n  \nR.S.V.P. by April 25\, 2022  \nhttps://us02web.zoom.us/webinar/register/WN_q5yyh0VQQd6IhwHuPTbuSQ
URL:https://www.wbasny.org/event/cle-cpsaparents-via-surrogacy/
ORGANIZER;CN="WBASNY":MAILTO:events@wbasny.org
END:VEVENT
BEGIN:VEVENT
DTSTART;TZID=America/New_York:20220427T180000
DTEND;TZID=America/New_York:20220427T190000
DTSTAMP:20260421T202204
CREATED:20220328T162928Z
LAST-MODIFIED:20220328T162948Z
UID:60352-1651082400-1651086000@www.wbasny.org
SUMMARY:An Evening with Justices Waterman-Marshall and Chesler
DESCRIPTION:New York Chapter \n \nAn Evening with justices waterman-marshall\nand chesler\, april 27 \nNYWBA’S Matrimonial and Family Law Committee presents: \n Meet the Judges! \nAn evening with \nHon. Kathleen Waterman-Marshall \nand Hon. Ariel D. Chesler \nWe invite you to join us for this special event with Justice Waterman-Marshall and Justice Chesler and their court attorneys.  The event will have limited in person capacity\, with additional participation available via Zoom. \n Moderator: Olivia S. Lee\, Esq. \n\n\n\nDate/Time:\nApril 27\, 2022\, 6:00 pm\n\n\nLocation: \nLee Anav Chung White Kim Ruger & Richter LLP \n99 Madison Ave.\, 8th Fl.\, New York\, NY 10016 \n(Limited to first 40 people to RSVP) \n– Or – \nZoom Webinar- invitation to follow upon RSVP\n\n\nCost:\nFree – NYWBA and WBASNY Members \n$25 – Non-members\, please click here to submit payment\n\n\nRSVP: \nBy April 22\, 2022 to MFchairs@nywba.org
URL:https://www.wbasny.org/event/an-evening-with-justices-waterman-marshall-and-chesler/
END:VEVENT
BEGIN:VEVENT
DTSTART;TZID=America/New_York:20220427T180000
DTEND;TZID=America/New_York:20220427T190000
DTSTAMP:20260421T202204
CREATED:20220322T210103Z
LAST-MODIFIED:20220322T210103Z
UID:60262-1651082400-1651086000@www.wbasny.org
SUMMARY:Matrimonial & Family Law Committee
DESCRIPTION:Matrimonial & Family Law Committee Q & A Session with Justices Chesler and Waterman-Marshall.  In-person and by Zoom.  For more info and/or to RSVP email mfchairs@nywba.org.
URL:https://www.wbasny.org/event/matrimonial-family-law-committee/
END:VEVENT
BEGIN:VEVENT
DTSTART;TZID=America/New_York:20220427T180000
DTEND;TZID=America/New_York:20220427T190000
DTSTAMP:20260421T202204
CREATED:20220315T205829Z
LAST-MODIFIED:20220406T174027Z
UID:60157-1651082400-1651086000@www.wbasny.org
SUMMARY:Diversity Committee's Allyship Roundtable
DESCRIPTION:Diversity Committee \npresents \n \nAllyship Roundtable Discussion \n\nApril 27\, 2022 \n  \n6:00 – 7:30 pm \n  \nCome join WBASNY’s Diversity Committee to talk about Allyship in a safe space. We will discuss what it is and how any of us can be an ally to another person and how all of us can use an ally. We will explore how each of us can extend our privilege to support someone else. \n  \n \nDanielle E. Bernard\, Esq. \n  \n \nDestini K. Bowman\, Esq. \n  \n \nRaquel Miranda Esq. \n\nCost:  Free \n  \nR.S.V.P. by April 25\, 2022  \nhttps://us02web.zoom.us/meeting/register/tZUsduChpzoiG9Qeqo9sBeAsV8h5dGZLApP4
URL:https://www.wbasny.org/event/diversity-committees-allyship-roundtable/
ORGANIZER;CN="WBASNY":MAILTO:events@wbasny.org
END:VEVENT
BEGIN:VEVENT
DTSTART;TZID=America/New_York:20220427T173000
DTEND;TZID=America/New_York:20220427T200000
DTSTAMP:20260421T202204
CREATED:20220330T170033Z
LAST-MODIFIED:20220412T200806Z
UID:60434-1651080600-1651089600@www.wbasny.org
SUMMARY:Adirondack April 2022 Mixer
DESCRIPTION:Adirondack Chapter \n \nADIRONDACK WOMEN’S BAR ASSOCIATION\nJOIN US FOR OUR SPRING MIXER AND ANNUAL MEETING!\nWednesday\, April 27 at 5:30 PM\nRadici Kitchen & Bar\n26 Ridge Street\, Glens Falls\, New York\nPlease join us for our spring mixer and to vote in our new Board members. Meeting will take\nplace at 5:30 PM with mingling\, snacks and drinks to follow until 8:00 PM.\nCost: $30/per person\nIncludes drink and light fare.\nNot an AWBA member? Sign up at the event and it’s on us! Your AWBA membership gives\nyou membership in the Women’s Bar Association of the State of New York\nRSVP by purchasing a ticket on Eventbrite https://www.eventbrite.com/e/awba-spring-mixerand-\nannual-meeting-tickets-319642568527 or\nto Maggie Stephenson mstephenson@dowlinglawny.com\nno later than April 25\, 2022\nChecks made payable to “AWBA”
URL:https://www.wbasny.org/event/adirondack-april-2022-mixer/
END:VEVENT
BEGIN:VEVENT
DTSTART;TZID=America/New_York:20220427T130000
DTEND;TZID=America/New_York:20220427T140000
DTSTAMP:20260421T202204
CREATED:20220411T145221Z
LAST-MODIFIED:20220411T145221Z
UID:60584-1651064400-1651068000@www.wbasny.org
SUMMARY:Sneak Peek Into the Hot Seat: The Judicial Interview
DESCRIPTION:The Franklin H. Williams Judicial Commission \npresents \nSneak Peek Into the Hot Seat: \nThe Judicial Interview  \nJoin us for a look into the judicial interview process with a mock interview before a screening committee. \nWednesday\, April 27\, 2022\, from 1:00PM-2:00PM \nVirtual Program via Microsoft Teams \nCLICK HERE TO REGISTER FOR THE PROGRAM
URL:https://www.wbasny.org/event/sneak-peek-into-the-hot-seat-the-judicial-interview/
ORGANIZER;CN="Western New York Women's Bar Association":MAILTO:wbasnywny@gmail.com
END:VEVENT
BEGIN:VEVENT
DTSTART;TZID=America/New_York:20220427T120000
DTEND;TZID=America/New_York:20220427T130000
DTSTAMP:20260421T202204
CREATED:20220411T194552Z
LAST-MODIFIED:20220411T194604Z
UID:60606-1651060800-1651064400@www.wbasny.org
SUMMARY:CLE-So You've Been Breached\, What's Next?
DESCRIPTION:CLE PROGRAM:\nSO YOU’VE BEEN BREACHED\, WHAT’S NEXT?\nAPRIL 27\, 2022 \nThe NYWBA CLE Committee presents a CLE Program\nwith the Data Privacy and Security Roundtable of USA500 Clubs:\nSo You’ve Been Breached\, What’s Next? \n Speakers:  Jack Hewitt\, Partner at Pastore LLP;\nBruce Swicker\, Vice President\, Lawyers Program at EPIC Insurance Brokers & Consultants\nMarcus Lee\, CEO of Circulent\nDavid Sun\, principal with CliftonLarsonAllen LLP\nModerator: Amy B. Goldsmith\, Esq.\, Tarter Krinsky & Drogin LLP \nApril 27\, 2022\, 12:00 p.m. via Zoom\nClick here for more info and to RSVP.
URL:https://www.wbasny.org/event/cle-so-youve-been-breached-whats-next/
END:VEVENT
BEGIN:VEVENT
DTSTART;TZID=America/New_York:20220426T180000
DTEND;TZID=America/New_York:20220426T190000
DTSTAMP:20260421T202204
CREATED:20220131T184714Z
LAST-MODIFIED:20220404T174502Z
UID:59102-1650996000-1650999600@www.wbasny.org
SUMMARY:NYWBA Annual Meeting\, Elections & Ethics CLE Program
DESCRIPTION:New York Chapter \n \nPlease join us at the Virtual Annual Meeting. \nHear the State of the Association and vote for your NYWBA and WBASNY Officers\, Directors and Delegates for next year. Following the Annual Meeting\, login to our Ethics CLE: \nHot Topics and Current Developments in Ethics\nTopics will include: Remote lawyering; risks of block billing; updating conflicts of interest\, ethics in negotiations; ending representations; and more. \nModerated by Nicole I. Hyand\, Esq. \n\nCLICK HERE for more info & to RSVP
URL:https://www.wbasny.org/event/nywba-annual-meeting-elections-ethics-cle-program/
END:VEVENT
BEGIN:VEVENT
DTSTART;TZID=America/New_York:20220426T130000
DTEND;TZID=America/New_York:20220426T140000
DTSTAMP:20260421T202204
CREATED:20220328T191747Z
LAST-MODIFIED:20220328T191747Z
UID:60359-1650978000-1650981600@www.wbasny.org
SUMMARY:CLE-Recent Changes to the Rules of the Commercial Division
DESCRIPTION:
URL:https://www.wbasny.org/event/cle-recent-changes-to-the-rules-of-the-commercial-division/
END:VEVENT
BEGIN:VEVENT
DTSTART;TZID=America/New_York:20220425T120000
DTEND;TZID=America/New_York:20220425T170000
DTSTAMP:20260421T202204
CREATED:20220329T182257Z
LAST-MODIFIED:20220329T182257Z
UID:60414-1650888000-1650906000@www.wbasny.org
SUMMARY:CNY Annual Meeting
DESCRIPTION:The Annual Meeting of Members  \n\nof the \n\nCentral New York Women’s Bar Association \n\nwill be held in-person on \n\nApril 25 at 12:00 noon \nMaxwell’s Restaurant in Hanover Square \n\n We will be presenting the 2022 Annual Karen DeCrow Award \n\n We will also be voting on our proposed slate for our 2022-2023 membership year. \n\nAnnual Meeting Notice and Proxy \n\nIf you cannot attend the meeting\, please mail your completed proxy to: \n\nJillian McGuire\, c/o CNYWBA\, P.O. Box 408\, Syracuse\, New York 13201‐0408 \n  \nor scan and e-mail your completed proxy form to CNYWBA@gmail.com. \n\n**Proxies MUST be received on or before April 24\, 2022** \n\nRegister for the Annual Meeting – $35
URL:https://www.wbasny.org/event/cny-annual-meeting/
END:VEVENT
BEGIN:VEVENT
DTSTART;TZID=America/New_York:20220425T120000
DTEND;TZID=America/New_York:20220425T130000
DTSTAMP:20260421T202204
CREATED:20220419T195843Z
LAST-MODIFIED:20220419T195843Z
UID:60749-1650888000-1650891600@www.wbasny.org
SUMMARY:The Annual Meeting of Members of the Central New York Women's Bar Association
DESCRIPTION:  \n  \n We will be presenting the 2022 Annual Karen DeCrow Award \n\nThe Annual Meeting of Members \n\nof the \n\nCentral New York Women’s Bar Association \n\nwill be held in-person on \n\nApril 25 at 12:00 noon \nMaxwell’s Restaurant in Hanover Square \n We will also be voting on our proposed slate for our 2022-2023 membership year. \n\nAnnual Meeting Notice and Proxy \n\nIf you cannot attend the meeting\, please mail your completed proxy to: \n\nJillian McGuire\, c/o CNYWBA\, P.O. Box 408\, Syracuse\, New York 13201‐0408 \n  \nor scan and e-mail your completed proxy form to CNYWBA@gmail.com. \n\n**Proxies MUST be received on or before April 24\, 2022** \n\nRegister for the Annual Meeting – $35
URL:https://www.wbasny.org/event/the-annual-meeting-of-members-of-the-central-new-york-womens-bar-association/
END:VEVENT
BEGIN:VEVENT
DTSTART;TZID=America/New_York:20220425T080000
DTEND;TZID=America/New_York:20220427T170000
DTSTAMP:20260421T202204
CREATED:20220314T144240Z
LAST-MODIFIED:20220314T144240Z
UID:60124-1650873600-1651078800@www.wbasny.org
SUMMARY:Introductory Training Webinar - Attorneys for Children
DESCRIPTION:Introductory Training Webinar – Attorneys for Children \nThe Attorneys for Children (AFC) Program invites you to apply for an introductory training webinar on April 25\, 26\, and 27.  Applications will be accepted until April 15. \nAgenda\nApplication\nMemo\n \nAFC represent children of all ages\, primarily in Family Court matters.  They are compensated by New York State at the rate of $75/hour.  Although the rate of compensation is modest\, payment is guaranteed\, and many AFC find the work to be extremely rewarding\, both personally and professionally.  Most AFC are solo or small firm practitioners.  Like assigned counsel work\, AFC assignments can be a great way to build your own practice. \nAttorneys must apply to attend the training\, and we are happy to work with those who need help obtaining the required Family Court experience. \nFor questions\, contact Jennifer L. McLaren\, Deputy Director\nOffice of Attorneys for Children\, Appellate Division\, Fourth Department\n50 East Avenue\, Rochester\, New York 14604\n585-530-3176\nhttp://www.nycourts.gov/courts/ad4/AFC/AFC-index.html
URL:https://www.wbasny.org/event/introductory-training-webinar-attorneys-for-children/
ORGANIZER;CN="Western New York Women's Bar Association":MAILTO:wbasnywny@gmail.com
END:VEVENT
BEGIN:VEVENT
DTSTART;TZID=America/New_York:20220424T100000
DTEND;TZID=America/New_York:20220424T110000
DTSTAMP:20260421T202204
CREATED:20220404T151801Z
LAST-MODIFIED:20220404T164606Z
UID:60475-1650794400-1650798000@www.wbasny.org
SUMMARY:Join the Working Parents Committee! Meeting and Playdate!
DESCRIPTION:WBASNY \n \n \nRSVP by April 18 to Rochelle Lawless
URL:https://www.wbasny.org/event/the-working-parents-committee-meeting-and-playdate/
END:VEVENT
BEGIN:VEVENT
DTSTART;TZID=America/New_York:20220421T200000
DTEND;TZID=America/New_York:20220421T210000
DTSTAMP:20260421T202204
CREATED:20220221T182317Z
LAST-MODIFIED:20220221T182317Z
UID:59522-1650571200-1650574800@www.wbasny.org
SUMMARY:BABEL
DESCRIPTION:  \nJust Buffalo Literary Center’s BABEL author series brings our community together for a night of inspiration\, joy\, and connection with acclaimed writers at Kleinhans Music Hall. \nOn Wednesday\, March 16th\, the series features beloved cartoonist and novelist Alison Bechdel\, author of the bestselling FUN HOME: A FAMILY TRAGICOMIC and most recently THE SECRET TO SUPERHUMAN STRENGTH. \nOn Thursday\, April 21st\, BABEL features literary superstar Colson Whitehead\, author of THE UNDERGROUND RAILROAD\, THE NICKEL BOYS\, and HARLEM SHUFFLE and winner of two Pulitzer Prizes in Fiction. Whether you attend in-person or tune in from home\, come be inspired. To get tickets\, visit justbuffalo.org.
URL:https://www.wbasny.org/event/babel-2/
ORGANIZER;CN="Western New York Women's Bar Association":MAILTO:wbasnywny@gmail.com
END:VEVENT
BEGIN:VEVENT
DTSTART;TZID=America/New_York:20220421T193000
DTEND;TZID=America/New_York:20220421T203000
DTSTAMP:20260421T202204
CREATED:20220314T150049Z
LAST-MODIFIED:20220314T150049Z
UID:60132-1650569400-1650573000@www.wbasny.org
SUMMARY:Books & Bottles - Hamnet by Maggi O'Farrell
DESCRIPTION:GRAWA Chapter \n \nBooks & Bottles – Hamnet by Maggi O’Farrell \n7:30pm-8:30pm \nEmail grawabooksnbottles@gmail.com to RSVP and receive the Zoom information.
URL:https://www.wbasny.org/event/books-bottles-hamnet-by-maggi-ofarrell/
END:VEVENT
BEGIN:VEVENT
DTSTART;TZID=America/New_York:20220421T190000
DTEND;TZID=America/New_York:20220421T200000
DTSTAMP:20260421T202204
CREATED:20220411T194426Z
LAST-MODIFIED:20220411T194426Z
UID:60604-1650567600-1650571200@www.wbasny.org
SUMMARY:Flavors of Magic at the Siggy
DESCRIPTION:New York Chapter \n \nFLAVORS OF MAGIC AT THE SIGGY\nAPRIL 21\, 2022 \nPlease join the NYWBA Events Committee for a Night of Magic with\nFLAVORS OF MAGIC\nat the Siggy at the Flea Theater \nThe night will be hosted by NYWBA’s Sara Crasson. Starring Eric Walton\, a brilliant and skilled mind-reader; Apollo Riego\, who beautifully blends dance and mime with magic; and the “Ring Master” Chris Capehart. \nApril 21\, 2022\, 7:00 p.m. at the Flea Theater\nClick here for more info and to RSVP.
URL:https://www.wbasny.org/event/flavors-of-magic-at-the-siggy/
END:VEVENT
BEGIN:VEVENT
DTSTART;TZID=America/New_York:20220421T183000
DTEND;TZID=America/New_York:20220421T193000
DTSTAMP:20260421T202204
CREATED:20220224T182742Z
LAST-MODIFIED:20220224T184244Z
UID:59587-1650565800-1650569400@www.wbasny.org
SUMMARY:Staten Island Women's Bar Association's Annual Meeting
DESCRIPTION:Staten Island Chapter \n \nSAVE THE DATE! \nThe Staten Island Women’s Bar Association’s \nAnnual Meeting. \nApril 21\, 2022 \nCasa Belvedere \n6:30PM \nMore information to follow!
URL:https://www.wbasny.org/event/staten-island-womens-bar-association-annual-meeting/
END:VEVENT
BEGIN:VEVENT
DTSTART;TZID=America/New_York:20220421T160000
DTEND;TZID=America/New_York:20220421T170000
DTSTAMP:20260421T202204
CREATED:20220328T160153Z
LAST-MODIFIED:20220328T194530Z
UID:60347-1650556800-1650560400@www.wbasny.org
SUMMARY:WNY 2022 Annual Meeting
DESCRIPTION:Western New York Chapter of the\nWomen’s Bar Association of the State of New York \nAre invited to attend our \n2022 Annual Meeting \non Thursday\, April 21\, 4:00 pm \nOur Chapter will conduct its election of Officers and Directors for the WNY Chapter and the State level of WBASNY for the 2022 – 23 term at \nDuke Holzman Photiadis & Gresens LLP\, 701 Seneca Street\, Suite 750 \nAll attendees are welcome to join us immediately afterwards for a cocktail across the street at Hydraulic Hearth.* Cash bar. \nPlease RSVP for the Annual Meeting to Kelly Gotham by April 14. \nNotice of Annual Meeting\nProxy \nIf you are unable to attend\, please return your proxy by April 14 to Kelly Gotham\nvia e-mail\,\nor c/o WBASNY\, PO Box 1012\, Buffalo\, New York 14201-1012.\n \n*Correction – We are going to Hydraulic Hearth for cocktails\, not Hearth + Press.
URL:https://www.wbasny.org/event/wny-2022-annual-meeting/
ORGANIZER;CN="Western New York Women's Bar Association":MAILTO:wbasnywny@gmail.com
END:VEVENT
BEGIN:VEVENT
DTSTART;TZID=America/New_York:20220421T123000
DTEND;TZID=America/New_York:20220421T133000
DTSTAMP:20260421T202204
CREATED:20220419T195258Z
LAST-MODIFIED:20220419T195258Z
UID:60747-1650544200-1650547800@www.wbasny.org
SUMMARY:Lunch with Honorable James L. Hyer
DESCRIPTION:Women’s Bar Association of Orange and Sullivan Counties\n\n\n\n\n\n\n\n\n\n\n\n\n\n\n\nPlease join us as our Lunch with a Judge series continues! \n  \nOrange County Supreme Court Judge \nHonorable James L. Hyer \n  \nApril 21\, 2022 \n12:30 \nCatherine’s Restaurant \nGoshen\, NY \n  \n$20 members/$25 non-members \n  \nPlease RSVP to rsvp@wbaosc.org \n 
URL:https://www.wbasny.org/event/lunch-with-honorable-james-l-hyer/
END:VEVENT
BEGIN:VEVENT
DTSTART;TZID=America/New_York:20220421T080000
DTEND;TZID=America/New_York:20220421T093000
DTSTAMP:20260421T202204
CREATED:20220314T145805Z
LAST-MODIFIED:20220314T145805Z
UID:60130-1650528000-1650533400@www.wbasny.org
SUMMARY:GRAWA Nominating Committee Meeting
DESCRIPTION:GRAWA Chapter \n \nNominating Committee Meeting \n8am-9:30am \nMeeting will be held via Zoom. Please email Regina at Regina.MacAdam@rochesterregional.org to RSVP.
URL:https://www.wbasny.org/event/grawa-nominating-committee-meeting/
END:VEVENT
BEGIN:VEVENT
DTSTART;TZID=America/New_York:20220420T180000
DTEND;TZID=America/New_York:20220420T190000
DTSTAMP:20260421T202204
CREATED:20220110T164441Z
LAST-MODIFIED:20220128T204545Z
UID:58683-1650477600-1650481200@www.wbasny.org
SUMMARY:NYWBA Annual Meeting
DESCRIPTION:NYWBA Annual Meeting\,\nElections & Ethics CLE Program\nApril 20\, 2022\, 6:00 p.m
URL:https://www.wbasny.org/event/nywba-annual-meeting/
END:VEVENT
BEGIN:VEVENT
DTSTART;TZID=America/New_York:20220420T130000
DTEND;TZID=America/New_York:20220420T143000
DTSTAMP:20260421T202204
CREATED:20220304T152351Z
LAST-MODIFIED:20220323T203639Z
UID:59815-1650459600-1650465000@www.wbasny.org
SUMMARY:CLE-Immigration Law 101
DESCRIPTION:Brooklyn Chapter \n \n \n\n\n\nREGISTER HERE
URL:https://www.wbasny.org/event/cle-immigration-law-101/
END:VEVENT
END:VCALENDAR