BEGIN:VCALENDAR
VERSION:2.0
PRODID:-//wbasny - ECPv6.15.20//NONSGML v1.0//EN
CALSCALE:GREGORIAN
METHOD:PUBLISH
X-WR-CALNAME:wbasny
X-ORIGINAL-URL:https://www.wbasny.org
X-WR-CALDESC:Events for wbasny
REFRESH-INTERVAL;VALUE=DURATION:PT1H
X-Robots-Tag:noindex
X-PUBLISHED-TTL:PT1H
BEGIN:VTIMEZONE
TZID:America/New_York
BEGIN:DAYLIGHT
TZOFFSETFROM:-0500
TZOFFSETTO:-0400
TZNAME:EDT
DTSTART:20250309T070000
END:DAYLIGHT
BEGIN:STANDARD
TZOFFSETFROM:-0400
TZOFFSETTO:-0500
TZNAME:EST
DTSTART:20251102T060000
END:STANDARD
BEGIN:DAYLIGHT
TZOFFSETFROM:-0500
TZOFFSETTO:-0400
TZNAME:EDT
DTSTART:20260308T070000
END:DAYLIGHT
BEGIN:STANDARD
TZOFFSETFROM:-0400
TZOFFSETTO:-0500
TZNAME:EST
DTSTART:20261101T060000
END:STANDARD
BEGIN:DAYLIGHT
TZOFFSETFROM:-0500
TZOFFSETTO:-0400
TZNAME:EDT
DTSTART:20270314T070000
END:DAYLIGHT
BEGIN:STANDARD
TZOFFSETFROM:-0400
TZOFFSETTO:-0500
TZNAME:EST
DTSTART:20271107T060000
END:STANDARD
END:VTIMEZONE
BEGIN:VEVENT
DTSTART;TZID=America/New_York:20260321T100000
DTEND;TZID=America/New_York:20260321T150000
DTSTAMP:20260420T105650
CREATED:20250829T210944Z
LAST-MODIFIED:20250829T210944Z
UID:90483-1774087200-1774105200@www.wbasny.org
SUMMARY:Board of Directors Meeting (WBASNY)
DESCRIPTION:Board of Directors Meeting \nVirtual
URL:https://www.wbasny.org/event/board-of-directors-meeting-wbasny-2/
END:VEVENT
BEGIN:VEVENT
DTSTART;TZID=America/New_York:20260322T123000
DTEND;TZID=America/New_York:20260322T133000
DTSTAMP:20260420T105650
CREATED:20260309T174621Z
LAST-MODIFIED:20260309T174621Z
UID:100134-1774182600-1774186200@www.wbasny.org
SUMMARY:Orangetheory Charity Event! (Orange and Sullivan Chapters)
DESCRIPTION:
URL:https://www.wbasny.org/event/orangetheory-charity-event-orange-and-sullivan-chapters/
END:VEVENT
BEGIN:VEVENT
DTSTART;TZID=America/New_York:20260324T173000
DTEND;TZID=America/New_York:20260324T193000
DTSTAMP:20260420T105650
CREATED:20260216T164856Z
LAST-MODIFIED:20260216T164856Z
UID:99361-1774373400-1774380600@www.wbasny.org
SUMMARY:Mentor Jet (New York Chapter)
DESCRIPTION:March 24\, 2026 5:30 pm – 7:30 pm \nMentor Jet \nMentorJet is a speed networking opportunity for law students to connect with diverse members of the NY Bar\, including NY Judges\, Court Attorneys\, and legal practitioners. \nIn-Person \nCardozo School of Law\, 55 Fifth Avenue (between 12th and 13th Streets)\, New York NY 1003 \nMentor Jet
URL:https://www.wbasny.org/event/mentor-jet-new-york-chapter/
END:VEVENT
BEGIN:VEVENT
DTSTART;TZID=America/New_York:20260325T130000
DTEND;TZID=America/New_York:20260325T143000
DTSTAMP:20260420T105650
CREATED:20260216T165608Z
LAST-MODIFIED:20260216T165608Z
UID:99363-1774443600-1774449000@www.wbasny.org
SUMMARY:Prepare\, Prepare\, Prepare! Evidence and Witnesses in Guardianship Proceedings (New York Chapter)
DESCRIPTION:March 25\, 2026 1:00 pm – 2:30 pm \nPrepare\, Prepare\, Prepare! Evidence and Witnesses in Guardianship Proceedings \nElder Law and Disabilities – Guardianship Diversity Initiative presents: \nPrepare\, Prepare\, Prepare! Evidence and Witnesses in Guardianship Proceedings \nSpeakers: Laura M. Brancato\, Esq. and Evan D. Van Leer-Greenberg\, Esq. \nVirtual \nPrepare\, Prepare\, Prepare!  Evidence and Witnesses in Guardianship Proceedings
URL:https://www.wbasny.org/event/prepare-prepare-prepare-evidence-and-witnesses-in-guardianship-proceedings-new-york-chapter/
END:VEVENT
BEGIN:VEVENT
DTSTART;TZID=America/New_York:20260325T180000
DTEND;TZID=America/New_York:20260325T190000
DTSTAMP:20260420T105650
CREATED:20260216T170903Z
LAST-MODIFIED:20260216T170903Z
UID:99365-1774461600-1774465200@www.wbasny.org
SUMMARY:ICPI CURED Documentary Screening and Panel Discussion (New York Chapter)
DESCRIPTION:March 25\, 2026 6:00 pm \nICPI CURED Documentary Screening and Panel Discussion \nThe Wilf Impact Center and presenting sponsor Dorf\, Nelson and Zauderer LLP are hosting a screening of CURED\, a timely and powerful documentary. The award-winning film tells the story of the activists who brought about a pivotal but little-known victory in the movement for LGBTQ equality: the American Psychiatric Association’s 1973 decision to remove the diagnosis of homosexuality from its manual of mental disorders. Following the screening\, New York Law School Professor Emeritus Arthur S. Leonard will speak with CURED co-director Patrick Sammon and Lamda Legal Senior Legal Counselor\, Omar Gonzalez-Pagan\, about today’s struggle for LGBTQ+ equality and the lessons that can be learned from the heroic activists featured in CURED. \nIn-Person \n185 West Broadway\, New York\, NY 10013 \nhttps://www.nywba.org/events/icpi-cured-documentary-screening-and-panel-discussion/1774476000/
URL:https://www.wbasny.org/event/icpi-cured-documentary-screening-and-panel-discussion-new-york-chapter/
END:VEVENT
BEGIN:VEVENT
DTSTART;TZID=America/New_York:20260326T130000
DTEND;TZID=America/New_York:20260326T140000
DTSTAMP:20260420T105650
CREATED:20260319T174302Z
LAST-MODIFIED:20260319T174302Z
UID:100648-1774530000-1774533600@www.wbasny.org
SUMMARY:2026 Women's History Month Celebration (Suffolk Chapter)
DESCRIPTION:
URL:https://www.wbasny.org/event/2026-womens-history-month-celebration-suffolk-chapter/
END:VEVENT
BEGIN:VEVENT
DTSTART;TZID=America/New_York:20260326T180000
DTEND;TZID=America/New_York:20260326T200000
DTSTAMP:20260420T105650
CREATED:20260217T151307Z
LAST-MODIFIED:20260217T152101Z
UID:99374-1774548000-1774555200@www.wbasny.org
SUMMARY:The Betty Weinberg Ellerin Mentor Award Celebration (WBASNY)
DESCRIPTION:Women’s Bar Association \nof the State of New York \ncordially invites you to \ncelebrate the \npresentation of \nThe Betty Weinberg Ellerin \nMentor Award \nTo \nHon. Kim P. Berg \nThursday\, March 26\, 2026\n6:00 – 8:00 pm \nThe Mansion at White Plains \nWhite Plains\, New York 10603 \n  \nREGISTER HERE
URL:https://www.wbasny.org/event/the-betty-weinberg-ellerin-mentor-award-celebration-wbasny/
ORGANIZER;CN="WBASNY":MAILTO:events@wbasny.org
END:VEVENT
BEGIN:VEVENT
DTSTART;TZID=America/New_York:20260327T123000
DTEND;TZID=America/New_York:20260327T140000
DTSTAMP:20260420T105650
CREATED:20260317T200751Z
LAST-MODIFIED:20260317T200751Z
UID:100588-1774614600-1774620000@www.wbasny.org
SUMMARY:Women's History Month: Past\, Present and Future (Del-Chen-O Chapter)
DESCRIPTION:
URL:https://www.wbasny.org/event/womens-history-month-past-present-and-future-del-chen-o-chapter/
END:VEVENT
BEGIN:VEVENT
DTSTART;TZID=America/New_York:20260330T083000
DTEND;TZID=America/New_York:20260330T180000
DTSTAMP:20260420T105650
CREATED:20260218T173343Z
LAST-MODIFIED:20260218T173343Z
UID:99484-1774859400-1774893600@www.wbasny.org
SUMMARY:CLE- Multi-Bar Summit on Equity & Allyship
DESCRIPTION:REGISTER HERE
URL:https://www.wbasny.org/event/cle-multi-bar-summit-on-equity-allyship/
ORGANIZER;CN="Westchester Women's Bar Association":MAILTO:executivedirector@wwbany.org
END:VEVENT
BEGIN:VEVENT
DTSTART;TZID=America/New_York:20260330T180000
DTEND;TZID=America/New_York:20260330T190000
DTSTAMP:20260420T105650
CREATED:20260320T160422Z
LAST-MODIFIED:20260320T160422Z
UID:100720-1774893600-1774897200@www.wbasny.org
SUMMARY:Women's History Month Celebration (Brooklyn Chapter)
DESCRIPTION:RSVP Now
URL:https://www.wbasny.org/event/womens-history-month-celebration-brooklyn-chapter/
END:VEVENT
BEGIN:VEVENT
DTSTART;TZID=America/New_York:20260330T180000
DTEND;TZID=America/New_York:20260330T193000
DTSTAMP:20260420T105650
CREATED:20260313T172604Z
LAST-MODIFIED:20260313T172604Z
UID:100568-1774893600-1774899000@www.wbasny.org
SUMMARY:CLE- Identifying and Protecting Against Common Fraud Tactics
DESCRIPTION:  \npresents \n\nIdentifying and Protecting Against Common Fraud Tactics \n\nMarch 30\, 2026 \n\n6:00 – 7:30 pm \n\nThis program provides information about different types of fraud and identifies ways for you to protect yourself and your clients. With fraud on the rise\, ways to identify\, protect and take action against common fraud tactics will be discussed including in areas such as mail theft\, social engineering\, and business email compromise. \n\nSponsored by: \n\n\n1.0 CLE Credits  \n(1.0 Cybersecurity\, Privacy and Data Protection – General)\n(Transitional / Non-Transitional) \n\nCost:\nFree to Members \nNon-Members – $40 \nREGISTER HERE
URL:https://www.wbasny.org/event/cle-identifying-and-protecting-against-common-fraud-tactics/
ORGANIZER;CN="WBASNY":MAILTO:events@wbasny.org
END:VEVENT
BEGIN:VEVENT
DTSTART;TZID=America/New_York:20260331T100000
DTEND;TZID=America/New_York:20260331T140000
DTSTAMP:20260420T105650
CREATED:20260211T155310Z
LAST-MODIFIED:20260211T155310Z
UID:99079-1774951200-1774965600@www.wbasny.org
SUMMARY:Youth in Court: Elevate Youth Voices (GRAWA Chapter)
DESCRIPTION:
URL:https://www.wbasny.org/event/youth-in-court-elevate-youth-voices-grawa-chapter/
END:VEVENT
BEGIN:VEVENT
DTSTART;TZID=America/New_York:20260331T173000
DTEND;TZID=America/New_York:20260331T190000
DTSTAMP:20260420T105650
CREATED:20260309T200550Z
LAST-MODIFIED:20260309T200550Z
UID:100156-1774978200-1774983600@www.wbasny.org
SUMMARY:Sip N' Shop (Western New York Chapter)
DESCRIPTION:https://www.wbasnywny.org/all-events
URL:https://www.wbasny.org/event/sip-n-shop-western-new-york-chapter/
ORGANIZER;CN="Western New York Women's Bar Association":MAILTO:wbasnywny@gmail.com
END:VEVENT
BEGIN:VEVENT
DTSTART;TZID=America/New_York:20260331T180000
DTEND;TZID=America/New_York:20260331T200000
DTSTAMP:20260420T105650
CREATED:20260316T181807Z
LAST-MODIFIED:20260316T181807Z
UID:100579-1774980000-1774987200@www.wbasny.org
SUMMARY:Lunar New Year (Brooklyn Chapter)
DESCRIPTION:RSVP Now
URL:https://www.wbasny.org/event/lunar-new-year-brooklyn-chapter/
END:VEVENT
BEGIN:VEVENT
DTSTART;TZID=America/New_York:20260407T150000
DTEND;TZID=America/New_York:20260407T160000
DTSTAMP:20260420T105650
CREATED:20260325T204513Z
LAST-MODIFIED:20260325T204513Z
UID:100985-1775574000-1775577600@www.wbasny.org
SUMMARY:NYWBA Elder Law & Disabilities Committee Lunch & Learn
DESCRIPTION:Tuesday\, April 7\, 2025\, 3:00 PM \nName of event: NYWBA Elder Law and Disabilities Committee Lunch and Learn \nHow will event be held: Virtual \nContact email: elderlawchairs@nywba.org
URL:https://www.wbasny.org/event/nywba-elder-law-disabilities-committee-lunch-learn/
END:VEVENT
BEGIN:VEVENT
DTSTART;TZID=America/New_York:20260407T180000
DTEND;TZID=America/New_York:20260407T190000
DTSTAMP:20260420T105650
CREATED:20260306T204121Z
LAST-MODIFIED:20260306T204121Z
UID:100129-1775584800-1775588400@www.wbasny.org
SUMMARY:CLE- AI Changed Legal Research Your Ethical Obligations Have Not Changed
DESCRIPTION:CLICK HERE TO REGISTER IN ADVANCE FOR THIS MEETING/WEBINAR
URL:https://www.wbasny.org/event/cle-ai-changed-legal-research-your-ethical-obligations-have-not-changed/
END:VEVENT
BEGIN:VEVENT
DTSTART;TZID=America/New_York:20260408T173000
DTEND;TZID=America/New_York:20260408T183000
DTSTAMP:20260420T105650
CREATED:20260311T153957Z
LAST-MODIFIED:20260311T153957Z
UID:100440-1775669400-1775673000@www.wbasny.org
SUMMARY:Black Women Lawyers & The Legal Organizations They Established (Brooklyn Chapter)
DESCRIPTION:REGISTER HERE
URL:https://www.wbasny.org/event/black-women-lawyers-the-legal-organizations-they-established-brooklyn-chapter/
END:VEVENT
BEGIN:VEVENT
DTSTART;TZID=America/New_York:20260408T180000
DTEND;TZID=America/New_York:20260408T200000
DTSTAMP:20260420T105650
CREATED:20260324T172136Z
LAST-MODIFIED:20260324T172136Z
UID:100897-1775671200-1775678400@www.wbasny.org
SUMMARY:CLE- DONT FALL FOR IT! Legal Lessons to Avoid Financial Fraud
DESCRIPTION:REGISTER HERE
URL:https://www.wbasny.org/event/cle-dont-fall-for-it-legal-lessons-to-avoid-financial-fraud/
ORGANIZER;CN="Westchester Women's Bar Association":MAILTO:executivedirector@wwbany.org
END:VEVENT
BEGIN:VEVENT
DTSTART;TZID=America/New_York:20260412T120000
DTEND;TZID=America/New_York:20260412T140000
DTSTAMP:20260420T105650
CREATED:20260319T144915Z
LAST-MODIFIED:20260319T144915Z
UID:100638-1775995200-1776002400@www.wbasny.org
SUMMARY:Community Holocaust Remembrance Commemoration Yom Hashoah (Western New York Chapter)
DESCRIPTION:REGISTER AT bit.ly/YOMHASHOAH26
URL:https://www.wbasny.org/event/community-holocaust-remembrance-commemoration-yom-hashoah-western-new-york-chapter/
ORGANIZER;CN="Western New York Women's Bar Association":MAILTO:wbasnywny@gmail.com
END:VEVENT
BEGIN:VEVENT
DTSTART;TZID=America/New_York:20260413T173000
DTEND;TZID=America/New_York:20260413T183000
DTSTAMP:20260420T105650
CREATED:20260319T150638Z
LAST-MODIFIED:20260319T153945Z
UID:100641-1776101400-1776105000@www.wbasny.org
SUMMARY:Annual Meeting (Mid Hudson Chapter)
DESCRIPTION:
URL:https://www.wbasny.org/event/annual-meeting-mid-hudson-chapter/
END:VEVENT
BEGIN:VEVENT
DTSTART;TZID=America/New_York:20260414T140000
DTEND;TZID=America/New_York:20260414T150000
DTSTAMP:20260420T105650
CREATED:20260324T174534Z
LAST-MODIFIED:20260324T174534Z
UID:100900-1776175200-1776178800@www.wbasny.org
SUMMARY:Yom HaShoah 2026 at the Courthouse - "The Truth Matters: The Truth\, The Whole Truth\, and Nothing But The Truth"
DESCRIPTION:Yom HaShoah 2026 at the Courthouse – “The Truth Matters: The Truth\, The Whole Truth\, and Nothing But The Truth”\n\n\n\n\n\n\n\n\n\n\n\n\n\n\n\n\n\n\n\n\n\n\n\n\n\n\n\n\n\n\n\n\n\n\n\n\n\n\n\n\n\n\n\n\n\n\n\n\n\n\n\n\n\n\n\n\n\n\n\n\n\n\n\n\n\n\n\n\n\n\n\n\n\n\n\n\n\n\n\n\n\n\n\n\n\n\n\n\n\n\n\n\n\n\nWhen\nApril 14\, 2026\n\n \n\n2:00 PM – 3:00 PM\n\n\nLocation\nRockland County Courthouse\, The Jurors Room\, 1 South Main Street\, New City\, NY 10956
URL:https://www.wbasny.org/event/yom-hashoah-2026-at-the-courthouse-the-truth-matters-the-truth-the-whole-truth-and-nothing-but-the-truth/
ORGANIZER;CN="Westchester Women's Bar Association":MAILTO:executivedirector@wwbany.org
END:VEVENT
BEGIN:VEVENT
DTSTART;TZID=America/New_York:20260414T173000
DTEND;TZID=America/New_York:20260414T183000
DTSTAMP:20260420T105650
CREATED:20260316T200710Z
LAST-MODIFIED:20260316T200710Z
UID:100582-1776187800-1776191400@www.wbasny.org
SUMMARY:Holocaust Remembrance Day (Brooklyn Chapter)
DESCRIPTION:
URL:https://www.wbasny.org/event/holocaust-remembrance-day-brooklyn-chapter/
END:VEVENT
BEGIN:VEVENT
DTSTART;TZID=America/New_York:20260414T180000
DTEND;TZID=America/New_York:20260414T200000
DTSTAMP:20260420T105650
CREATED:20250829T211137Z
LAST-MODIFIED:20250829T211137Z
UID:90485-1776189600-1776196800@www.wbasny.org
SUMMARY:Officers Meeting and Dinner (WBASNY)
DESCRIPTION:Officer Meeting and Dinner \n Hotel Lucerne \nNew York\, NY
URL:https://www.wbasny.org/event/officers-meeting-and-dinner-wbasny-5/
ORGANIZER;CN="WBASNY":MAILTO:events@wbasny.org
END:VEVENT
BEGIN:VEVENT
DTSTART;TZID=America/New_York:20260414T180000
DTEND;TZID=America/New_York:20260414T200000
DTSTAMP:20260420T105650
CREATED:20260216T154500Z
LAST-MODIFIED:20260216T154500Z
UID:99348-1776189600-1776196800@www.wbasny.org
SUMMARY:Judicial Reception (Capital District Chapter)
DESCRIPTION:
URL:https://www.wbasny.org/event/judicial-reception-capital-district-chapter/
END:VEVENT
BEGIN:VEVENT
DTSTART;TZID=America/New_York:20260415T123000
DTEND;TZID=America/New_York:20260415T133000
DTSTAMP:20260420T105650
CREATED:20260406T201037Z
LAST-MODIFIED:20260406T201037Z
UID:101732-1776256200-1776259800@www.wbasny.org
SUMMARY:Lunch with a Judge Series (Orange and Sullivan Chapter)
DESCRIPTION:Members CLICK HERE to Register
URL:https://www.wbasny.org/event/lunch-with-a-judge-series-orange-and-sullivan-chapter-3/
END:VEVENT
BEGIN:VEVENT
DTSTART;TZID=America/New_York:20260415T130000
DTEND;TZID=America/New_York:20260415T140000
DTSTAMP:20260420T105650
CREATED:20260119T181234Z
LAST-MODIFIED:20260119T181234Z
UID:98080-1776258000-1776261600@www.wbasny.org
SUMMARY:CLE- Evidence Series
DESCRIPTION:
URL:https://www.wbasny.org/event/cle-evidence-series-4/
END:VEVENT
BEGIN:VEVENT
DTSTART;TZID=America/New_York:20260415T173000
DTEND;TZID=America/New_York:20260415T183000
DTSTAMP:20260420T105650
CREATED:20260324T201257Z
LAST-MODIFIED:20260324T201257Z
UID:100915-1776274200-1776277800@www.wbasny.org
SUMMARY:Annual Member Meeting and Sweet Success Celebration (GRAWA Chapter)
DESCRIPTION:
URL:https://www.wbasny.org/event/annual-member-meeting-and-sweet-success-celebration-grawa-chapter/
END:VEVENT
BEGIN:VEVENT
DTSTART;TZID=America/New_York:20260415T180000
DTEND;TZID=America/New_York:20260415T190000
DTSTAMP:20260420T105650
CREATED:20260324T175154Z
LAST-MODIFIED:20260324T175154Z
UID:100902-1776276000-1776279600@www.wbasny.org
SUMMARY:WWBA Members and Robson Forensic Private Roundtable Dinner
DESCRIPTION:REGISTER HERE
URL:https://www.wbasny.org/event/wwba-members-and-robson-forensic-private-roundtable-dinner/
ORGANIZER;CN="Westchester Women's Bar Association":MAILTO:executivedirector@wwbany.org
END:VEVENT
BEGIN:VEVENT
DTSTART;TZID=America/New_York:20260416T120000
DTEND;TZID=America/New_York:20260416T150000
DTSTAMP:20260420T105650
CREATED:20260313T171449Z
LAST-MODIFIED:20260313T171449Z
UID:100563-1776340800-1776351600@www.wbasny.org
SUMMARY:Women's Professional Clothing Drive (WBASNY)
DESCRIPTION:
URL:https://www.wbasny.org/event/womens-professional-clothing-drive-wbasny/
ORGANIZER;CN="WBASNY":MAILTO:events@wbasny.org
END:VEVENT
BEGIN:VEVENT
DTSTART;TZID=America/New_York:20260416T130000
DTEND;TZID=America/New_York:20260416T140000
DTSTAMP:20260420T105650
CREATED:20260326T144048Z
LAST-MODIFIED:20260326T144048Z
UID:101018-1776344400-1776348000@www.wbasny.org
SUMMARY:CLE- Relationships to Revenue: The Business Development Playbook for Lawyers
DESCRIPTION:REGISTER HERE
URL:https://www.wbasny.org/event/cle-relationships-to-revenue-the-business-development-playbook-for-lawyers/
ORGANIZER;CN="WBASNY":MAILTO:events@wbasny.org
END:VEVENT
END:VCALENDAR