BEGIN:VCALENDAR
VERSION:2.0
PRODID:-//wbasny - ECPv6.15.20//NONSGML v1.0//EN
CALSCALE:GREGORIAN
METHOD:PUBLISH
X-WR-CALNAME:wbasny
X-ORIGINAL-URL:https://www.wbasny.org
X-WR-CALDESC:Events for wbasny
REFRESH-INTERVAL;VALUE=DURATION:PT1H
X-Robots-Tag:noindex
X-PUBLISHED-TTL:PT1H
BEGIN:VTIMEZONE
TZID:America/New_York
BEGIN:DAYLIGHT
TZOFFSETFROM:-0500
TZOFFSETTO:-0400
TZNAME:EDT
DTSTART:20220313T070000
END:DAYLIGHT
BEGIN:STANDARD
TZOFFSETFROM:-0400
TZOFFSETTO:-0500
TZNAME:EST
DTSTART:20221106T060000
END:STANDARD
BEGIN:DAYLIGHT
TZOFFSETFROM:-0500
TZOFFSETTO:-0400
TZNAME:EDT
DTSTART:20230312T070000
END:DAYLIGHT
BEGIN:STANDARD
TZOFFSETFROM:-0400
TZOFFSETTO:-0500
TZNAME:EST
DTSTART:20231105T060000
END:STANDARD
BEGIN:DAYLIGHT
TZOFFSETFROM:-0500
TZOFFSETTO:-0400
TZNAME:EDT
DTSTART:20240310T070000
END:DAYLIGHT
BEGIN:STANDARD
TZOFFSETFROM:-0400
TZOFFSETTO:-0500
TZNAME:EST
DTSTART:20241103T060000
END:STANDARD
END:VTIMEZONE
BEGIN:VEVENT
DTSTART;TZID=America/New_York:20230418T180000
DTEND;TZID=America/New_York:20230418T190000
DTSTAMP:20260420T221708
CREATED:20230227T210923Z
LAST-MODIFIED:20230316T173830Z
UID:65450-1681840800-1681844400@www.wbasny.org
SUMMARY:CLE-How To: Draft Settlements Agreements to Best Reflect Drafting Qdros (New York)
DESCRIPTION:The Litigation and Matrimonial & Family Law Committees\npresent a CLE Program: \nHOW TO: DRAFT SETTLEMENT AGREEMENTS\nTO BEST REFLECT DRAFTING QDROS \nSpeaker: Denisa Tova-Liebman\, MBA\, CFP\, CDFA\, CQS\nFounder & CEO\, Tova QDRO & Pension Consultants \nApril 18\, 2023\, 6:00 p.m.\, in-person and by Zoom \nClick here for more info and to RSVP.
URL:https://www.wbasny.org/event/cle-how-to-draft-settlements-agreements-to-best-reflect-drafting-qdros/
END:VEVENT
BEGIN:VEVENT
DTSTART;TZID=America/New_York:20230418T190000
DTEND;TZID=America/New_York:20230418T200000
DTSTAMP:20260420T221708
CREATED:20230405T185111Z
LAST-MODIFIED:20230405T185111Z
UID:66358-1681844400-1681848000@www.wbasny.org
SUMMARY:Inequities in Women's Health (Nassau)
DESCRIPTION:Inequities in Women’s Health \nApril 18\, 2023 at 7:00pm \nWomen face the challenge of existing within a system that was designed by and for men. Thus\, there are historic health inequities for women in the current healthcare system. Although the overall health of American women has improved over the past few decades\, not all women have benefitted equally. Many minority women continue to lag behind white women in a number of areas\, including quality of care\, access to care\, timeliness\, and outcomes. Although there have been improvements in minority women’s health\, we still have a lot of progress to make. This program will discuss what a healthy lifestyle looks like for the career woman and provide tips for proactive approaches to health\, in addition to ways in which we can advocate for health equity. \n  \nREGISTER HERE
URL:https://www.wbasny.org/event/inequities-in-womens-health-nassau/
END:VEVENT
BEGIN:VEVENT
DTSTART;TZID=America/New_York:20230419T120000
DTEND;TZID=America/New_York:20230419T130000
DTSTAMP:20260420T221708
CREATED:20230208T161425Z
LAST-MODIFIED:20230316T173728Z
UID:64940-1681905600-1681909200@www.wbasny.org
SUMMARY:Lunch with Hon. Michael Getman (Del-Chen-O)
DESCRIPTION:Hon. Michael Getman – April 19\, 2023 at Noon \nJoin Microsoft Teams Meeting \n+1 347-378-4143  United States\, New York City (Toll) \n(833) 262-7886  United States (Toll-free) \nConference ID: 626 730 959#
URL:https://www.wbasny.org/event/lunch-with-hon-michael-getman/
END:VEVENT
BEGIN:VEVENT
DTSTART;TZID=America/New_York:20230419T130000
DTEND;TZID=America/New_York:20230419T140000
DTSTAMP:20260420T221708
CREATED:20230412T163435Z
LAST-MODIFIED:20230412T163532Z
UID:66463-1681909200-1681912800@www.wbasny.org
SUMMARY:Lunch with Hon. Jill Epstein
DESCRIPTION:RSVP to Lunch with a Judge
URL:https://www.wbasny.org/event/lunch-with-hon-jill-epstein/
END:VEVENT
BEGIN:VEVENT
DTSTART;TZID=America/New_York:20230419T130000
DTEND;TZID=America/New_York:20230419T143000
DTSTAMP:20260420T221708
CREATED:20230418T141823Z
LAST-MODIFIED:20230418T141823Z
UID:66517-1681909200-1681914600@www.wbasny.org
SUMMARY:CLE-Ethics in Estate Planning
DESCRIPTION:CLE-Ethics in Estate Planning
URL:https://www.wbasny.org/event/cle-ethics-in-estate-planning/
ORGANIZER;CN="WBASNY":MAILTO:events@wbasny.org
END:VEVENT
BEGIN:VEVENT
DTSTART;TZID=America/New_York:20230419T173000
DTEND;TZID=America/New_York:20230419T183000
DTSTAMP:20260420T221708
CREATED:20230303T180615Z
LAST-MODIFIED:20230308T190227Z
UID:65751-1681925400-1681929000@www.wbasny.org
SUMMARY:Annual Meeting and Awards Dinner
DESCRIPTION:Please join us for our \nAnnual Meeting and Awards Dinner \nhonoring our 2023 Award Recipients \n  \nWednesday\, April 19\, 2023 \n5:30 pm \n   \nVilla Venezia \n2257 Goshen Turnpike\, Middletown\, New York \n  \nDistinguished Member Award \nHon. Lori Currier Woods \n  \nPublic Interest Member Award \nHon. Hannah Prall \n  \nElizabeth Hunter Outstanding New Lawyer Award \nEve Lincoln\, Esq. \n  \nRSVP by April 12\, 2023 to rsvp@wbaosc.org  \n  \nMembers $85.00 • Non-Members $100.00 \nMake checks payable to WBAOSC and mail to \nWomen’s Bar Association • PO Box 65 • Goshen\, NY 10924 \n  \nJOURNAL ADS: full page $150.00; half page $80.00;  \nquarter page $50.00.  \nSend PDF to president@wbaosc.org no later than 04/10/2023 \n  \nMembers will be asked to vote on the 2023-2024  \nslate of officers for WBAOSC and WBASNY \nNotice of the slates will be sent via email to all members
URL:https://www.wbasny.org/event/annual-meeting-and-awards-dinner-3/
END:VEVENT
BEGIN:VEVENT
DTSTART;TZID=America/New_York:20230419T180000
DTEND;TZID=America/New_York:20230419T190000
DTSTAMP:20260420T221708
CREATED:20230410T155234Z
LAST-MODIFIED:20230410T155254Z
UID:66396-1681927200-1681930800@www.wbasny.org
SUMMARY:"Equity In Action" with Hon. Judy H. Kim\, A.J.S.C.
DESCRIPTION:RSVP DiversityChairs@nywba.org
URL:https://www.wbasny.org/event/equity-in-action-with-hon-judy-h-kim-a-j-s-c/
END:VEVENT
BEGIN:VEVENT
DTSTART;TZID=America/New_York:20230420T080000
DTEND;TZID=America/New_York:20230420T170000
DTSTAMP:20260420T221708
CREATED:20230322T202453Z
LAST-MODIFIED:20230322T202453Z
UID:66152-1681977600-1682010000@www.wbasny.org
SUMMARY:WBASNY WNY Chapter Annual Meeting
DESCRIPTION:
URL:https://www.wbasny.org/event/wbasny-wny-chapter-annual-meeting/
ORGANIZER;CN="Western New York Women's Bar Association":MAILTO:wbasnywny@gmail.com
END:VEVENT
BEGIN:VEVENT
DTSTART;TZID=America/New_York:20230420T123000
DTEND;TZID=America/New_York:20230420T133000
DTSTAMP:20260420T221708
CREATED:20230419T163429Z
LAST-MODIFIED:20230419T163429Z
UID:66537-1681993800-1681997400@www.wbasny.org
SUMMARY:CLE-Law Reporting Bureau: Publication of the Official Reports and Legal Research and Writing Resources
DESCRIPTION:WHAT: “Law Reporting Bureau:  Publication of the Official Reports and Legal Research and Writing Resources”\nWHEN:  Thursday\, April 20\, 2023\, 12:30 pm – 1:30 pm\nWHERE: Virtual \nCOST: Free \nRSVP: By April 19 HERE \nPresenter:  Cara J. Brousseau\, Esq. (State Reporter\, NYS Law Reporting Bureau)
URL:https://www.wbasny.org/event/cle-law-reporting-bureau-publication-of-the-official-reports-and-legal-research-and-writing-resources/
END:VEVENT
BEGIN:VEVENT
DTSTART;TZID=America/New_York:20230420T123000
DTEND;TZID=America/New_York:20230420T140000
DTSTAMP:20260420T221708
CREATED:20230307T181109Z
LAST-MODIFIED:20230316T173355Z
UID:65814-1681993800-1681999200@www.wbasny.org
SUMMARY:CLE - Be Cyber Aware. Be Cyber Secure. (WBASNY)
DESCRIPTION:WBASNY Intellectual Property Committee \nHow will the event be held: Virtual \nCost of event: Free for Members / $40 Non-members / 1.5 CLE Credit in Cybersecurity\, Privacy\, Data Protection-General \nRegistration link: https://us02web.zoom.us/webinar/register/WN_C2ahHfFJTf6kLck0dhf9Kg \nContact email: events@wbasny.org
URL:https://www.wbasny.org/event/be-cyber-aware-be-cyber-secure/
ORGANIZER;CN="WBASNY":MAILTO:events@wbasny.org
END:VEVENT
BEGIN:VEVENT
DTSTART;TZID=America/New_York:20230420T173000
DTEND;TZID=America/New_York:20230420T190000
DTSTAMP:20260420T221708
CREATED:20230316T142701Z
LAST-MODIFIED:20230316T173015Z
UID:66019-1682011800-1682017200@www.wbasny.org
SUMMARY:NFTs – The New Asset You Need to Understand for Your Practice (Westchester)
DESCRIPTION:NFTs – The New Asset You Need to Understand for Your Practice\nApril 20\, 2023/5:30 p.m. to 7:00 p.m. \nAttorneys advising businesses\, determining marital assets\, planning estates and trusts\, identifying assets for bankruptcy or counseling on investments need to understand NFTs. This program will teach you what is an NFT\, how an NFT works and is used\, and what is being bought. You will learn about copyright and trademark rights and infringement issues that could impact the value of the NFT. \nNo charge \nREGISTER HERE \n1.5 CLE credit hours – Professional Practice/pending approval
URL:https://www.wbasny.org/event/nfts-the-new-asset-you-need-to-understand-for-your-practice/
ORGANIZER;CN="Westchester Women's Bar Association":MAILTO:executivedirector@wwbany.org
END:VEVENT
BEGIN:VEVENT
DTSTART;TZID=America/New_York:20230420T183000
DTEND;TZID=America/New_York:20230420T193000
DTSTAMP:20260420T221708
CREATED:20230327T201209Z
LAST-MODIFIED:20230327T201209Z
UID:66222-1682015400-1682019000@www.wbasny.org
SUMMARY:SIWBA Annual Meeting
DESCRIPTION:SAVE THE DATE! \n\nThe Staten Island Women’s Bar Association’s \nAnnual Meeting. \n\n\n2023-2024 OFFICER ELECTIONS \n\n\nApril 20\, 2023 \n6:30PM \nOsteria Santina \n\nPRESENTING THE SIWBA \nOUTSTANDING SUPPORTER AWARD \nTO \n\nPatricia Anne Taylor Carsel\, Esq. \n\nSIWBA PAST PRESIDENT \n\n\nRSVP and more details to follow
URL:https://www.wbasny.org/event/siwba-annual-meeting/
END:VEVENT
BEGIN:VEVENT
DTSTART;TZID=America/New_York:20230421T120000
DTEND;TZID=America/New_York:20230421T130000
DTSTAMP:20260420T221708
CREATED:20230303T175101Z
LAST-MODIFIED:20230321T160655Z
UID:65749-1682078400-1682082000@www.wbasny.org
SUMMARY:CLE - Insurance Coverage for Intellectual Property Infringement Lawsuits Under CGL (WBASNY)
DESCRIPTION:WBASNYLearn about recurring issues in insurance coverage for intellectual property infringement lawsuits and strategic approaches to finding coverage\, presented by David A. Gauntlett\, Gauntlett & Associates. \nDavid Gauntlett is an industry veteran\, author and policyholder advocate with involvement in precedent-setting cases and over 38 years practicing as an attorney. He is responsible for creating ground-breaking precedential case law in securing coverage in a variety of intellectual property\, antitrust\, false advertising and employment cases nationwide. He has authored two books\, Insurance Coverage of Intellectual Property Assets\, Second Edition\, and Attorney Handbook for Insurance Coverage In Intellectual Property Disputes\, Second Edition\, as well as updated numerous other works addressing insurance coverage issues. \n  \nFree \nApril 21\, 2023/12:00 pm to 1:00 pm
URL:https://www.wbasny.org/event/insurance-coverage-for-intellectual-property-infringement-lawsuits-under-cgl/
ORGANIZER;CN="WBASNY":MAILTO:events@wbasny.org
END:VEVENT
BEGIN:VEVENT
DTSTART;TZID=America/New_York:20230421T120000
DTEND;TZID=America/New_York:20230421T133000
DTSTAMP:20260420T221708
CREATED:20230405T183835Z
LAST-MODIFIED:20230405T183957Z
UID:66350-1682078400-1682083800@www.wbasny.org
SUMMARY:CLE-Redefining Neurodiversity in the Legal Profession (GRAWA)
DESCRIPTION:Redefining Neurodiversity in the Legal Profession
URL:https://www.wbasny.org/event/redefining-neurodiversity-in-the-legal-profession-grawa/
END:VEVENT
BEGIN:VEVENT
DTSTART;TZID=America/New_York:20230424T090000
DTEND;TZID=America/New_York:20230424T170000
DTSTAMP:20260420T221708
CREATED:20230405T150646Z
LAST-MODIFIED:20230405T150832Z
UID:66336-1682326800-1682355600@www.wbasny.org
SUMMARY:Everything You Need to Know About Becoming a Judge
DESCRIPTION:  \nPreregistration is required. Please register by April 17 to join in person or virtually via ZOOM. \nREGISTER
URL:https://www.wbasny.org/event/everything-you-need-to-know-about-becoming-a-judge-3/
ORGANIZER;CN="Western New York Women's Bar Association":MAILTO:wbasnywny@gmail.com
END:VEVENT
BEGIN:VEVENT
DTSTART;TZID=America/New_York:20230424T173000
DTEND;TZID=America/New_York:20230424T183000
DTSTAMP:20260420T221708
CREATED:20230214T155501Z
LAST-MODIFIED:20230327T200052Z
UID:64993-1682357400-1682361000@www.wbasny.org
SUMMARY:RCWBA Annual Voting Meeting and Dinner
DESCRIPTION:Rockland County Women’s Bar Association Annual Voting Meeting & Dinner \nMonday\, April 24\, 2023 at 5:30 pm \nRCWBA will hold its annual voting meeting and dinner to vote on the slate of officers/directors for the 2023/24 term. Please join us for a wonderful evening of delicious food\, great company\, and conversations. \nGio’s Restaurant\, 253 South Little Tor Road\, New City\, NY 10956 \nWHO: Only Current Members of RCWBA will be eligible to vote on the slate of Officers & Directors; All are welcome to the dinner \nCOST: Members $60\, Non-Members $75 \nRSVP: By 4/20/2023 to Julie Curley at treasurer@rcwba.org or Siobhan O’Grady at sto@mzw-law.com \n 
URL:https://www.wbasny.org/event/rcwba-annual-voting-meeting-and-dinner/
END:VEVENT
BEGIN:VEVENT
DTSTART;TZID=America/New_York:20230424T180000
DTEND;TZID=America/New_York:20230424T190000
DTSTAMP:20260420T221708
CREATED:20230403T151248Z
LAST-MODIFIED:20230403T151248Z
UID:66275-1682359200-1682362800@www.wbasny.org
SUMMARY:ADR Committee Meeting (New York)
DESCRIPTION:ADR Committee Meeting\nMonday\, April 24th\n6pm to 7pm \n\nADR Committee meeting will take place on Monday\, April 24th from 6pm to 7pm. The guest speaker will be Iyana Titus\, Assistant Commissioner for Equal Employment Opportunity (EEO) for NYC Parks & Recreation\, where she is responsible for creating and implementing the agency’s diversity and inclusion policies and practices\, conducting EEO investigations and ensuring that the agency is in compliance with all federal\, state\, and local anti-discrimination laws. As an Assistant Commissioner she has also been instrumental in creating and implementing an ADR program for her agency and facilitating and mediating employment related disputes. Prior to this position\, Ms. Titus served as the Borough of Manhattan Community College’s (BMCC) Chief Diversity Officer and as an Employee/Labor Relations manager for a small air carrier. RSVP by April 17th.
URL:https://www.wbasny.org/event/adr-committee-meeting-new-york/
END:VEVENT
BEGIN:VEVENT
DTSTART;TZID=America/New_York:20230425T130000
DTEND;TZID=America/New_York:20230425T140000
DTSTAMP:20260420T221708
CREATED:20230403T151406Z
LAST-MODIFIED:20230403T151435Z
UID:66277-1682427600-1682431200@www.wbasny.org
SUMMARY:Medicaid Asset Protection Trusts (New York)
DESCRIPTION:Elder Law & Disabilities Committee \nLunch & Learn Series \nMEDICAID ASSET PROTECTION TRUSTS \nSpeakers: \nLissett C. Ferreira\, Esq. \nCo-Chair of Committee and Treasurer of NYWBA \nMeenan & Associates\, LLC\, Partner \nTamara L. Stack\, Esq. \nStack & Associates\, Principal \nApril 25\, 2023\, 1:00 p.m.\, by Zoom \nClick here for more info.
URL:https://www.wbasny.org/event/elder-law-disabilities-committee-lunch-learn-series-new-york/
END:VEVENT
BEGIN:VEVENT
DTSTART;TZID=America/New_York:20230425T173000
DTEND;TZID=America/New_York:20230425T200000
DTSTAMP:20260420T221708
CREATED:20230327T152222Z
LAST-MODIFIED:20230327T152636Z
UID:66206-1682443800-1682452800@www.wbasny.org
SUMMARY:Annual Meeting\, Elections and Ethics CLE Program (New York)
DESCRIPTION:Annual Meeting\, Elections\nand Ethics CLE Program \nPlease join us at the Annual Meeting. \nFollowing the Annual Meeting\, a panel of distinguished ethics attorneys will present an ethics CLE program. \nLawyers Behaving Badly: Sanctions\, Suspensions and General Shenanigans \nEvery day\, there seems to be another news report about a lawyer being taken to task for some kind of bad behavior. Lying to the court\, discovery violations\, frivolous claims\, and even personal misbehavior can lead to court sanctions\, disciplinary action\, and – in extreme cases – criminal charges; not to mention reputational harm\, loss of clients\, termination of employment\, and other professional consequences. In this program\, a panel of experts discusses why so many lawyers are getting into trouble and what we can learn from their mistakes\, using examples ripped from the headlines. \nSpeakers: \nProfessor Bruce A. Green \nFordham University School of Law \nHon. Saliann Scarpulla \nAppellate Division\, First Department \nKhasim Lockhart \nFrankfurt Kurnit Klein & Selz \nModerator: Nicole I. Hyland \n\n\n\nDate:\nApril 25\, 2023\n\n\nTime: \n5:30 p.m. – Registration & Networking \n6:00 p.m. – Annual Meeting & Elections \n6:30-8:00 p.m. – Ethics CLE Program\n\n\nLocation:\nFrankfurt Kurnit Klein & Selz\, PC \n28 Liberty Street\, NYC\n\n\nCost: \nMeeting and/or CLE: Complimentary for members \nMeeting (only): Complimentary for non-members \nCLE Program* – $25** for non-members\, click here to submit payment\n\n\nCLE:\n1.5 credit hours in Ethics and Professionalism\n\n\nInfo: \nEmail EthicsRSVP@nywba.org\n\n\nRSVP:\nCLICK HERE to RSVP\n\n\n\nNYWBA thanks Frankfurt Kurnit Klein & Selz\, PC for hosting. \n* This program has been approved in accordance with the requirements of the New York State Continuing Legal Education Board for a maximum of 1.5 credit hours in Ethics and Professionalism. (Note: The content of this course is appropriate for both newly admitted and experienced attorneys (non-transitional and transitional)). \n** Free NYWBA members; $25 non-member: Full and partial scholarships based on financial need are available. For info on the guidelines and to apply\, contact CLE Co-Chairs cle@nywba.org. All requests are confidential.
URL:https://www.wbasny.org/event/annual-meeting-elections-and-ethics-cle-program/
END:VEVENT
BEGIN:VEVENT
DTSTART;TZID=America/New_York:20230425T180000
DTEND;TZID=America/New_York:20230425T190000
DTSTAMP:20260420T221708
CREATED:20230403T172256Z
LAST-MODIFIED:20230403T172256Z
UID:66293-1682445600-1682449200@www.wbasny.org
SUMMARY:Queens Book Club
DESCRIPTION:
URL:https://www.wbasny.org/event/queens-book-club/
END:VEVENT
BEGIN:VEVENT
DTSTART;TZID=America/New_York:20230426T113000
DTEND;TZID=America/New_York:20230426T123000
DTSTAMP:20260420T221708
CREATED:20230323T143840Z
LAST-MODIFIED:20230323T143840Z
UID:66171-1682508600-1682512200@www.wbasny.org
SUMMARY:Annual Meeting and Luncheon (Central New York)
DESCRIPTION:
URL:https://www.wbasny.org/event/annual-meeting-and-luncheon-central-new-york/
END:VEVENT
BEGIN:VEVENT
DTSTART;TZID=America/New_York:20230426T120000
DTEND;TZID=America/New_York:20230426T130000
DTSTAMP:20260420T221708
CREATED:20230405T184240Z
LAST-MODIFIED:20230405T184240Z
UID:66355-1682510400-1682514000@www.wbasny.org
SUMMARY:Impact + Influence (GRAWA)
DESCRIPTION:Impact and Influence: Leadership Development Using DISC Behavioral Styles 
URL:https://www.wbasny.org/event/impact-influence-grawa/
END:VEVENT
BEGIN:VEVENT
DTSTART;TZID=America/New_York:20230426T160000
DTEND;TZID=America/New_York:20230426T173000
DTSTAMP:20260420T221708
CREATED:20230411T182012Z
LAST-MODIFIED:20230411T182012Z
UID:66455-1682524800-1682530200@www.wbasny.org
SUMMARY:Interested in starting a solo or small practice firm? Join GRAWA to discuss how! (GRAWA)
DESCRIPTION:April 26\, 2023 4:00 PM -5:30PM \nInterested in starting a solo or small practice firm? Join GRAWA to discuss how! \nInterested in starting a solo or small practice firm? Join GRAWA to discuss how! Free discussion on how to start a small firm. CLE from 4-5:30PM and Happy Hour to follow. \nBond\, Schoeneck & King – 350 Linden Oaks\, 3rd Floor\, Rochester\, NY 14625 \nREGISTER HERE
URL:https://www.wbasny.org/event/interested-in-starting-a-solo-or-small-practice-firm-join-grawa-to-discuss-how-grawa/
END:VEVENT
BEGIN:VEVENT
DTSTART;TZID=America/New_York:20230426T173000
DTEND;TZID=America/New_York:20230426T193000
DTSTAMP:20260420T221708
CREATED:20230405T152958Z
LAST-MODIFIED:20230405T153114Z
UID:66340-1682530200-1682537400@www.wbasny.org
SUMMARY:Headshot Happy Hour (Western New York)
DESCRIPTION:Please RSVP to Taylor Schubauer taylor@bernhardilaw.com by April 21\, 2023.
URL:https://www.wbasny.org/event/headshot-happy-hour-western-new-york/
ORGANIZER;CN="Western New York Women's Bar Association":MAILTO:wbasnywny@gmail.com
END:VEVENT
BEGIN:VEVENT
DTSTART;TZID=America/New_York:20230426T173000
DTEND;TZID=America/New_York:20230426T193000
DTSTAMP:20260420T221708
CREATED:20230417T200359Z
LAST-MODIFIED:20230417T200359Z
UID:66493-1682530200-1682537400@www.wbasny.org
SUMMARY:Headshot Happy Hour (Western New York)
DESCRIPTION:HEADSHOT HAPPY HOUR \nGet your headshot taken while enjoying drinks and light hors d’oeuvres. \nApril 26\, 5:30-7:30 PM \nDuke Holzman Photiadis & Gresens\, LLP\, 701 Seneca St\, Suite 750\, Buffalo\, NY \nFree
URL:https://www.wbasny.org/event/headshot-happy-hour-western-new-york-2/
ORGANIZER;CN="Western New York Women's Bar Association":MAILTO:wbasnywny@gmail.com
END:VEVENT
BEGIN:VEVENT
DTSTART;TZID=America/New_York:20230426T173000
DTEND;TZID=America/New_York:20230426T193000
DTSTAMP:20260420T221708
CREATED:20230419T163655Z
LAST-MODIFIED:20230419T163655Z
UID:66539-1682530200-1682537400@www.wbasny.org
SUMMARY:CLE-Sexual Harrassment Law: Its the Floor not the Ceiling
DESCRIPTION:WHAT: “Sexual Harassment Law: It’s the Floor not the Ceiling”\nWHEN: Wednesday\, April 26\, 2023\, 5:30 pm – 7:30 pm\nWHERE: Virtual or in person at Pace Law School\, Preston Hall\, Tudor Room\, 78 North Broadway\, White Plains\, NY 10603\nCOST: Free \nRSVP: HERE \nPresenters:  Maria L. Imperial\, Commissioner\, DHR; Hon. Kim Berg\, US Magistrate Judge; Partner\, Gould & Berg\, LLP; Deborah Reik\, Staff Mediator\, US Equal Employment Opportunity Commission; Mary A. Smith\, Principal & Litigation Manager\, Jackson Lewis P.C.; Joyce Yearwood-Drury\, Director\, Office of Sexual Harassment Issues\, DHR
URL:https://www.wbasny.org/event/cle-sexual-harrassment-law-its-the-floor-not-the-ceiling/
END:VEVENT
BEGIN:VEVENT
DTSTART;TZID=America/New_York:20230426T180000
DTEND;TZID=America/New_York:20230426T190000
DTSTAMP:20260420T221708
CREATED:20230316T205742Z
LAST-MODIFIED:20230316T205742Z
UID:66067-1682532000-1682535600@www.wbasny.org
SUMMARY:CLE-New York Foreclosure Abuse Prevention Act (Queens)
DESCRIPTION:
URL:https://www.wbasny.org/event/cle-new-york-foreclosure-abuse-prevention-act-queens/
END:VEVENT
BEGIN:VEVENT
DTSTART;TZID=America/New_York:20230426T180000
DTEND;TZID=America/New_York:20230426T190000
DTSTAMP:20260420T221708
CREATED:20230407T145456Z
LAST-MODIFIED:20230407T145456Z
UID:66376-1682532000-1682535600@www.wbasny.org
SUMMARY:CLE- Engel is Dead: Overview & Discussion of the Foreclosure Abuse Prevention Act
DESCRIPTION:April 26\, 2023 @ 6:00 PM – CLE: Engel is Dead: Overview & Discussion of the Foreclosure Abuse Prevention Act- Panel discussing the new foreclosure law and how it will impact litigation. 2 hours of CLE credit in Professional Practice. Virtual via Zoom.  Register Here
URL:https://www.wbasny.org/event/cle-engel-is-dead-overview-discussion-of-the-foreclosure-abuse-prevention-act/
END:VEVENT
BEGIN:VEVENT
DTSTART;TZID=America/New_York:20230427T060000
DTEND;TZID=America/New_York:20230427T070000
DTSTAMP:20260420T221708
CREATED:20230317T151204Z
LAST-MODIFIED:20230317T151204Z
UID:66079-1682575200-1682578800@www.wbasny.org
SUMMARY:Clarkstown Rotary Rockland Veteran's Trip to Washington DC (Rockland)
DESCRIPTION:What: Clarkstown Rotary Rockland Veteran’s Trip to Washington DC \nWhen: Thursday\, April 27\, 2023 meeting at 6:00 am \nWhere: Meet at Congers Lake Park on Gilchrest Road \nRSVP: By April 10 to Chip Hayes\, chip1440@lawyer.com or 845-729-8775 \nVeterans ride free; Breakfast\, lunch and dinner will be provided
URL:https://www.wbasny.org/event/clarkstown-rotary-rockland-veterans-trip-to-washington-dc-rockland/
END:VEVENT
BEGIN:VEVENT
DTSTART;TZID=America/New_York:20230427T120000
DTEND;TZID=America/New_York:20230427T130000
DTSTAMP:20260420T221708
CREATED:20230206T212103Z
LAST-MODIFIED:20230322T185717Z
UID:64913-1682596800-1682600400@www.wbasny.org
SUMMARY:CLE - Understanding the Asset Value of Patents\, Trademarks\, and Copyrights (WBASNY)
DESCRIPTION:Understanding the Asset Value of Patents\, Trademarks and Copyrights Webinar \nDescription of event: Whether you are advising clients on starting or valuing a business\, determining marital assets and family support\, planning estates and trusts\, identifying assets for bankruptcy or counseling on investments\, understanding what are patents\, trademarks and copyrights and what their different values are as assets will help you assist your clients. \nHow will the event be held: Virtual \nHost(s): WBASNY \nCost of event: Free for Members / $40 Non-members \nRegistration email / link: https://us02web.zoom.us/webinar/register/WN_M8ww0rNfQyWcWTbVtHp_pw
URL:https://www.wbasny.org/event/wbasny-intellectual-property-committee/
ORGANIZER;CN="WBASNY":MAILTO:events@wbasny.org
END:VEVENT
END:VCALENDAR